Workbook
Name _ACC93: 'RELAIS T1'!$L$3
Name AB: 'RELAIS T1'!$J$3
Name ABDO: 'RELAIS T1'!$I$3
Name ACB: 'RELAIS T1'!$K$3
Name ACB_4: POINTS!#REF!
Name ACB_4_10: POINTS!#REF!
Name ACB_4_12: POINTS!#REF!
Name ACB_4_14: POINTS!#REF!
Name ACB_4_16: POINTS!#REF!
Name ACB_4_2: POINTS!#REF!
Name ACB_4_22: POINTS!#REF!
Name ACB_4_3: 'Total Points T1 T2'!#REF!
Name ACB_4_5: 'POINTS T2'!#REF!
Name ACB_4_8: POINTS!#REF!
Name ACB_5: #REF!
Name ASGB: 'RELAIS T1'!$M$3
Name AUVERS: 'RELAIS T1'!$H$4
Name BF_1_km_marche: 'Table BeF'!$Q:$R
Name BF_1000_m: 'Table BeF'!$M:$N
Name BF_120_m: 'Table BeF'!$G:$H
Name BF_2_km_marche: 'Table BeF'!$S:$T
Name BF_2000_m: 'Table BeF'!$O:$P
Name BF_300_m: 'Table BeF'!$I:$J
Name BF_50_m: 'Table BeF'!$A:$B
Name BF_50_m_H_: 'Table BeF'!$E:$F
Name BF_500_m: 'Table BeF'!$K:$L
Name BF_60_m: 'Table BeF'!$C:$D
Name BF_DISQUE: 'Table BeF'!$AE:$AF
Name BF_HAUTEUR: 'Table BeF'!$Y:$Z
Name BF_JAVELOT: 'Table BeF'!$AG:$AH
Name BF_LONGUEUR: 'Table BeF'!$U:$V
Name BF_MARTEAU: 'Table BeF'!$AI:$AJ
Name BF_PERCHE: 'Table BeF'!$AA:$AB
Name BF_POIDS: 'Table BeF'!$AC:$AD
Name BF_T_S_: 'Table BeF'!$W:$X
Name BM_1_km_marche: 'Table BeM'!$S:$T
Name BM_1000_m: 'Table BeM'!$O:$P
Name BM_120_m: 'Table BeM'!$I:$J
Name BM_2_km_marche: 'Table BeM'!$U:$V
Name BM_2000_m: 'Table BeM'!$Q:$R
Name BM_300_m: 'Table BeM'!$K:$L
Name BM_50_m: 'Table BeM'!$A:$B
Name BM_50_m_H_: 'Table BeM'!$E:$F
Name BM_500_m: 'Table BeM'!$M:$N
Name BM_60_m: 'Table BeM'!$C:$D
Name BM_80_m_H_: 'Table BeM'!$G:$H
Name BM_DISQUE: 'Table BeM'!$AG:$AH
Name BM_HAUTEUR: 'Table BeM'!$AA:$AB
Name BM_JAVELOT: 'Table BeM'!$AI:$AJ
Name BM_LONGUEUR: 'Table BeM'!$W:$X
Name BM_MARTEAU: 'Table BeM'!$AK:$AL
Name BM_PERCHE: 'Table BeM'!$AC:$AD
Name BM_POIDS: 'Table BeM'!$AE:$AF
Name BM_T_S_: 'Table BeM'!$Y:$Z
Name BMSA: 'RELAIS T1'!$N$3
Name CMA: 'RELAIS T1'!$O$3
Name COMA: 'RELAIS T1'!$P$3
Name CSB: 'RELAIS T1'!$Q$3
Name ESCXV: 'RELAIS T1'!$R$3
Name ESS: 'RELAIS T1'!$S$3

Sheet Jury
B2: CHALLENGE REGIONAL
B3: AUGUSTE DELAUNE
B4: ADULTES (Tour 2)
B6: Saint-Denis - 7 juin 2019
A9: OFFICIELS
A10: FONCTION | B10: NOM | C10: PRENOM | D10: CLUB
A12: DIRECTEUR DE REUNION | B12: BLANCHARD | C12: LUC | D12: SDUS
A13: JUGE ARBITRE | B13: COLOMBI | C13: BRUNO | D13: SDUS
A14: RESPONSABLE MATERIEL | B14: COLOMBI | C14: BRUNO | D14: SDUS
A16: STARTER | B16: DUVAL | C16: MARIE COLOMBE | D16: COMA
A17: CHRONOMETREUR | B17: GILLOT | C17: JACQUES | D17: ABDO
A18: CHRONOMETREUR | B18: RACHIDI | C18: MALIK | D18: USMA
A19: JUGE D'ARRIVEE | B19: BLANCHARD | C19: LUC | D19: SDUS
A20: JUGE D'ARRIVEE
A21: COMMISSAIRE DE COURSE | B21: MELCHIOR | C21: MELVIN | D21: SDUS
A22: COMMISSAIRE DE COURSE | B22: DIALLO | C22: ABDOURAMANE | D22: SDUS
A23: COMMISSAIRE DE COURSE | B23: LOUIS-CALIXTE | C23: ARTHUR | D23: SDUS
A25: TRIPLE SAUT | B25: GARNIER | C25: JEAN-JACQUES | D25: CMA
A26: TRIPLE SAUT | B26: SENECHAL | C26: ADELE | D26: SDUS
A27: TRIPLE SAUT | B27: LENDO | C27: PIERRE | D27: SDUS
A29: MARTEAU | B29: RENAUDIN | C29: PHILIPPE | D29: ASGB
A30: MARTEAU | B30: FEUILLARD | C30: JOHAN | D30: SDUS
A31: MARTEAU
A33: JAVELOT | B33: PICOT | C33: FLORENCE | D33: BMSA
A34: JAVELOT | B34: OURMIAH | C34: MAYLEEN | D34: SDUS
A35: JAVELOT | B35: FELIP | C35: CEDRIC | D35: SDUS
A37: PERCHE | B37: Annulé / météo
A38: PERCHE

Sheet Total Points T1 T2
A1: CLASSEMENT GENERAL
B3: ABDO | C3: ACB | D3: ASGB | E3: BMSA | F3: CAR | G3: CMA | H3: ACMA | I3: COMA | J3: CSB | K3: ESV | L3: ESCXV | M3: ESS | N3: NLSA | O3: SDUS | P3: TAC | Q3: MASC | R3: USI | S3: USMA | T3: US MERY
A4: 1er Tour | H4: =(POINTS!H16) -> #REF! | I4: =(POINTS!I16) -> #REF! | M4: =(POINTS!M16) -> #REF! | P4: =(POINTS!P16) -> #REF! | R4: =(POINTS!R16) -> #REF! | S4: =(POINTS!S16) -> #REF! | T4: =(POINTS!T16) -> #REF!
A5: 2ème Tour | C5: =('POINTS T2'!C15) -> #REF! | F5: =('POINTS T2'!F15) -> #REF! | G5: =('POINTS T2'!G15) -> #REF! | H5: =('POINTS T2'!H15) -> #REF! | I5: =('POINTS T2'!I15) -> #REF! | J5: =('POINTS T2'!J15) -> #REF! | L5: =('POINTS T2'!L15) -> #REF! | N5: =('POINTS T2'!N15) -> #REF! | Q5: =('POINTS T2'!Q15) -> #REF! | S5: =('POINTS T2'!S15) -> #REF! | T5: =('POINTS T2'!T15) -> #REF!
A6: Total | B6: =SUM(B4:B5) -> 0 | C6: =SUM(C4:C5) -> #REF! | D6: =SUM(D4:D5) -> 0 | E6: =SUM(E4:E5) -> 0 | F6: =SUM(F4:F5) -> #REF! | G6: =SUM(G4:G5) -> #REF! | H6: =SUM(H4:H5) -> #REF! | I6: =SUM(I4:I5) -> #REF! | ... T6: =SUM(T4:T5) -> #REF!
A7: Place | B7: 1 | C7: 9 | D7: 4 | E7: 2 | F7: 7 | G7: 14 | H7: 13 | I7: 16 | J7: 11 | K7: 5 | L7: 15 | M7: 12 | N7: 6 | O7: 3 | P7: 8 | Q7: 19 | R7: 10 | S7: 17 | T7: 18
A11: NOMBRE DE PARTICIPANTS SUR LES DEUX TOURS
A13: =A3 -> 0 | B13: =B3 -> ABDO | C13: =C3 -> ACB | D13: =D3 -> ASGB | E13: =E3 -> BMSA | F13: CAR | G13: CMA | H13: =H3 -> ACMA | I13: =I3 -> COMA | J13: CSB | K13: =K3 -> ESV | L13: =L3 -> ESCXV | M13: =M3 -> ESS | N13: =N3 -> NLSA | O13: =O3 -> SDUS | P13: =P3 -> TAC | Q13: =Q3 -> MASC | R13: USI | S13: =S3 -> USMA | T13: =T3 -> US MERY | U13: TOTAL
A14: Minimes F | U14: =SUM(B14:T14) -> 0
A15: Minimes M | U15: =SUM(B15:T15) -> 0
A16: Cadettes | U16: =SUM(B16:T16) -> 0
A17: Cadets | U17: =SUM(B17:T17) -> 0
A18: Femmes | U18: =SUM(B18:T18) -> 0
A19: Hommes | U19: =SUM(B19:T19) -> 0
A20: TOTAL | B20: =SUM(B14:B19) -> 0 | C20: =SUM(C14:C19) -> 0 | D20: =SUM(D14:D19) -> 0 | E20: =SUM(E14:E19) -> 0 | F20: =SUM(F14:F19) -> 0 | G20: =SUM(G14:G19) -> 0 | H20: =SUM(H14:H19) -> 0 | I20: =SUM(I14:I19) -> 0 | ... T20: =SUM(T14:T19) -> 0 | U20: =SUM(B20:T20) -> 0

Sheet POINTS
A1: CLASSEMENT 1er TOUR
B3: ABDO | C3: MASC | D3: ASGB | E3: BMSA | F3: VMA | G3: CMA | H3: ACMA | I3: COMA | J3: CSB | K3: ESV | L3: ESCXV | M3: ESS | N3: NLSA | O3: SDUS | P3: TAC | Q3: MASC | R3: USI | S3: USMA | T3: n
A4: Relais | B4: ='RELAIS T1'!I30 -> 0 | C4: ='RELAIS T1'!J30 -> 0 | D4: ='RELAIS T1'!K30 -> 0 | E4: ='RELAIS T1'!L30 -> 0 | F4: ='RELAIS T1'!M30 -> 0 | G4: ='RELAIS T1'!N30 -> 0 | H4: ='RELAIS T1'!O30 -> 0 | I4: ='RELAIS T1'!P30 -> 0 | ... T4: ='RELAIS T1'!AA30 -> 0
A6: Minimes F | B6: =#REF! -> #REF! | C6: =#REF! -> #REF! | D6: =#REF! -> #REF! | E6: =#REF! -> #REF! | F6: =#REF! -> #REF! | G6: =#REF! -> #REF! | H6: =#REF! -> #REF! | I6: =#REF! -> #REF! | ... T6: =#REF! -> #REF!
A7: Minimes M | B7: =#REF! -> #REF! | C7: =#REF! -> #REF! | D7: =#REF! -> #REF! | E7: =#REF! -> #REF! | F7: =#REF! -> #REF! | G7: =#REF! -> #REF! | H7: =#REF! -> #REF! | I7: =#REF! -> #REF! | ... T7: =#REF! -> #REF!
A8: Cadettes | B8: =#REF! -> #REF! | C8: =#REF! -> #REF! | D8: =#REF! -> #REF! | E8: =#REF! -> #REF! | F8: =#REF! -> #REF! | G8: =#REF! -> #REF! | H8: =#REF! -> #REF! | I8: =#REF! -> #REF! | ... T8: =#REF! -> #REF!
A9: Cadets | B9: =#REF! -> #REF! | C9: =#REF! -> #REF! | D9: =#REF! -> #REF! | E9: =#REF! -> #REF! | F9: =#REF! -> #REF! | G9: =#REF! -> #REF! | H9: =#REF! -> #REF! | I9: =#REF! -> #REF! | ... T9: =#REF! -> #REF!
A10: S/Total | B10: =SUM(B6:B9) -> #REF! | C10: =SUM(C6:C9) -> #REF! | D10: =SUM(D6:D9) -> #REF! | E10: =SUM(E6:E9) -> #REF! | F10: =SUM(F6:F9) -> #REF! | G10: =SUM(G6:G9) -> #REF! | H10: =SUM(H6:H9) -> #REF! | I10: =SUM(I6:I9) -> #REF! | ... T10: =SUM(T6:T9) -> #REF!
A12: Femmes | B12: =#REF! -> #REF! | C12: =#REF! -> #REF! | D12: =#REF! -> #REF! | E12: =#REF! -> #REF! | F12: =#REF! -> #REF! | G12: =#REF! -> #REF! | H12: =#REF! -> #REF! | I12: =#REF! -> #REF! | ... T12: =#REF! -> #REF!
A13: Hommes | B13: =#REF! -> #REF! | C13: =#REF! -> #REF! | D13: =#REF! -> #REF! | E13: =#REF! -> #REF! | F13: =#REF! -> #REF! | G13: =#REF! -> #REF! | H13: =#REF! -> #REF! | I13: =#REF! -> #REF! | ... T13: =#REF! -> #REF!
A14: S/Total | B14: =SUM(B12:B13) -> #REF! | C14: =SUM(C12:C13) -> #REF! | D14: =SUM(D12:D13) -> #REF! | E14: =SUM(E12:E13) -> #REF! | F14: =SUM(F12:F13) -> #REF! | G14: =SUM(G12:G13) -> #REF! | H14: =SUM(H12:H13) -> #REF! | I14: =SUM(I12:I13) -> #REF! | ... T14: =SUM(T12:T13) -> #REF!
A16: total 1er tour | B16: =SUM(B10,B14,B4) -> #REF! | C16: =SUM(C10,C14,C4) -> #REF! | D16: =SUM(D10,D14,D4) -> #REF! | E16: =SUM(E10,E14,E4) -> #REF! | F16: =SUM(F10,F14,F4) -> #REF! | G16: =SUM(G10,G14,G4) -> #REF! | H16: =SUM(H10,H14,H4) -> #REF! | I16: =SUM(I10,I14,I4) -> #REF! | ... T16: =SUM(T10,T14,T4) -> #REF!
A17: PLACES | B17: 8 | D17: 5 | E17: 2 | F17: 13 | G17: 14 | H17: 9 | I17: 17 | J17: 7 | K17: 3 | L17: 4 | M17: 12 | N17: 11 | O17: 1 | P17: 6 | Q17: 16 | S17: 10 | T17: 15
A20: NOMBRE DE PARTICIPANTS
A22: =A3 -> 0 | B22: =B3 -> ABDO | C22: =C3 -> MASC | D22: =D3 -> ASGB | E22: =E3 -> BMSA | F22: CAR | G22: =G3 -> CMA | H22: ACMA | I22: =I3 -> COMA | J22: CSB | K22: =K3 -> ESV | L22: =L3 -> ESCXV | M22: =M3 -> ESS | N22: =N3 -> NLSA | O22: =O3 -> SDUS | P22: =P3 -> TAC | Q22: =Q3 -> MASC | R22: USI | S22: =S3 -> USMA | T22: =T3 -> n | U22: TOTAL
A23: Minimes F | B23: =#REF! -> #REF! | C23: =#REF! -> #REF! | D23: =#REF! -> #REF! | E23: =#REF! -> #REF! | F23: =#REF! -> #REF! | G23: =#REF! -> #REF! | H23: =#REF! -> #REF! | I23: =#REF! -> #REF! | ... T23: =#REF! -> #REF! | U23: =SUM(B23:T23) -> #REF!
A24: Minimes M | B24: =#REF! -> #REF! | C24: =#REF! -> #REF! | D24: =#REF! -> #REF! | E24: =#REF! -> #REF! | F24: =#REF! -> #REF! | G24: =#REF! -> #REF! | H24: =#REF! -> #REF! | I24: =#REF! -> #REF! | ... T24: =#REF! -> #REF! | U24: =SUM(B24:T24) -> #REF!
A25: Cadettes | B25: =#REF! -> #REF! | C25: =#REF! -> #REF! | D25: =#REF! -> #REF! | E25: =#REF! -> #REF! | F25: =#REF! -> #REF! | G25: =#REF! -> #REF! | H25: =#REF! -> #REF! | I25: =#REF! -> #REF! | ... T25: =#REF! -> #REF! | U25: =SUM(B25:T25) -> #REF!
A26: Cadets | B26: =#REF! -> #REF! | C26: =#REF! -> #REF! | D26: =#REF! -> #REF! | E26: =#REF! -> #REF! | F26: =#REF! -> #REF! | G26: =#REF! -> #REF! | H26: =#REF! -> #REF! | I26: =#REF! -> #REF! | ... T26: =#REF! -> #REF! | U26: =SUM(B26:T26) -> #REF!
A27: Femmes | B27: =#REF! -> #REF! | C27: =#REF! -> #REF! | D27: =#REF! -> #REF! | E27: =#REF! -> #REF! | F27: =#REF! -> #REF! | G27: =#REF! -> #REF! | H27: =#REF! -> #REF! | I27: =#REF! -> #REF! | ... T27: =#REF! -> #REF! | U27: =SUM(B27:T27) -> #REF!
A28: Hommes | B28: =#REF! -> #REF! | C28: =#REF! -> #REF! | D28: =#REF! -> #REF! | E28: =#REF! -> #REF! | F28: =#REF! -> #REF! | G28: =#REF! -> #REF! | H28: =#REF! -> #REF! | I28: =#REF! -> #REF! | ... T28: =#REF! -> #REF! | U28: =SUM(B28:T28) -> #REF!
A29: TOTAL | B29: =SUM(B23:B28) -> #REF! | C29: =SUM(C23:C28) -> #REF! | D29: =SUM(D23:D28) -> #REF! | E29: =SUM(E23:E28) -> #REF! | F29: =SUM(F23:F28) -> #REF! | G29: =SUM(G23:G28) -> #REF! | H29: =SUM(H23:H28) -> #REF! | I29: =SUM(I23:I28) -> #REF! | ... T29: =SUM(T23:T28) -> #REF! | U29: =SUM(B29:T29) -> #REF!
A38: CLASSEMENT 2ème TOUR
B41: =B3 -> ABDO | C41: =C3 -> MASC | D41: =D3 -> ASGB | E41: =E3 -> BMSA | F41: =F3 -> VMA | G41: =G3 -> CMA | H41: =H3 -> ACMA | I41: =I3 -> COMA | ... T41: =T3 -> n
A42: Relais | B42: =#REF! -> #REF! | C42: =#REF! -> #REF! | D42: =#REF! -> #REF! | E42: =#REF! -> #REF! | F42: =#REF! -> #REF! | G42: =#REF! -> #REF! | H42: =#REF! -> #REF! | I42: =#REF! -> #REF! | ... T42: =#REF! -> #REF!
A44: Minimes F | B44: =#REF! -> #REF! | C44: =#REF! -> #REF! | D44: =#REF! -> #REF! | E44: =#REF! -> #REF! | F44: =#REF! -> #REF! | G44: =#REF! -> #REF! | H44: =#REF! -> #REF! | I44: =#REF! -> #REF! | ... T44: =#REF! -> #REF!
A45: Minimes M | B45: =#REF! -> #REF! | C45: =#REF! -> #REF! | D45: =#REF! -> #REF! | E45: =#REF! -> #REF! | F45: =#REF! -> #REF! | G45: =#REF! -> #REF! | H45: =#REF! -> #REF! | I45: =#REF! -> #REF! | ... T45: =#REF! -> #REF!
A46: Cadettes | B46: =#REF! -> #REF! | C46: =#REF! -> #REF! | D46: =#REF! -> #REF! | E46: =#REF! -> #REF! | F46: =#REF! -> #REF! | G46: =#REF! -> #REF! | H46: =#REF! -> #REF! | I46: =#REF! -> #REF! | ... T46: =#REF! -> #REF!
A47: Cadets | B47: =#REF! -> #REF! | C47: =#REF! -> #REF! | D47: =#REF! -> #REF! | E47: =#REF! -> #REF! | F47: =#REF! -> #REF! | G47: =#REF! -> #REF! | H47: =#REF! -> #REF! | I47: =#REF! -> #REF! | ... T47: =#REF! -> #REF!
A48: S/Total | B48: =SUM(B44:B47) -> #REF! | C48: =SUM(C44:C47) -> #REF! | D48: =SUM(D44:D47) -> #REF! | E48: =SUM(E44:E47) -> #REF! | F48: =SUM(F44:F47) -> #REF! | G48: =SUM(G44:G47) -> #REF! | H48: =SUM(H44:H47) -> #REF! | I48: =SUM(I44:I47) -> #REF! | ... T48: =SUM(T44:T47) -> #REF!
A50: Femmes | B50: =#REF! -> #REF! | C50: =#REF! -> #REF! | D50: =#REF! -> #REF! | E50: =#REF! -> #REF! | F50: =#REF! -> #REF! | G50: =#REF! -> #REF! | H50: =#REF! -> #REF! | I50: =#REF! -> #REF! | ... T50: =#REF! -> #REF!
A51: Hommes | B51: =#REF! -> #REF! | C51: =#REF! -> #REF! | D51: =#REF! -> #REF! | E51: =#REF! -> #REF! | F51: =#REF! -> #REF! | G51: =#REF! -> #REF! | H51: =#REF! -> #REF! | I51: =#REF! -> #REF! | ... T51: =#REF! -> #REF!
A52: S/Total | B52: =SUM(B50:B51) -> #REF! | C52: =SUM(C50:C51) -> #REF! | D52: =SUM(D50:D51) -> #REF! | E52: =SUM(E50:E51) -> #REF! | F52: =SUM(F50:F51) -> #REF! | G52: =SUM(G50:G51) -> #REF! | H52: =SUM(H50:H51) -> #REF! | I52: =SUM(I50:I51) -> #REF! | ... T52: =SUM(T50:T51) -> #REF!
A54: total 1er tour | B54: =SUM(B48,B52,B42) -> #REF! | C54: =SUM(C48,C52,C42) -> #REF! | D54: =SUM(D48,D52,D42) -> #REF! | E54: =SUM(E48,E52,E42) -> #REF! | F54: =SUM(F48,F52,F42) -> #REF! | G54: =SUM(G48,G52,G42) -> #REF! | H54: =SUM(H48,H52,H42) -> #REF! | I54: =SUM(I48,I52,I42) -> #REF! | ... T54: =SUM(T48,T52,T42) -> #REF!
A55: PLACES
A57: NOMBRE DE PARTICIPANTS
A58: =A41 -> 0 | B58: =B3 -> ABDO | C58: =C3 -> MASC | D58: =D3 -> ASGB | E58: =E3 -> BMSA | F58: =F3 -> VMA | G58: =G3 -> CMA | H58: =H3 -> ACMA | I58: =I3 -> COMA | ... T58: =T3 -> n | U58: TOTAL
A59: Minimes F | B59: =#REF! -> #REF! | C59: =#REF! -> #REF! | D59: =#REF! -> #REF! | E59: =#REF! -> #REF! | F59: =#REF! -> #REF! | G59: =#REF! -> #REF! | H59: =#REF! -> #REF! | I59: =#REF! -> #REF! | ... T59: =#REF! -> #REF! | U59: =SUM(B59:T59) -> #REF!
A60: Minimes M | B60: =#REF! -> #REF! | C60: =#REF! -> #REF! | D60: =#REF! -> #REF! | E60: =#REF! -> #REF! | F60: =#REF! -> #REF! | G60: =#REF! -> #REF! | H60: =#REF! -> #REF! | I60: =#REF! -> #REF! | ... T60: =#REF! -> #REF! | U60: =SUM(B60:T60) -> #REF!
A61: Cadettes | B61: =#REF! -> #REF! | C61: =#REF! -> #REF! | D61: =#REF! -> #REF! | E61: =#REF! -> #REF! | F61: =#REF! -> #REF! | G61: =#REF! -> #REF! | H61: =#REF! -> #REF! | I61: =#REF! -> #REF! | ... T61: =#REF! -> #REF! | U61: =SUM(B61:T61) -> #REF!
...

Sheet POINTS T2
A1: CLASSEMENT 2ème TOUR
B3: ABDO | C3: ACB | D3: ASGB | E3: BMSA | F3: CAR | G3: CMA | H3: ACMA | I3: COMA | J3: CSB | K3: ESV | L3: ESCXV | M3: ESS | N3: NLSA | O3: SDUS | P3: TAC | Q3: MASC | R3: USI | S3: USMA | T3: US MERY
A4: Relais
A5: Minimes F | B5: =#REF! -> #REF! | C5: =#REF! -> #REF! | D5: =#REF! -> #REF! | E5: =#REF! -> #REF! | F5: =#REF! -> #REF! | G5: =#REF! -> #REF! | H5: =#REF! -> #REF! | I5: =#REF! -> #REF! | ... T5: =#REF! -> #REF!
A6: Minimes M | B6: =#REF! -> #REF! | C6: =#REF! -> #REF! | D6: =#REF! -> #REF! | E6: =#REF! -> #REF! | F6: =#REF! -> #REF! | G6: =#REF! -> #REF! | H6: =#REF! -> #REF! | I6: =#REF! -> #REF! | ... T6: =#REF! -> #REF!
A7: Cadettes | B7: =#REF! -> #REF! | C7: =#REF! -> #REF! | D7: =#REF! -> #REF! | E7: =#REF! -> #REF! | F7: =#REF! -> #REF! | G7: =#REF! -> #REF! | H7: =#REF! -> #REF! | I7: =#REF! -> #REF! | ... T7: =#REF! -> #REF!
A8: Cadets | B8: =#REF! -> #REF! | C8: =#REF! -> #REF! | D8: =#REF! -> #REF! | E8: =#REF! -> #REF! | F8: =#REF! -> #REF! | G8: =#REF! -> #REF! | H8: =#REF! -> #REF! | I8: =#REF! -> #REF! | ... T8: =#REF! -> #REF!
A9: S/Total | B9: =SUM(B4:B8) -> #REF! | C9: =SUM(C4:C8) -> #REF! | D9: =SUM(D4:D8) -> #REF! | E9: =SUM(E4:E8) -> #REF! | F9: =SUM(F4:F8) -> #REF! | G9: =SUM(G4:G8) -> #REF! | H9: =SUM(H4:H8) -> #REF! | I9: =SUM(I4:I8) -> #REF! | ... T9: =SUM(T4:T8) -> #REF!
A11: Femmes | B11: =#REF! -> #REF! | C11: =#REF! -> #REF! | D11: =#REF! -> #REF! | E11: =#REF! -> #REF! | F11: =#REF! -> #REF! | G11: =#REF! -> #REF! | H11: =#REF! -> #REF! | I11: =#REF! -> #REF! | ... T11: =#REF! -> #REF!
A12: Hommes
A13: S/Total | B13: =SUM(B11:B12) -> #REF! | C13: =SUM(C11:C12) -> #REF! | D13: =SUM(D11:D12) -> #REF! | E13: =SUM(E11:E12) -> #REF! | F13: =SUM(F11:F12) -> #REF! | G13: =SUM(G11:G12) -> #REF! | H13: =SUM(H11:H12) -> #REF! | I13: =SUM(I11:I12) -> #REF! | ... T13: =SUM(T11:T12) -> #REF!
A15: total 2ème tour | B15: =SUM(B13,B9) -> #REF! | C15: =SUM(C13,C9) -> #REF! | D15: =SUM(D13,D9) -> #REF! | E15: =SUM(E13,E9) -> #REF! | F15: =SUM(F13,F9) -> #REF! | G15: =SUM(G13,G9) -> #REF! | H15: =SUM(H13,H9) -> #REF! | I15: =SUM(I13,I9) -> #REF! | ... T15: =SUM(T13,T9) -> #REF!
A16: PLACES
A20: NOMBRE DE PARTICIPANTS
A22: =A3 -> 0 | B22: =B3 -> ABDO | C22: =C3 -> ACB | D22: =D3 -> ASGB | E22: =E3 -> BMSA | F22: CAR | G22: =G3 -> CMA | H22: ACMA | I22: =I3 -> COMA | J22: CSB | K22: =K3 -> ESV | L22: =L3 -> ESCXV | M22: =M3 -> ESS | N22: =N3 -> NLSA | O22: =O3 -> SDUS | P22: =P3 -> TAC | Q22: =Q3 -> MASC | R22: USI | S22: =S3 -> USMA | T22: =T3 -> US MERY | U22: TOTAL
A23: Minimes F | U23: =SUM(B23:T23) -> 0
A24: Minimes M | U24: =SUM(B24:T24) -> 0
A25: Cadettes | U25: =SUM(B25:T25) -> 0
A26: Cadets | U26: =SUM(B26:T26) -> 0
A27: Femmes | U27: =SUM(B27:T27) -> 0
A28: Hommes | U28: =SUM(B28:T28) -> 0
A29: TOTAL | B29: =SUM(B23:B28) -> 0 | C29: =SUM(C23:C28) -> 0 | D29: =SUM(D23:D28) -> 0 | E29: =SUM(E23:E28) -> 0 | F29: =SUM(F23:F28) -> 0 | G29: =SUM(G23:G28) -> 0 | H29: =SUM(H23:H28) -> 0 | I29: =SUM(I23:I28) -> 0 | ... T29: =SUM(T23:T28) -> 0 | U29: =SUM(B29:T29) -> 0

Sheet RELAIS T1
A1: RELAIS
A2: 43428
A3: CAT | B3: RELAIS | C3: VILLE | D3: CLUB | E3: PERF | F3: PLACE | G3: PTS | I3: =POINTS!B3 -> ABDO | J3: =POINTS!C3 -> MASC | K3: =POINTS!D3 -> ASGB | L3: =POINTS!E3 -> BMSA | M3: MS | N3: =POINTS!G3 -> CMA | O3: =POINTS!H3 -> ACMA | P3: =POINTS!I3 -> COMA | Q3: =POINTS!J3 -> CSB | R3: =POINTS!K3 -> ESV | S3: =POINTS!L3 -> ESCXV | T3: =POINTS!M3 -> ESS | U3: =POINTS!N3 -> NLSA | ... Z3: =POINTS!S3 -> USMA | AA3: MS
A4: MINIME | B4: 4X1 TOUR | C4: TREMBLAY | D4: TAC | E4: 1334 | F4: 1 | I4: =IF($D4<>($I$3),"",$G4) | J4: =IF($D4<>($J$3),"",$G4) | K4: =IF($D4<>($K$3),"",$G4) | L4: =IF($D4<>($L$3),"",$G4) | M4: =IF($D4<>($M$3),"",$G4) | N4: =IF($D4<>($N$3),"",$G4) | O4: =IF($D4<>($O$3),"",$G4) | P4: =IF($D4<>($P$3),"",$G4) | Q4: =IF($D4<>($Q$3),"",$G4) | R4: =IF($D4<>($R$3),"",$G4) | S4: =IF($D4<>($S$3),"",$G4) | T4: =IF($D4<>($T$3),"",$G4) | U4: =IF($D4<>($U$3),"",$G4) | V4: =IF($D4<>($V$3),"",$G4) | W4: =IF($D4<>($W$3),"",$G4) -> 0 | X4: =IF($D4<>($X$3),"",$G4) | Y4: =IF($D4<>($Y$3),"",$G4) | Z4: =IF($D4<>($Z$3),"",$G4) | AA4: =IF($D4<>($AA$3),"",$G4) | AB4: =IF($C4<>($AA$4),"",$F4)
A5: MINIME | B5: 4X1 TOUR | C5: BAGNOLET | D5: ACB | E5: 1343 | F5: 2 | I5: =IF($D5<>($I$3),"",$G5) | J5: =IF($D5<>($J$3),"",$G5) | K5: =IF($D5<>($K$3),"",$G5) | L5: =IF($D5<>($L$3),"",$G5) | M5: =IF($D5<>($M$3),"",$G5) | N5: =IF($D5<>($N$3),"",$G5) | O5: =IF($D5<>($O$3),"",$G5) | P5: =IF($D5<>($P$3),"",$G5) | Q5: =IF($D5<>($Q$3),"",$G5) | R5: =IF($D5<>($R$3),"",$G5) | S5: =IF($D5<>($S$3),"",$G5) | T5: =IF($D5<>($T$3),"",$G5) | U5: =IF($D5<>($U$3),"",$G5) | V5: =IF($D5<>($V$3),"",$G5) | W5: =IF($D5<>($W$3),"",$G5) | X5: =IF($D5<>($X$3),"",$G5) | Y5: =IF($D5<>($Y$3),"",$G5) | Z5: =IF($D5<>($Z$3),"",$G5) | AA5: =IF($D5<>($AA$3),"",$G5)
A6: MINIME | B6: 4X1 TOUR | C6: ST DENIS | D6: SDUS | E6: 1382 | F6: 3 | I6: =IF($D6<>($I$3),"",$G6) | J6: =IF($D6<>($J$3),"",$G6) | K6: =IF($D6<>($K$3),"",$G6) | L6: =IF($D6<>($L$3),"",$G6) | M6: =IF($D6<>($M$3),"",$G6) | N6: =IF($D6<>($N$3),"",$G6) | O6: =IF($D6<>($O$3),"",$G6) | P6: =IF($D6<>($P$3),"",$G6) | Q6: =IF($D6<>($Q$3),"",$G6) | R6: =IF($D6<>($R$3),"",$G6) | S6: =IF($D6<>($S$3),"",$G6) | T6: =IF($D6<>($T$3),"",$G6) | U6: =IF($D6<>($U$3),"",$G6) | V6: =IF($D6<>($V$3),"",$G6) -> 0 | W6: =IF($D6<>($W$3),"",$G6) | X6: =IF($D6<>($X$3),"",$G6) | Y6: =IF($D6<>($Y$3),"",$G6) | Z6: =IF($D6<>($Z$3),"",$G6) | AA6: =IF($D6<>($AA$3),"",$G6)
A7: MINIME | B7: 4X1 TOUR | C7: BLANC MESNIL | D7: BMSA | E7: 1424 | F7: 4 | I7: =IF($D7<>($I$3),"",$G7) | J7: =IF($D7<>($J$3),"",$G7) | K7: =IF($D7<>($K$3),"",$G7) | L7: =IF($D7<>($L$3),"",$G7) -> 0 | M7: =IF($D7<>($M$3),"",$G7) | N7: =IF($D7<>($N$3),"",$G7) | O7: =IF($D7<>($O$3),"",$G7) | P7: =IF($D7<>($P$3),"",$G7) | Q7: =IF($D7<>($Q$3),"",$G7) | R7: =IF($D7<>($R$3),"",$G7) | S7: =IF($D7<>($S$3),"",$G7) | T7: =IF($D7<>($T$3),"",$G7) | U7: =IF($D7<>($U$3),"",$G7) | V7: =IF($D7<>($V$3),"",$G7) | W7: =IF($D7<>($W$3),"",$G7) | X7: =IF($D7<>($X$3),"",$G7) | Y7: =IF($D7<>($Y$3),"",$G7) | Z7: =IF($D7<>($Z$3),"",$G7) | AA7: =IF($D7<>($AA$3),"",$G7)
A8: MINIME | B8: 4X1 TOUR | C8: NOISY LE SEC | D8: NLSA | E8: 1369 | F8: 1 | I8: =IF($D8<>($I$3),"",$G8) | J8: =IF($D8<>($J$3),"",$G8) | K8: =IF($D8<>($K$3),"",$G8) | L8: =IF($D8<>($L$3),"",$G8) | M8: =IF($D8<>($M$3),"",$G8) | N8: =IF($D8<>($N$3),"",$G8) | O8: =IF($D8<>($O$3),"",$G8) | P8: =IF($D8<>($P$3),"",$G8) | Q8: =IF($D8<>($Q$3),"",$G8) | R8: =IF($D8<>($R$3),"",$G8) | S8: =IF($D8<>($S$3),"",$G8) | T8: =IF($D8<>($T$3),"",$G8) | U8: =IF($D8<>($U$3),"",$G8) -> 0 | V8: =IF($D8<>($V$3),"",$G8) | W8: =IF($D8<>($W$3),"",$G8) | X8: =IF($D8<>($X$3),"",$G8) | Y8: =IF($D8<>($Y$3),"",$G8) | Z8: =IF($D8<>($Z$3),"",$G8) | AA8: =IF($D8<>($AA$3),"",$G8)
A9: MINIME | B9: 4X1 TOUR | C9: BLANC MESNIL | D9: BMSA | E9: 1392 | F9: 2 | I9: =IF($D9<>($I$3),"",$G9) | J9: =IF($D9<>($J$3),"",$G9) | K9: =IF($D9<>($K$3),"",$G9) | L9: =IF($D9<>($L$3),"",$G9) -> 0 | M9: =IF($D9<>($M$3),"",$G9) | N9: =IF($D9<>($N$3),"",$G9) | O9: =IF($D9<>($O$3),"",$G9) | P9: =IF($D9<>($P$3),"",$G9) | Q9: =IF($D9<>($Q$3),"",$G9) | R9: =IF($D9<>($R$3),"",$G9) | S9: =IF($D9<>($S$3),"",$G9) | T9: =IF($D9<>($T$3),"",$G9) | U9: =IF($D9<>($U$3),"",$G9) | V9: =IF($D9<>($V$3),"",$G9) | W9: =IF($D9<>($W$3),"",$G9) | X9: =IF($D9<>($X$3),"",$G9) | Y9: =IF($D9<>($Y$3),"",$G9) | Z9: =IF($D9<>($Z$3),"",$G9) | AA9: =IF($D9<>($AA$3),"",$G9)
A10: MINIME | B10: 4X1 TOUR | C10: BAGNOLET | D10: ASGB | E10: 1432 | F10: 3 | I10: =IF($D10<>($I$3),"",$G10) | J10: =IF($D10<>($J$3),"",$G10) | K10: =IF($D10<>($K$3),"",$G10) -> 0 | L10: =IF($D10<>($L$3),"",$G10) | M10: =IF($D10<>($M$3),"",$G10) | N10: =IF($D10<>($N$3),"",$G10) | O10: =IF($D10<>($O$3),"",$G10) | P10: =IF($D10<>($P$3),"",$G10) | Q10: =IF($D10<>($Q$3),"",$G10) | R10: =IF($D10<>($R$3),"",$G10) | S10: =IF($D10<>($S$3),"",$G10) | T10: =IF($D10<>($T$3),"",$G10) | U10: =IF($D10<>($U$3),"",$G10) | V10: =IF($D10<>($V$3),"",$G10) | W10: =IF($D10<>($W$3),"",$G10) | X10: =IF($D10<>($X$3),"",$G10) | Y10: =IF($D10<>($Y$3),"",$G10) | Z10: =IF($D10<>($Z$3),"",$G10) | AA10: =IF($D10<>($AA$3),"",$G10)
C11: NOISY LE SEC | D11: NLSA | E11: 1417 | F11: 1 | I11: =IF($D11<>($I$3),"",$G11) | K11: =IF($D11<>($K$3),"",$G11) | L11: =IF($D11<>($L$3),"",$G11) | N11: =IF($D11<>($N$3),"",$G11) | O11: =IF($D11<>($O$3),"",$G11) | P11: =IF($D11<>($P$3),"",$G11) | Q11: =IF($D11<>($Q$3),"",$G11) | R11: =IF($D11<>($R$3),"",$G11) | S11: =IF($D11<>($S$3),"",$G11) | U11: =IF($D11<>($U$3),"",$G11) -> 0 | V11: =IF($D11<>($V$3),"",$G11) | W11: =IF($D11<>($W$3),"",$G11) | X11: =IF($D11<>($X$3),"",$G11) | Z11: =IF($D11<>($Z$3),"",$G11) | AA11: =IF($D11<>($AA$3),"",$G11)
C12: BRETIGNY | D12: CSB | E12: 1427 | F12: 2 | I12: =IF($D12<>($I$3),"",$G12) | K12: =IF($D12<>($K$3),"",$G12) | L12: =IF($D12<>($L$3),"",$G12) | N12: =IF($D12<>($N$3),"",$G12) | O12: =IF($D12<>($O$3),"",$G12) | P12: =IF($D12<>($P$3),"",$G12) | Q12: =IF($D12<>($Q$3),"",$G12) -> 0 | R12: =IF($D12<>($R$3),"",$G12) | S12: =IF($D12<>($S$3),"",$G12) | U12: =IF($D12<>($U$3),"",$G12) | V12: =IF($D12<>($V$3),"",$G12) | W12: =IF($D12<>($W$3),"",$G12) | X12: =IF($D12<>($X$3),"",$G12) | Z12: =IF($D12<>($Z$3),"",$G12) | AA12: =IF($D12<>($AA$3),"",$G12)
C13: BOBIGNY | D13: ACB | E13: 1591 | F13: 3 | I13: =IF($D13<>($I$3),"",$G13) | K13: =IF($D13<>($K$3),"",$G13) | L13: =IF($D13<>($L$3),"",$G13) | N13: =IF($D13<>($N$3),"",$G13) | O13: =IF($D13<>($O$3),"",$G13) | P13: =IF($D13<>($P$3),"",$G13) | Q13: =IF($D13<>($Q$3),"",$G13) | R13: =IF($D13<>($R$3),"",$G13) | S13: =IF($D13<>($S$3),"",$G13) | U13: =IF($D13<>($U$3),"",$G13) | V13: =IF($D13<>($V$3),"",$G13) | W13: =IF($D13<>($W$3),"",$G13) | X13: =IF($D13<>($X$3),"",$G13) | Z13: =IF($D13<>($Z$3),"",$G13) | AA13: =IF($D13<>($AA$3),"",$G13)
A14: MINIME | B14: 4X1 TOUR | I14: =IF($D14<>($I$3),"",$G14) | J14: =IF($D14<>($J$3),"",$G14) | K14: =IF($D14<>($K$3),"",$G14) | L14: =IF($D14<>($L$3),"",$G14) | M14: =IF($D14<>($M$3),"",$G14) | N14: =IF($D14<>($N$3),"",$G14) | O14: =IF($D14<>($O$3),"",$G14) | P14: =IF($D14<>($P$3),"",$G14) | Q14: =IF($D14<>($Q$3),"",$G14) | R14: =IF($D14<>($R$3),"",$G14) | S14: =IF($D14<>($S$3),"",$G14) | T14: =IF($D14<>($T$3),"",$G14) | U14: =IF($D14<>($U$3),"",$G14) | V14: =IF($D14<>($V$3),"",$G14) | W14: =IF($D14<>($W$3),"",$G14) | X14: =IF($D14<>($X$3),"",$G14) | Y14: =IF($D14<>($Y$3),"",$G14) | Z14: =IF($D14<>($Z$3),"",$G14) | AA14: =IF($D14<>($AA$3),"",$G14)
I15: =IF($D15<>($I$3),"",$G15) | J15: =IF($D15<>($J$3),"",$G15) | K15: =IF($D15<>($K$3),"",$G15) | L15: =IF($D15<>($L$3),"",$G15) | M15: =IF($D15<>($M$3),"",$G15) | N15: =IF($D15<>($N$3),"",$G15) | O15: =IF($D15<>($O$3),"",$G15) | P15: =IF($D15<>($P$3),"",$G15) | Q15: =IF($D15<>($Q$3),"",$G15) | R15: =IF($D15<>($R$3),"",$G15) | S15: =IF($D15<>($S$3),"",$G15) | T15: =IF($D15<>($T$3),"",$G15) | U15: =IF($D15<>($U$3),"",$G15) | V15: =IF($D15<>($V$3),"",$G15) | W15: =IF($D15<>($W$3),"",$G15) | X15: =IF($D15<>($X$3),"",$G15) | Y15: =IF($D15<>($Y$3),"",$G15) | Z15: =IF($D15<>($Z$3),"",$G15) | AA15: =IF($D15<>($AA$3),"",$G15)
A16: SENIOR | B16: 6X1 TOUR | C16: SAINT OUEN | D16: USMA | E16: 2182 | F16: 1 | I16: =IF($D16<>($I$3),"",$G16) | J16: =IF($D16<>($J$3),"",$G16) | K16: =IF($D16<>($K$3),"",$G16) | L16: =IF($D16<>($L$3),"",$G16) | M16: =IF($D16<>($M$3),"",$G16) | N16: =IF($D16<>($N$3),"",$G16) | O16: =IF($D16<>($O$3),"",$G16) | P16: =IF($D16<>($P$3),"",$G16) | Q16: =IF($D16<>($Q$3),"",$G16) | R16: =IF($D16<>($R$3),"",$G16) | S16: =IF($D16<>($S$3),"",$G16) | T16: =IF($D16<>($T$3),"",$G16) | U16: =IF($D16<>($U$3),"",$G16) | V16: =IF($D16<>($V$3),"",$G16) | W16: =IF($D16<>($W$3),"",$G16) | X16: =IF($D16<>($X$3),"",$G16) | Y16: =IF($D16<>($Y$3),"",$G16) | Z16: =IF($D16<>($Z$3),"",$G16) -> 0 | AA16: =IF($D16<>($AA$3),"",$G16)
A17: SENIOR | B17: 6X1 TOUR | C17: NOISY LE SEC | D17: NLSA | E17: 2222 | F17: 2 | I17: =IF($D17<>($I$3),"",$G17) | J17: =IF($D17<>($J$3),"",$G17) | K17: =IF($D17<>($K$3),"",$G17) | L17: =IF($D17<>($L$3),"",$G17) | M17: =IF($D17<>($M$3),"",$G17) | N17: =IF($D17<>($N$3),"",$G17) | O17: =IF($D17<>($O$3),"",$G17) | P17: =IF($D17<>($P$3),"",$G17) | Q17: =IF($D17<>($Q$3),"",$G17) | R17: =IF($D17<>($R$3),"",$G17) | S17: =IF($D17<>($S$3),"",$G17) | T17: =IF($D17<>($T$3),"",$G17) | U17: =IF($D17<>($U$3),"",$G17) -> 0 | V17: =IF($D17<>($V$3),"",$G17) | W17: =IF($D17<>($W$3),"",$G17) | X17: =IF($D17<>($X$3),"",$G17) | Y17: =IF($D17<>($Y$3),"",$G17) | Z17: =IF($D17<>($Z$3),"",$G17) | AA17: =IF($D17<>($AA$3),"",$G17)
A18: SENIOR | B18: 6X1 TOUR | C18: BLANC MESNIL | D18: BMSA | E18: 2226 | F18: 3 | I18: =IF($D18<>($I$3),"",$G18) | J18: =IF($D18<>($J$3),"",$G18) | K18: =IF($D18<>($K$3),"",$G18) | L18: =IF($D18<>($L$3),"",$G18) -> 0 | M18: =IF($D18<>($M$3),"",$G18) | N18: =IF($D18<>($N$3),"",$G18) | O18: =IF($D18<>($O$3),"",$G18) | P18: =IF($D18<>($P$3),"",$G18) | Q18: =IF($D18<>($Q$3),"",$G18) | R18: =IF($D18<>($R$3),"",$G18) | S18: =IF($D18<>($S$3),"",$G18) | T18: =IF($D18<>($T$3),"",$G18) | U18: =IF($D18<>($U$3),"",$G18) | V18: =IF($D18<>($V$3),"",$G18) | W18: =IF($D18<>($W$3),"",$G18) | X18: =IF($D18<>($X$3),"",$G18) | Y18: =IF($D18<>($Y$3),"",$G18) | Z18: =IF($D18<>($Z$3),"",$G18) | AA18: =IF($D18<>($AA$3),"",$G18)
A19: SENIOR | B19: 6X1 TOUR | I19: =IF($D19<>($I$3),"",$G19) | J19: =IF($D19<>($J$3),"",$G19) | K19: =IF($D19<>($K$3),"",$G19) | L19: =IF($D19<>($L$3),"",$G19) | M19: =IF($D19<>($M$3),"",$G19) | N19: =IF($D19<>($N$3),"",$G19) | O19: =IF($D19<>($O$3),"",$G19) | P19: =IF($D19<>($P$3),"",$G19) | Q19: =IF($D19<>($Q$3),"",$G19) | R19: =IF($D19<>($R$3),"",$G19) | S19: =IF($D19<>($S$3),"",$G19) | T19: =IF($D19<>($T$3),"",$G19) | U19: =IF($D19<>($U$3),"",$G19) | V19: =IF($D19<>($V$3),"",$G19) | W19: =IF($D19<>($W$3),"",$G19) | X19: =IF($D19<>($X$3),"",$G19) | Y19: =IF($D19<>($Y$3),"",$G19) | Z19: =IF($D19<>($Z$3),"",$G19) | AA19: =IF($D19<>($AA$3),"",$G19)
A20: SENIOR | B20: 6X1 TOUR | I20: =IF($D20<>($I$3),"",$G20) | J20: =IF($D20<>($J$3),"",$G20) | K20: =IF($D20<>($K$3),"",$G20) | L20: =IF($D20<>($L$3),"",$G20) | M20: =IF($D20<>($M$3),"",$G20) | N20: =IF($D20<>($N$3),"",$G20) | O20: =IF($D20<>($O$3),"",$G20) | P20: =IF($D20<>($P$3),"",$G20) | Q20: =IF($D20<>($Q$3),"",$G20) | R20: =IF($D20<>($R$3),"",$G20) | S20: =IF($D20<>($S$3),"",$G20) | T20: =IF($D20<>($T$3),"",$G20) | U20: =IF($D20<>($U$3),"",$G20) | V20: =IF($D20<>($V$3),"",$G20) | W20: =IF($D20<>($W$3),"",$G20) | X20: =IF($D20<>($X$3),"",$G20) | Y20: =IF($D20<>($Y$3),"",$G20) | Z20: =IF($D20<>($Z$3),"",$G20) | AA20: =IF($D20<>($AA$3),"",$G20)
A21: SENIOR | B21: 6X1 TOUR | I21: =IF($D21<>($I$3),"",$G21) | J21: =IF($D21<>($J$3),"",$G21) | K21: =IF($D21<>($K$3),"",$G21) | L21: =IF($D21<>($L$3),"",$G21) | M21: =IF($D21<>($M$3),"",$G21) | N21: =IF($D21<>($N$3),"",$G21) | O21: =IF($D21<>($O$3),"",$G21) | P21: =IF($D21<>($P$3),"",$G21) | Q21: =IF($D21<>($Q$3),"",$G21) | R21: =IF($D21<>($R$3),"",$G21) | S21: =IF($D21<>($S$3),"",$G21) | T21: =IF($D21<>($T$3),"",$G21) | U21: =IF($D21<>($U$3),"",$G21) | V21: =IF($D21<>($V$3),"",$G21) | W21: =IF($D21<>($W$3),"",$G21) | X21: =IF($D21<>($X$3),"",$G21) | Y21: =IF($D21<>($Y$3),"",$G21) | Z21: =IF($D21<>($Z$3),"",$G21) | AA21: =IF($D21<>($AA$3),"",$G21)
I22: =IF($D22<>($I$3),"",$G22) | K22: =IF($D22<>($K$3),"",$G22) | L22: =IF($D22<>($L$3),"",$G22) | N22: =IF($D22<>($N$3),"",$G22) | O22: =IF($D22<>($O$3),"",$G22) | P22: =IF($D22<>($P$3),"",$G22) | Q22: =IF($D22<>($Q$3),"",$G22) | R22: =IF($D22<>($R$3),"",$G22) | S22: =IF($D22<>($S$3),"",$G22) | U22: =IF($D22<>($U$3),"",$G22) | V22: =IF($D22<>($V$3),"",$G22) | W22: =IF($D22<>($W$3),"",$G22) | X22: =IF($D22<>($X$3),"",$G22) | Z22: =IF($D22<>($Z$3),"",$G22) | AA22: =IF($D22<>($AA$3),"",$G22)
I23: =IF($D23<>($I$3),"",$G23) | K23: =IF($D23<>($K$3),"",$G23) | L23: =IF($D23<>($L$3),"",$G23) | N23: =IF($D23<>($N$3),"",$G23) | O23: =IF($D23<>($O$3),"",$G23) | P23: =IF($D23<>($P$3),"",$G23) | Q23: =IF($D23<>($Q$3),"",$G23) | R23: =IF($D23<>($R$3),"",$G23) | S23: =IF($D23<>($S$3),"",$G23) | U23: =IF($D23<>($U$3),"",$G23) | V23: =IF($D23<>($V$3),"",$G23) | W23: =IF($D23<>($W$3),"",$G23) | X23: =IF($D23<>($X$3),"",$G23) | Z23: =IF($D23<>($Z$3),"",$G23) | AA23: =IF($D23<>($AA$3),"",$G23)
I24: =IF($D24<>($I$3),"",$G24) | K24: =IF($D24<>($K$3),"",$G24) | L24: =IF($D24<>($L$3),"",$G24) | N24: =IF($D24<>($N$3),"",$G24) | O24: =IF($D24<>($O$3),"",$G24) | P24: =IF($D24<>($P$3),"",$G24) | Q24: =IF($D24<>($Q$3),"",$G24) | R24: =IF($D24<>($R$3),"",$G24) | S24: =IF($D24<>($S$3),"",$G24) | U24: =IF($D24<>($U$3),"",$G24) | V24: =IF($D24<>($V$3),"",$G24) | W24: =IF($D24<>($W$3),"",$G24) | X24: =IF($D24<>($X$3),"",$G24) | Z24: =IF($D24<>($Z$3),"",$G24) | AA24: =IF($D24<>($AA$3),"",$G24)
A25: SENIOR | B25: 6X1 TOUR | I25: =IF($D25<>($I$3),"",$G25) | J25: =IF($D25<>($J$3),"",$G25) | K25: =IF($D25<>($K$3),"",$G25) | L25: =IF($D25<>($L$3),"",$G25) | M25: =IF($D25<>($M$3),"",$G25) | N25: =IF($D25<>($N$3),"",$G25) | O25: =IF($D25<>($O$3),"",$G25) | P25: =IF($D25<>($P$3),"",$G25) | Q25: =IF($D25<>($Q$3),"",$G25) | R25: =IF($D25<>($R$3),"",$G25) | S25: =IF($D25<>($S$3),"",$G25) | T25: =IF($D25<>($T$3),"",$G25) | U25: =IF($D25<>($U$3),"",$G25) | V25: =IF($D25<>($V$3),"",$G25) | W25: =IF($D25<>($W$3),"",$G25) | X25: =IF($D25<>($X$3),"",$G25) | Y25: =IF($D25<>($Y$3),"",$G25) | Z25: =IF($D25<>($Z$3),"",$G25) | AA25: =IF($D25<>($AA$3),"",$G25)
A26: SENIOR | B26: 6X1 TOUR | I26: =IF($D26<>($I$3),"",$G26) | J26: =IF($D26<>($J$3),"",$G26) | K26: =IF($D26<>($K$3),"",$G26) | L26: =IF($D26<>($L$3),"",$G26) | M26: =IF($D26<>($M$3),"",$G26) | N26: =IF($D26<>($N$3),"",$G26) | O26: =IF($D26<>($O$3),"",$G26) | P26: =IF($D26<>($P$3),"",$G26) | Q26: =IF($D26<>($Q$3),"",$G26) | R26: =IF($D26<>($R$3),"",$G26) | S26: =IF($D26<>($S$3),"",$G26) | T26: =IF($D26<>($T$3),"",$G26) | U26: =IF($D26<>($U$3),"",$G26) | V26: =IF($D26<>($V$3),"",$G26) | W26: =IF($D26<>($W$3),"",$G26) | X26: =IF($D26<>($X$3),"",$G26) | Y26: =IF($D26<>($Y$3),"",$G26) | Z26: =IF($D26<>($Z$3),"",$G26) | AA26: =IF($D26<>($AA$3),"",$G26)
A27: SENIOR | B27: 6X1 TOUR | I27: =IF($D27<>($I$3),"",$G27) | J27: =IF($D27<>($J$3),"",$G27) | K27: =IF($D27<>($K$3),"",$G27) | L27: =IF($D27<>($L$3),"",$G27) | M27: =IF($D27<>($M$3),"",$G27) | N27: =IF($D27<>($N$3),"",$G27) | O27: =IF($D27<>($O$3),"",$G27) | P27: =IF($D27<>($P$3),"",$G27) | Q27: =IF($D27<>($Q$3),"",$G27) | R27: =IF($D27<>($R$3),"",$G27) | S27: =IF($D27<>($S$3),"",$G27) | T27: =IF($D27<>($T$3),"",$G27) | U27: =IF($D27<>($U$3),"",$G27) | V27: =IF($D27<>($V$3),"",$G27) | W27: =IF($D27<>($W$3),"",$G27) | X27: =IF($D27<>($X$3),"",$G27) | Y27: =IF($D27<>($Y$3),"",$G27) | Z27: =IF($D27<>($Z$3),"",$G27) | AA27: =IF($D27<>($AA$3),"",$G27)
A28: SENIOR | B28: 6X1 TOUR | I28: =IF($D28<>($I$3),"",$G28) | J28: =IF($D28<>($J$3),"",$G28) | K28: =IF($D28<>($K$3),"",$G28) | L28: =IF($D28<>($L$3),"",$G28) | M28: =IF($D28<>($M$3),"",$G28) | N28: =IF($D28<>($N$3),"",$G28) | O28: =IF($D28<>($O$3),"",$G28) | P28: =IF($D28<>($P$3),"",$G28) | Q28: =IF($D28<>($Q$3),"",$G28) | R28: =IF($D28<>($R$3),"",$G28) | S28: =IF($D28<>($S$3),"",$G28) | T28: =IF($D28<>($T$3),"",$G28) | U28: =IF($D28<>($U$3),"",$G28) | V28: =IF($D28<>($V$3),"",$G28) | W28: =IF($D28<>($W$3),"",$G28) | X28: =IF($D28<>($X$3),"",$G28) | Y28: =IF($D28<>($Y$3),"",$G28) | Z28: =IF($D28<>($Z$3),"",$G28) | AA28: =IF($D28<>($AA$3),"",$G28)
H30: Pts | I30: =SUM(I4:I28) -> 0 | J30: =SUM(J4:J28) -> 0 | K30: =SUM(K4:K28) -> 0 | L30: =SUM(L4:L28) -> 0 | M30: =SUM(M4:M28) -> 0 | N30: =SUM(N4:N28) -> 0 | O30: =SUM(O4:O28) -> 0 | P30: =SUM(P4:P28) -> 0 | ... AA30: =SUM(AA4:AA28) -> 0

Sheet FEMMES
A1: FÉMININES
A2: NOM | B2: PRENOM | C2: CAT. | D2: CLUB | E2: 250 m Haies (76) | F2: 800 m | G2: 3000 m | H2: 3000 marche | I2: Triple saut | J2: Perche | K2: Marteau 3kg | L2: Javelot 500 gr
A3: RENAUDIN | B3: MAÏA | C3: MIF | D3: ASGB | K3: 17.34
A4: VION | B4: MAELLE | C4: MIF | D4: ASGB | H4: 21'31"8
A5: CISSOKHO | B5: SHERAZADE | C5: MIF | D5: BMSA | E5: 49"3 | L5: 10.3
A6: PIN | B6: MARGOT | C6: V2F | D6: CMAA | I6: 6.37 | L6: 16.72
A7: AKENAD | B7: AYA | C7: MIF | D7: COMA | E7: 42"8 | L7: 14.44
A8: HORRA | B8: SHERAZADE | C8: MIF | D8: COMA | L8: 8.75
A9: SOUGA LAZZERO | B9: ELENA | C9: MIF | D9: COMA | E9: 54"0 | G9: DNF
A10: THEBAULT | B10: ELISABETH | C10: V3F | D10: SDUS | H10: 21'05"3
A11: ULYSSE | B11: DAPHKARNY | C11: MIF | D11: SDUS | E11: 44"6 | I11: 8.77
A12: ALPHONSE | B12: OLGA | C12: V3F | D12: USMA | H12: 20'46"7
A13: COLLIN | B13: SANDRINE | C13: V2F | D13: USMA | H13: 20'58"7
A14: SANTIAGO | B14: NORMA | C14: V1F | D14: USMA | H14: 20'43"6
A16: NOM | B16: PRENOM | C16: CAT. | D16: CLUB | E16: 320 m Haies (76) | F16: 800 m | G16: 3000 m | H16: 3000 marche | I16: Triple saut | J16: Perche | K16: Marteau 3kg | L16: Javelot 600 gr
A17: MOUSSA | B17: IRIS | C17: CAF | D17: BMSA | K17: 32.34 | L17: 26.71
A18: GIQUEL | B18: MARINA | C18: CAF | D18: ESS | F18: 2'43"9
A19: LIMAGE | B19: JESSY | C19: CAF | D19: ESS | I19: 10.41
A21: NOM | B21: PRENOM | C21: CAT. | D21: CLUB | E21: 400 m Haies (76) | F21: 800 m | G21: 3000 m | H21: 3000 marche | I21: Triple saut | J21: Perche | K21: Marteau 4kg | L21: Javelot 600 gr
A22: GARATEA | B22: SUSANA | C22: V1F | D22: ASGB | K22: 29.46
A23: GERARD | B23: ANNE-LAURE | C23: S2F | D23: ASGB | K23: 27.2
A24: HAÏDARA | B24: SATOU | C24: JUF | D24: ASGB | I24: 7.88
A25: MANKENDA | B25: FLORE | C25: S1F | D25: ASGB | K25: 27.61
A26: QUEMON | B26: ANAÏS | C26: S2F | D26: USMA | F26: 2'38"4

Sheet HOMMES
A1: MASCULINS
A2: NOM | B2: PRENOM | C2: CAT. | D2: CLUB | E2: 250 m Haies (76) | F2: 800 m | G2: 3000 m | H2: 3000 marche | I2: Triple saut | J2: Perche | K2: Marteau 4kg | L2: Javelot 600 gr
A3: LOUSTEAU | B3: JEAN-MICHEL | C3: V2M | D3: ABDO | G3: 13'04"3
A4: DOLCIN | B4: KEAWAN | C4: MIM | D4: ASGB | I4: 10.39
A5: RENAUDIN | B5: TOM | C5: MIM | D5: ASGB | I5: 10.32 | K5: 19.41
A6: PELLESTIN | B6: SULLYVAN | C6: MIM | D6: ESS | E6: 36"3 | I6: 10.9
A7: BARADJI | B7: MAMADI | C7: MIM | D7: SDUS | E7: 46"2 | I7: 9.1 | L7: 11.45
A8: BARADJI | B8: MOUSSA | C8: V2M | D8: SDUS | I8: 9.15 | L8: 33.98
A9: RACHIDI | B9: MALIK | C9: V3M | D9: USMA | H9: 20'45"1
A11: NOM | B11: PRENOM | C11: CAT. | D11: CLUB | E11: 320 m Haies (84) | F11: 800 m | G11: 3000 m | H11: 3000 marche | I11: Triple saut | J11: Perche | K11: Marteau 5kg | L11: Javelot 700 gr
A12: RENAUDIN | B12: PHILIPPE | C12: V1M | D12: ASGB | K12: 28.79
A13: SAADI HADDAD | B13: KHEMIS | C13: CAM | D13: ASGB | F13: 2'49"6 | K13: 22.01
A14: BERANGER | B14: THOMAS | C14: CAM | D14: BMSA | L14: 25.92
A15: CELESTE | B15: MAX | C15: CAM | D15: BMSA | F15: 2'31"2 | L15: 30.25
A16: BOUZIT | B16: KHALED | C16: CAM | D16: ESS | F16: 2'27"7
A17: SELVARUBAN | B17: SUJEEBAN | C17: CAM | D17: ESS | E17: 48"7
A18: SOUARE | B18: SIDIYA | C18: CAM | D18: SDUS | E18: 50"9
A19: YJJEDD | B19: BILAL | C19: CAM | D19: SDUS | E19: 55"2
A21: NOM | B21: PRENOM | C21: CAT. | D21: CLUB | E21: 400 m Haies (84) | F21: 800 m | G21: 3000 m | H21: 3000 marche | I21: Triple saut | J21: Perche | K21: Marteau 6kg | L21: Javelot 800 gr
A22: ALI | B22: ZAÏD | C22: JUM | D22: ESS | F22: 2'35"3
A23: DOU | B23: YOUCEF | C23: JUM | D23: ESS | F23: 3'22"8
A24: BARADJI | B24: MOUSSA | C24: V2M | D24: SDUS | E24: 74"2
A25: LEFORESTIER | B25: DIDIER | C25: V2M | D25: USMA | E25: 67"2
A27: NOM | B27: PRENOM | C27: CAT. | D27: CLUB | E27: 400 m Haies (91) | F27: 800 m | G27: 3000 m | H27: 3000 marche | I27: Triple saut | J27: Perche | K27: Marteau 7kg | L27: Javelot 800 gr
A28: GAINVILLE | B28: ARTHUR | C28: S1M | D28: ASGB | F28: 2'40"6 | G28: 12'28"9
A29: PESCHE | B29: MAXIME | C29: S1M | D29: ASGB | I29: 10.75
A30: DELMA | B30: DANNY | C30: JUM | D30: BMSA | L30: 23.52
A31: MAALI | B31: ARYLES | C31: JUM | D31: BMSA | F31: 2'30"8 | L31: 13.5
A32: KHATTABI | B32: MOURAD | C32: S1M | D32: COMA | G32: 11'15"6
A33: CORREIA | B33: BENJAMIN | C33: S1M | D33: ESS | F33: 2'46"6 | L33: 21.33
A34: KHALFALLAH | B34: BRAHIM | C34: V1M | D34: ESS | F34: 2'54"6
A35: BARADJI | B35: BAMAN | C35: JUM | D35: SDUS | E35: 75"6 | L35: 18.05
A36: FELIP | B36: CEDRIC | C36: V1M | D36: SDUS | L36: 27.3
A37: FEUILLARD | B37: JOHAN | C37: S2M | D37: SDUS | K37: 31.12 | L37: 28.17
A38: HADJI | B38: YACINE | C38: JUM | D38: SDUS | G38: 11'04"6
A39: KEITA | B39: SOULEYMANE | C39: S1M | D39: SDUS | E39: 72"7 | F39: 2'51"1 | L39: 22.91
A40: KITU | B40: MOÏSE | C40: S1M | D40: SDUS | E40: 66"3 | F40: 2'48"2 | L40: 18.9
A41: MASCREZ | B41: MEHDI | C41: CAM | D41: SDUS | G41: 12'08"1
A42: SAYDI | B42: HEDI | C42: S1M | D42: SDUS | F42: 2'47"9 | L42: 26.52

Sheet Table Mo
A1: 50 m | B1: PTS | C1: 50 haies | D1: PTS | E1: 300 m | F1: PTS | G1: 500 m | H1: PTS | I1: 600 m | J1: PTS | K1: 500 marche | L1: PTS | M1: 600 marche | N1: PTS | O1: Longueur | P1: PTS | Q1: Triple saut | R1: PTS | S1: Hauteur | T1: PTS | U1: Perche | V1: PTS | W1: Poids | X1: PTS | Y1: Balles | Z1: PTS | AA1: Anneau | AB1: PTS | AC1: Marteau | AD1: PTS
A2: 1 | B2: 25 | C2: 0 | D2: 25 | E2: 0 | F2: 25 | G2: 0 | H2: 25 | I2: 0 | J2: 25 | K2: 0 | L2: 25 | M2: 0 | N2: 25 | O2: 0 | P2: 1 | Q2: 0 | R2: 1 | S2: 0 | T2: 1 | U2: 0 | V2: 1 | W2: 0 | X2: 1 | Y2: 0 | Z2: 1 | AA2: 0 | AB2: 1 | AC2: 0 | AD2: 1
A3: 76 | B3: 25 | C3: 81 | D3: 25 | E3: 590 | F3: 25 | G3: 1400 | H3: 25 | I3: 2000 | J3: 25 | K3: 3100 | L3: 25 | M3: 3500 | N3: 25 | O3: 100 | P3: 2 | Q3: 240 | R3: 2 | S3: 70 | T3: 2 | V3: 2 | W3: 140 | X3: 2 | Y3: 100 | Z3: 2 | AA3: 200 | AB3: 2 | AD3: 2
A4: 77 | B4: 24 | C4: 82 | D4: 24 | E4: 591 | F4: 24 | G4: 1401 | H4: 24 | I4: 2001 | J4: 24 | K4: 3101 | L4: 24 | M4: 3501 | N4: 24 | O4: 110 | P4: 3 | Q4: 250 | R4: 3 | T4: 3 | V4: 3 | W4: 170 | X4: 3 | Y4: 200 | Z4: 3 | AA4: 300 | AB4: 3 | AD4: 3
A5: 78 | B5: 23 | C5: 83 | D5: 23 | E5: 1000 | F5: 24 | G5: 1410 | H5: 24 | I5: 2010 | J5: 24 | K5: 3120 | L5: 24 | M5: 3530 | N5: 24 | O5: 120 | P5: 4 | Q5: 260 | R5: 4 | T5: 4 | V5: 4 | W5: 200 | X5: 4 | Y5: 300 | Z5: 4 | AA5: 400 | AB5: 4 | AD5: 4
A6: 79 | B6: 22 | C6: 84 | D6: 22 | E6: 1001 | F6: 23 | G6: 1411 | H6: 23 | I6: 2011 | J6: 23 | K6: 3121 | L6: 23 | M6: 3531 | N6: 23 | O6: 130 | P6: 5 | Q6: 280 | R6: 5 | S6: 75 | T6: 5 | V6: 5 | W6: 230 | X6: 5 | Y6: 400 | Z6: 5 | AA6: 500 | AB6: 5 | AD6: 5
A7: 80 | B7: 21 | C7: 85 | D7: 22 | E7: 1010 | F7: 23 | G7: 1420 | H7: 23 | I7: 2020 | J7: 23 | K7: 3160 | L7: 23 | M7: 3560 | N7: 23 | O7: 140 | P7: 6 | Q7: 300 | R7: 6 | T7: 6 | V7: 6 | W7: 260 | X7: 6 | Y7: 500 | Z7: 6 | AA7: 600 | AB7: 6 | AD7: 6
A8: 81 | B8: 20 | C8: 86 | D8: 21 | E8: 1011 | F8: 22 | G8: 1421 | H8: 22 | I8: 2021 | J8: 22 | K8: 3161 | L8: 22 | M8: 3561 | N8: 22 | O8: 150 | P8: 7 | Q8: 320 | R8: 7 | T8: 7 | V8: 7 | W8: 290 | X8: 7 | Y8: 550 | Z8: 7 | AA8: 700 | AB8: 7 | AD8: 7
A9: 82 | B9: 20 | C9: 87 | D9: 21 | E9: 1020 | F9: 22 | G9: 1440 | H9: 22 | I9: 2040 | J9: 22 | K9: 3190 | L9: 22 | M9: 3590 | N9: 22 | O9: 160 | P9: 8 | Q9: 340 | R9: 8 | S9: 80 | T9: 8 | V9: 8 | W9: 320 | X9: 8 | Y9: 600 | Z9: 8 | AA9: 800 | AB9: 8 | AD9: 8
A10: 83 | B10: 19 | C10: 88 | D10: 21 | E10: 1021 | F10: 21 | G10: 1441 | H10: 21 | I10: 2041 | J10: 21 | K10: 3191 | L10: 21 | M10: 3591 | N10: 21 | O10: 170 | P10: 9 | Q10: 360 | R10: 9 | T10: 9 | V10: 9 | W10: 350 | X10: 9 | Y10: 650 | Z10: 9 | AA10: 900 | AB10: 9 | AD10: 9
A11: 84 | B11: 19 | C11: 89 | D11: 20 | E11: 1030 | F11: 21 | G11: 1460 | H11: 21 | I11: 2060 | J11: 21 | K11: 3220 | L11: 21 | M11: 4030 | N11: 21 | O11: 180 | P11: 10 | Q11: 380 | R11: 10 | T11: 10 | V11: 10 | W11: 380 | X11: 10 | Y11: 700 | Z11: 10 | AA11: 1000 | AB11: 10 | AD11: 10
A12: 85 | B12: 18 | C12: 90 | D12: 20 | E12: 1031 | F12: 20 | G12: 1461 | H12: 20 | I12: 2061 | J12: 20 | K12: 3221 | L12: 20 | M12: 4031 | N12: 20 | O12: 190 | P12: 11 | Q12: 400 | R12: 11 | S12: 85 | T12: 11 | V12: 11 | W12: 410 | X12: 11 | Y12: 800 | Z12: 11 | AA12: 1100 | AB12: 11 | AD12: 11
A13: 86 | B13: 18 | C13: 91 | D13: 20 | E13: 1050 | F13: 20 | G13: 1490 | H13: 20 | I13: 2080 | J13: 20 | K13: 3260 | L13: 20 | M13: 4070 | N13: 20 | O13: 200 | P13: 12 | Q13: 420 | R13: 12 | T13: 12 | V13: 12 | W13: 440 | X13: 12 | Y13: 900 | Z13: 12 | AA13: 1200 | AB13: 12 | AD13: 12
A14: 87 | B14: 18 | C14: 92 | D14: 19 | E14: 1051 | F14: 19 | G14: 1491 | H14: 19 | I14: 2081 | J14: 19 | K14: 3261 | L14: 19 | M14: 4071 | N14: 19 | O14: 210 | P14: 13 | Q14: 440 | R14: 13 | T14: 13 | V14: 13 | W14: 470 | X14: 13 | Y14: 1000 | Z14: 13 | AA14: 1300 | AB14: 13 | AD14: 13
A15: 88 | B15: 17 | C15: 93 | D15: 19 | E15: 1070 | F15: 19 | G15: 1520 | H15: 19 | I15: 2110 | J15: 19 | K15: 3300 | L15: 19 | M15: 4110 | N15: 19 | O15: 220 | P15: 14 | Q15: 460 | R15: 14 | S15: 90 | T15: 14 | V15: 14 | W15: 500 | X15: 14 | Y15: 1100 | Z15: 14 | AA15: 1400 | AB15: 14 | AD15: 14
A16: 89 | B16: 17 | C16: 94 | D16: 19 | E16: 1071 | F16: 18 | G16: 1521 | H16: 18 | I16: 2111 | J16: 18 | K16: 3301 | L16: 18 | M16: 4111 | N16: 18 | O16: 230 | P16: 15 | Q16: 480 | R16: 15 | T16: 15 | V16: 15 | W16: 530 | X16: 15 | Y16: 1200 | Z16: 15 | AA16: 1500 | AB16: 15 | AD16: 15
A17: 90 | B17: 17 | C17: 95 | D17: 18 | E17: 1090 | F17: 18 | G17: 1560 | H17: 18 | I17: 2150 | J17: 18 | K17: 3340 | L17: 18 | M17: 4150 | N17: 18 | O17: 240 | P17: 16 | Q17: 500 | R17: 16 | S17: 95 | T17: 16 | V17: 16 | W17: 560 | X17: 16 | Y17: 1300 | Z17: 16 | AA17: 1600 | AB17: 16 | AD17: 16
A18: 91 | B18: 16 | C18: 96 | D18: 18 | E18: 1091 | F18: 17 | G18: 1561 | H18: 17 | I18: 2151 | J18: 17 | K18: 3341 | L18: 17 | M18: 4151 | N18: 17 | O18: 260 | P18: 17 | Q18: 520 | R18: 17 | T18: 17 | V18: 17 | W18: 580 | X18: 17 | Y18: 1400 | Z18: 17 | AA18: 1700 | AB18: 17 | AD18: 17
A19: 92 | B19: 16 | C19: 97 | D19: 18 | E19: 1110 | F19: 17 | G19: 2000 | H19: 17 | I19: 2200 | J19: 17 | K19: 3390 | L19: 17 | M19: 4190 | N19: 17 | O19: 280 | P19: 18 | Q19: 540 | R19: 18 | S19: 100 | T19: 18 | V19: 18 | W19: 620 | X19: 18 | Y19: 1600 | Z19: 18 | AA19: 1800 | AB19: 18 | AD19: 18
A20: 93 | B20: 16 | C20: 98 | D20: 17 | E20: 1111 | F20: 16 | G20: 2000 | H20: 16 | I20: 201 | J20: 16 | K20: 3391 | L20: 16 | M20: 4191 | N20: 16 | O20: 300 | P20: 19 | Q20: 560 | R20: 19 | T20: 19 | V20: 19 | W20: 660 | X20: 19 | Y20: 1800 | Z20: 19 | AA20: 1900 | AB20: 19 | AD20: 19
A21: 94 | B21: 15 | C21: 99 | D21: 17 | E21: 1130 | F21: 16 | G21: 2040 | H21: 16 | I21: 2250 | J21: 16 | K21: 3440 | L21: 16 | M21: 4240 | N21: 16 | O21: 320 | P21: 20 | Q21: 580 | R21: 20 | S21: 105 | T21: 20 | V21: 20 | W21: 700 | X21: 20 | Y21: 2000 | Z21: 20 | AA21: 2000 | AB21: 20 | AD21: 20
A22: 95 | B22: 15 | C22: 100 | D22: 17 | E22: 1131 | F22: 15 | G22: 2040 | H22: 15 | I22: 2251 | J22: 15 | K22: 3441 | L22: 15 | M22: 4241 | N22: 15 | O22: 340 | P22: 21 | Q22: 600 | R22: 21 | T22: 21 | V22: 21 | W22: 750 | X22: 21 | Y22: 2300 | Z22: 21 | AA22: 2100 | AB22: 21 | AD22: 21
A23: 96 | B23: 15 | C23: 101 | D23: 17 | E23: 1160 | F23: 15 | G23: 2080 | H23: 15 | I23: 2300 | J23: 15 | K23: 3490 | L23: 15 | M23: 4300 | N23: 15 | O23: 360 | P23: 22 | Q23: 620 | R23: 22 | S23: 110 | T23: 22 | V23: 22 | W23: 800 | X23: 22 | Y23: 2600 | Z23: 22 | AA23: 2200 | AB23: 22 | AD23: 22
A24: 97 | B24: 14 | C24: 102 | D24: 16 | E24: 1161 | F24: 14 | G24: 2080 | H24: 14 | I24: 2301 | J24: 14 | K24: 3491 | L24: 14 | M24: 4301 | N24: 14 | O24: 380 | P24: 23 | Q24: 640 | R24: 23 | S24: 115 | T24: 23 | V24: 23 | W24: 900 | X24: 23 | Y24: 2900 | Z24: 23 | AA24: 2300 | AB24: 23 | AD24: 23
A25: 98 | B25: 14 | C25: 103 | D25: 16 | E25: 1190 | F25: 14 | G25: 2120 | H25: 14 | I25: 2360 | J25: 14 | K25: 3540 | L25: 14 | M25: 4350 | N25: 14 | O25: 400 | P25: 24 | Q25: 660 | R25: 24 | S25: 120 | T25: 24 | V25: 24 | W25: 100 | X25: 24 | Y25: 3200 | Z25: 24 | AA25: 2400 | AB25: 24 | AD25: 24
A26: 99 | B26: 14 | C26: 104 | D26: 16 | E26: 1191 | F26: 13 | G26: 2120 | H26: 13 | I26: 2361 | J26: 13 | K26: 3541 | L26: 13 | M26: 4351 | N26: 13 | O26: 420 | P26: 25 | Q26: 680 | R26: 25 | S26: 125 | T26: 25 | V26: 25 | W26: 110 | X26: 25 | Y26: 3600 | Z26: 25 | AA26: 2500 | AB26: 25 | AD26: 25
A27: 100 | B27: 13 | C27: 105 | D27: 16 | E27: 1210 | F27: 13 | G27: 2180 | H27: 13 | I27: 2420 | J27: 13 | K27: 3590 | L27: 13 | M27: 4420 | N27: 13
A28: 101 | B28: 13 | C28: 106 | D28: 15 | E28: 1211 | F28: 12 | G28: 2181 | H28: 12 | I28: 2421 | J28: 12 | K28: 3591 | L28: 12 | M28: 4421 | N28: 12
A29: 102 | B29: 13 | C29: 107 | D29: 14 | E29: 1250 | F29: 12 | G29: 2240 | H29: 12 | I29: 2480 | J29: 12 | K29: 4050 | L29: 12 | M29: 4480 | N29: 12
A30: 103 | B30: 13 | C30: 108 | D30: 14 | E30: 1351 | F30: 11 | G30: 2241 | H30: 11 | I30: 2481 | J30: 11 | K30: 4051 | L30: 11 | M30: 4481 | N30: 11
A31: 104 | B31: 12 | C31: 109 | D31: 14 | E31: 1300 | F31: 11 | G31: 2300 | H31: 11 | I31: 2540 | J31: 11 | K31: 4100 | L31: 11 | M31: 4560 | N31: 11
A32: 105 | B32: 12 | C32: 110 | D32: 14 | E32: 1301 | F32: 10 | G32: 2301 | H32: 10 | I32: 2541 | J32: 10 | K32: 4101 | L32: 10 | M32: 4561 | N32: 10
A33: 106 | B33: 12 | C33: 111 | D33: 13 | E33: 1350 | F33: 10 | G33: 2360 | H33: 10 | I33: 3000 | J33: 10 | K33: 4170 | L33: 10 | M33: 5040 | N33: 10
A34: 107 | B34: 12 | C34: 112 | D34: 13 | E34: 1351 | F34: 9 | G34: 2361 | H34: 9 | I34: 3001 | J34: 9 | K34: 4171 | L34: 9 | M34: 5041 | N34: 9
A35: 108 | B35: 11 | C35: 113 | D35: 13 | E35: 1400 | F35: 9 | G35: 2420 | H35: 9 | I35: 3060 | J35: 9 | K35: 4240 | L35: 9 | M35: 5120 | N35: 9
A36: 109 | B36: 11 | C36: 114 | D36: 13 | E36: 1401 | F36: 8 | G36: 2421 | H36: 8 | I36: 3061 | J36: 8 | K36: 4241 | L36: 8 | M36: 5121 | N36: 8
A37: 110 | B37: 11 | C37: 115 | D37: 12 | E37: 1450 | F37: 8 | G37: 2480 | H37: 8 | I37: 3130 | J37: 8 | K37: 4310 | L37: 8 | M37: 5200 | N37: 8
A38: 111 | B38: 11 | C38: 116 | D38: 12 | E38: 1451 | F38: 7 | G38: 2481 | H38: 7 | I38: 3131 | J38: 7 | K38: 4311 | L38: 7 | M38: 5201 | N38: 7
... A51: 124 | B51: 8 | C51: 129 | D51: 9 | E51: 5000 | F51: 1 | G51: 7000 | H51: 1 | I51: 9000 | J51: 1 | K51: 12000 | L51: 1 | M51: 13000 | N51: 1
A52: 125 | B52: 8 | C52: 130 | D52: 9
...

Sheet Table Po
A1: 50 m | B1: PTS | C1: 60 m | D1: PTS | E1: 50 m H. | F1: PTS | G1: 120 m | H1: PTS | I1: 300 m | J1: PTS | K1: 500 m | L1: PTS | M1: 1000 m | N1: PTS | O1: 1 km marche | P1: PTS | Q1: Longueur | R1: PTS | S1: Triple saut | T1: PTS | U1: Hauteur | V1: PTS | W1: Perche | X1: PTS | Y1: Poids | Z1: PTS | AA1: Javelot | AB1: PTS | AC1: Disque | AD1: PTS | AE1: Ballonde | AF1: PTS
A2: 0 | B2: 25 | C2: 0 | D2: 25 | E2: 0 | F2: 25 | G2: 0 | H2: 25 | I2: 0 | J2: 25 | K2: 0 | L2: 25 | M2: 0 | N2: 25 | O2: 0 | P2: 25 | Q2: 0 | R2: 1 | S2: 0 | T2: 1 | U2: 0 | V2: 1 | W2: 0 | X2: 1 | Y2: 0 | Z2: 1 | AA2: 0 | AB2: 1 | AC2: 0 | AD2: 1 | AE2: 0 | AF2: 1
A3: 74 | B3: 25 | C3: 84 | D3: 25 | E3: 84 | F3: 25 | G3: 160 | H3: 25 | I3: 540 | J3: 25 | K3: 1300 | L3: 25 | M3: 3150 | N3: 25 | O3: 5500 | P3: 25 | Q3: 180 | R3: 2 | S3: 360 | T3: 2 | U3: 80 | V3: 2 | W3: 80 | X3: 2 | Y3: 300 | Z3: 2 | AA3: 500 | AB3: 2 | AC3: 500 | AD3: 2 | AE3: 400 | AF3: 2
E4: 85 | F4: 24 | G4: 161 | H4: 24 | I4: 541 | J4: 24 | K4: 1301 | L4: 24 | M4: 3151 | N4: 24 | O4: 5501 | P4: 24 | Q4: 200 | R4: 3 | S4: 380 | T4: 3 | V4: 3 | W4: 100 | X4: 3 | Y4: 320 | Z4: 3 | AA4: 550 | AB4: 3 | AC4: 550 | AD4: 3 | AE4: 450 | AF4: 3
A5: 75 | B5: 24 | C5: 85 | D5: 24 | E5: 86 | F5: 24 | G5: 164 | H5: 24 | I5: 550 | J5: 24 | K5: 1320 | L5: 24 | M5: 3200 | N5: 24 | O5: 5550 | P5: 24 | Q5: 210 | R5: 4 | S5: 400 | T5: 4 | V5: 4 | W5: 105 | X5: 4 | Y5: 340 | Z5: 4 | AA5: 600 | AB5: 4 | AC5: 600 | AD5: 4 | AE5: 500 | AF5: 4
E6: 87 | F6: 23 | G6: 165 | H6: 23 | I6: 551 | J6: 23 | K6: 1321 | L6: 23 | M6: 3201 | N6: 23 | O6: 5551 | P6: 23 | Q6: 220 | R6: 5 | S6: 420 | T6: 5 | U6: 85 | V6: 5 | W6: 110 | X6: 5 | Y6: 360 | Z6: 5 | AA6: 650 | AB6: 5 | AC6: 650 | AD6: 5 | AE6: 550 | AF6: 5
A7: 76 | B7: 23 | C7: 86 | D7: 23 | E7: 89 | F7: 23 | G7: 168 | H7: 23 | I7: 560 | J7: 23 | K7: 1340 | L7: 23 | M7: 3250 | N7: 23 | O7: 6000 | P7: 23 | Q7: 230 | R7: 6 | S7: 440 | T7: 6 | V7: 6 | W7: 115 | X7: 6 | Y7: 380 | Z7: 6 | AA7: 700 | AB7: 6 | AC7: 700 | AD7: 6 | AE7: 600 | AF7: 6
E8: 90 | F8: 22 | G8: 169 | H8: 22 | I8: 561 | J8: 22 | K8: 1341 | L8: 22 | M8: 3251 | N8: 22 | O8: 6001 | P8: 22 | Q8: 240 | R8: 7 | S8: 460 | T8: 7 | V8: 7 | W8: 120 | X8: 7 | Y8: 400 | Z8: 7 | AA8: 750 | AB8: 7 | AC8: 750 | AD8: 7 | AE8: 650 | AF8: 7
A9: 77 | B9: 22 | C9: 87 | D9: 22 | E9: 92 | F9: 22 | G9: 172 | H9: 22 | I9: 570 | J9: 22 | K9: 1360 | L9: 22 | M9: 3300 | N9: 22 | O9: 6050 | P9: 22 | Q9: 250 | R9: 8 | S9: 480 | T9: 8 | U9: 90 | V9: 8 | W9: 125 | X9: 8 | Y9: 420 | Z9: 8 | AA9: 800 | AB9: 8 | AC9: 800 | AD9: 8 | AE9: 700 | AF9: 8
E10: 93 | F10: 21 | G10: 173 | H10: 21 | I10: 571 | J10: 21 | K10: 1361 | L10: 21 | M10: 3301 | N10: 21 | O10: 6051 | P10: 21 | Q10: 260 | R10: 9 | S10: 500 | T10: 9 | V10: 9 | W10: 130 | X10: 9 | Y10: 440 | Z10: 9 | AA10: 850 | AB10: 9 | AC10: 850 | AD10: 9 | AE10: 750 | AF10: 9
A11: 78 | B11: 21 | C11: 88 | D11: 21 | E11: 95 | F11: 21 | G11: 176 | H11: 21 | I11: 580 | J11: 21 | K11: 1380 | L11: 21 | M11: 3350 | N11: 21 | O11: 6100 | P11: 21 | Q11: 270 | R11: 10 | S11: 520 | T11: 10 | V11: 10 | W11: 135 | X11: 10 | Y11: 460 | Z11: 10 | AA11: 900 | AB11: 10 | AC11: 900 | AD11: 10 | AE11: 800 | AF11: 10
E12: 96 | F12: 20 | G12: 177 | H12: 20 | I12: 581 | J12: 20 | K12: 1381 | L12: 20 | M12: 3351 | N12: 20 | O12: 6101 | P12: 20 | Q12: 280 | R12: 11 | S12: 540 | T12: 11 | U12: 95 | V12: 11 | W12: 140 | X12: 11 | Y12: 480 | Z12: 11 | AA12: 950 | AB12: 11 | AC12: 950 | AD12: 11 | AE12: 850 | AF12: 11
A13: 79 | B13: 20 | C13: 89 | D13: 20 | E13: 98 | F13: 20 | G13: 180 | H13: 20 | I13: 590 | J13: 20 | K13: 1400 | L13: 20 | M13: 3400 | N13: 20 | O13: 6150 | P13: 20 | Q13: 290 | R13: 12 | S13: 560 | T13: 12 | V13: 12 | W13: 145 | X13: 12 | Y13: 500 | Z13: 12 | AA13: 1000 | AB13: 12 | AC13: 1000 | AD13: 12 | AE13: 900 | AF13: 12
E14: 99 | F14: 19 | G14: 181 | H14: 19 | I14: 591 | J14: 19 | K14: 1401 | L14: 19 | M14: 3401 | N14: 19 | O14: 6151 | P14: 19 | Q14: 300 | R14: 13 | S14: 580 | T14: 13 | V14: 13 | W14: 150 | X14: 13 | Y14: 520 | Z14: 13 | AA14: 1100 | AB14: 13 | AC14: 1100 | AD14: 13 | AE14: 950 | AF14: 13
A15: 80 | B15: 19 | C15: 90 | D15: 19 | E15: 102 | F15: 19 | G15: 185 | H15: 19 | I15: 1000 | J15: 19 | K15: 1430 | L15: 19 | M15: 3450 | N15: 19 | O15: 6220 | P15: 19 | Q15: 310 | R15: 14 | S15: 600 | T15: 14 | U15: 100 | V15: 14 | W15: 155 | X15: 14 | Y15: 540 | Z15: 14 | AA15: 1200 | AB15: 14 | AC15: 1200 | AD15: 14 | AE15: 1000 | AF15: 14
C16: 91 | D16: 18 | E16: 103 | F16: 18 | G16: 186 | H16: 18 | I16: 1001 | J16: 18 | K16: 1431 | L16: 18 | M16: 3451 | N16: 18 | O16: 6221 | P16: 18 | Q16: 320 | R16: 15 | S16: 620 | T16: 15 | V16: 15 | W16: 160 | X16: 15 | Y16: 560 | Z16: 15 | AA16: 1300 | AB16: 15 | AC16: 1300 | AD16: 15 | AE16: 1100 | AF16: 15
A17: 81 | B17: 18 | C17: 92 | D17: 18 | E17: 106 | F17: 18 | G17: 190 | H17: 18 | I17: 1020 | J17: 18 | K17: 1460 | L17: 18 | M17: 3500 | N17: 18 | O17: 6290 | P17: 18 | Q17: 330 | R17: 16 | S17: 640 | T17: 16 | U17: 105 | V17: 16 | W17: 165 | X17: 16 | Y17: 580 | Z17: 16 | AA17: 1400 | AB17: 16 | AC17: 1400 | AD17: 16 | AE17: 1200 | AF17: 16
A18: 82 | B18: 17 | C18: 93 | D18: 17 | E18: 107 | F18: 17 | G18: 191 | H18: 17 | I18: 1021 | J18: 17 | K18: 1461 | L18: 17 | M18: 3501 | N18: 17 | O18: 6291 | P18: 17 | Q18: 340 | R18: 17 | S18: 660 | T18: 17 | V18: 17 | W18: 170 | X18: 17 | Y18: 600 | Z18: 17 | AA18: 1500 | AB18: 17 | AC18: 1500 | AD18: 17 | AE18: 1400 | AF18: 17
A19: 83 | B19: 17 | C19: 94 | D19: 17 | E19: 110 | F19: 17 | G19: 195 | H19: 17 | I19: 1040 | J19: 17 | K19: 1490 | L19: 17 | M19: 3550 | N19: 17 | O19: 6360 | P19: 17 | Q19: 350 | R19: 18 | S19: 680 | T19: 18 | U19: 110 | V19: 18 | W19: 175 | X19: 18 | Y19: 620 | Z19: 18 | AA19: 1600 | AB19: 18 | AC19: 1600 | AD19: 18 | AE19: 1600 | AF19: 18
A20: 84 | B20: 16 | C20: 95 | D20: 16 | E20: 111 | F20: 16 | G20: 196 | H20: 16 | I20: 1041 | J20: 16 | K20: 1491 | L20: 16 | M20: 3551 | N20: 16 | O20: 6361 | P20: 16 | Q20: 360 | R20: 19 | S20: 700 | T20: 19 | V20: 19 | W20: 180 | X20: 19 | Y20: 640 | Z20: 19 | AA20: 1700 | AB20: 19 | AC20: 1700 | AD20: 19 | AE20: 1800 | AF20: 19
A21: 85 | B21: 16 | C21: 96 | D21: 16 | E21: 114 | F21: 16 | G21: 200 | H21: 16 | I21: 1060 | J21: 16 | K21: 1520 | L21: 16 | M21: 4000 | N21: 16 | O21: 6430 | P21: 16 | Q21: 370 | R21: 20 | S21: 725 | T21: 20 | U21: 115 | V21: 20 | W21: 190 | X21: 20 | Y21: 670 | Z21: 20 | AA21: 1800 | AB21: 20 | AC21: 1800 | AD21: 20 | AE21: 2000 | AF21: 20
A22: 86 | B22: 15 | C22: 97 | D22: 15 | E22: 115 | F22: 15 | G22: 201 | H22: 15 | I22: 1061 | J22: 15 | K22: 1521 | L22: 15 | M22: 4001 | N22: 15 | O22: 6431 | P22: 15 | Q22: 380 | R22: 21 | S22: 750 | T22: 21 | V22: 21 | W22: 200 | X22: 21 | Y22: 700 | Z22: 21 | AA22: 2000 | AB22: 21 | AC22: 2000 | AD22: 21 | AE22: 2200 | AF22: 21
A23: 87 | B23: 15 | C23: 98 | D23: 15 | E23: 118 | F23: 15 | G23: 205 | H23: 15 | I23: 1080 | J23: 15 | K23: 1550 | L23: 15 | M23: 4050 | N23: 15 | O23: 6500 | P23: 15 | Q23: 390 | R23: 22 | S23: 775 | T23: 22 | U23: 120 | V23: 22 | W23: 220 | X23: 22 | Y23: 750 | Z23: 22 | AA23: 2200 | AB23: 22 | AC23: 2200 | AD23: 22 | AE23: 2400 | AF23: 22
A24: 88 | B24: 14 | C24: 99 | D24: 14 | E24: 119 | F24: 14 | G24: 206 | H24: 14 | I24: 1081 | J24: 14 | K24: 1551 | L24: 14 | M24: 4051 | N24: 14 | O24: 6501 | P24: 14 | Q24: 400 | R24: 23 | S24: 800 | T24: 23 | U24: 125 | V24: 23 | W24: 240 | X24: 23 | Y24: 800 | Z24: 23 | AA24: 2400 | AB24: 23 | AC24: 2400 | AD24: 23 | AE24: 2600 | AF24: 23
A25: 89 | B25: 14 | C25: 100 | D25: 14 | E25: 122 | F25: 14 | G25: 210 | H25: 14 | I25: 1100 | J25: 14 | K25: 1580 | L25: 14 | M25: 4100 | N25: 14 | O25: 6570 | P25: 14 | Q25: 420 | R25: 24 | S25: 850 | T25: 24 | U25: 130 | V25: 24 | W25: 260 | X25: 24 | Y25: 850 | Z25: 24 | AA25: 2700 | AB25: 24 | AC25: 2600 | AD25: 24 | AE25: 2700 | AF25: 24
A26: 90 | B26: 13 | C26: 101 | D26: 13 | E26: 123 | F26: 13 | G26: 211 | H26: 13 | I26: 1101 | J26: 13 | K26: 1581 | L26: 13 | M26: 4101 | N26: 13 | O26: 6571 | P26: 13 | Q26: 440 | R26: 25 | S26: 950 | T26: 25 | U26: 135 | V26: 25 | W26: 280 | X26: 25 | Y26: 950 | Z26: 25 | AA26: 3000 | AB26: 25 | AC26: 2800 | AD26: 25 | AE26: 2900 | AF26: 25
A27: 91 | B27: 13 | C27: 102 | D27: 13 | E27: 126 | F27: 13 | G27: 215 | H27: 13 | I27: 1120 | J27: 13 | K27: 2020 | L27: 13 | M27: 4160 | N27: 13 | O27: 7040 | P27: 13
A28: 92 | B28: 12 | C28: 103 | D28: 12 | E28: 127 | F28: 12 | G28: 216 | H28: 12 | I28: 1121 | J28: 12 | K28: 2021 | L28: 12 | M28: 4161 | N28: 12 | O28: 7041 | P28: 12
A29: 94 | B29: 12 | C29: 105 | D29: 12 | E29: 130 | F29: 12 | G29: 220 | H29: 12 | I29: 1140 | J29: 12 | K29: 2060 | L29: 12 | M29: 4220 | N29: 12 | O29: 7120 | P29: 12
A30: 95 | B30: 11 | C30: 106 | D30: 11 | E30: 131 | F30: 11 | G30: 221 | H30: 11 | I30: 1141 | J30: 11 | K30: 2061 | L30: 11 | M30: 4221 | N30: 11 | O30: 7121 | P30: 11
A31: 97 | B31: 11 | C31: 108 | D31: 11 | E31: 134 | F31: 11 | G31: 225 | H31: 11 | I31: 1160 | J31: 11 | K31: 2100 | L31: 11 | M31: 4300 | N31: 11 | O31: 7200 | P31: 11
A32: 98 | B32: 10 | C32: 109 | D32: 10 | E32: 135 | F32: 10 | G32: 226 | H32: 10 | I32: 1161 | J32: 10 | K32: 2101 | L32: 10 | M32: 4301 | N32: 10 | O32: 7201 | P32: 10
A33: 100 | B33: 10 | C33: 111 | D33: 10 | E33: 138 | F33: 10 | G33: 232 | H33: 10 | I33: 1180 | J33: 10 | K33: 2150 | L33: 10 | M33: 4380 | N33: 10 | O33: 7280 | P33: 10
A34: 101 | B34: 9 | C34: 112 | D34: 9 | E34: 139 | F34: 9 | G34: 233 | H34: 9 | I34: 1181 | J34: 9 | K34: 2151 | L34: 9 | M34: 4381 | N34: 9 | O34: 7281 | P34: 9
A35: 103 | B35: 9 | C35: 114 | D35: 9 | E35: 142 | F35: 9 | G35: 239 | H35: 9 | I35: 1200 | J35: 9 | K35: 2200 | L35: 9 | M35: 4460 | N35: 9 | O35: 7360 | P35: 9
A36: 104 | B36: 8 | C36: 115 | D36: 8 | E36: 143 | F36: 8 | G36: 240 | H36: 8 | I36: 1201 | J36: 8 | K36: 2201 | L36: 8 | M36: 4461 | N36: 8 | O36: 7361 | P36: 8
A37: 106 | B37: 8 | C37: 118 | D37: 8 | E37: 146 | F37: 8 | G37: 246 | H37: 8 | I37: 1230 | J37: 8 | K37: 2250 | L37: 8 | M37: 4540 | N37: 8 | O37: 7440 | P37: 8
A38: 107 | B38: 7 | C38: 119 | D38: 7 | E38: 147 | F38: 7 | G38: 247 | H38: 7 | I38: 1231 | J38: 7 | K38: 2251 | L38: 7 | M38: 4541 | N38: 7 | O38: 7441 | P38: 7
... A50: 127 | B50: 1 | C50: 146 | D50: 1 | E50: 171 | F50: 2 | G50: 289 | H50: 1 | I50: 1411 | J50: 1 | K50: 2551 | L50: 1 | M50: 5501 | N50: 1 | O50: 8401 | P50: 1
A51: 50 m | B51: PTS | C51: 60 m | D51: PTS | E51: 50 m H. | F51: PTS | G51: 120 m | H51: PTS | I51: 300 m | J51: PTS | K51: 500 m | L51: PTS | M51: 1000 m | N51: PTS | O51: 1 km marche | P51: PTS

Sheet Table BeF
A1: 50 m | B1: PTS | C1: 60 m | D1: PTS | E1: 50 m H. | F1: PTS | G1: 120 m | H1: PTS | I1: 300 m | J1: PTS | K1: 500 m | L1: PTS | M1: 1000 m | N1: PTS | O1: 2000 m | P1: PTS | Q1: 1 km marche | R1: PTS | S1: 2 km marche | T1: PTS | U1: LONGUEUR | V1: PTS | W1: T.S. | X1: PTS | Y1: HAUTEUR | Z1: PTS | AA1: PERCHE | AB1: PTS | AC1: POIDS | AD1: PTS | AE1: DISQUE | AF1: PTS | AG1: JAVELOT | AH1: PTS | AI1: MARTEAU | AJ1: PTS
A2: 0 | B2: 25 | C2: 0 | D2: 25 | E2: 0 | F2: 25 | G2: 0 | H2: 25 | I2: 0 | J2: 25 | K2: 0 | L2: 25 | M2: 0 | N2: 25 | O2: 0 | P2: 25 | Q2: 0 | R2: 25 | S2: 0 | T2: 25 | U2: 0 | V2: 1 | W2: 0 | X2: 1 | Y2: 0 | Z2: 1 | AA2: 0 | AB2: 1 | AC2: 0 | AD2: 1 | AE2: 0 | AF2: 1 | AG2: 0 | AH2: 1 | AI2: 0 | AJ2: 1
A3: 68 | B3: 25 | C3: 79 | D3: 25 | E3: 87 | F3: 25 | G3: 154 | H3: 25 | I3: 470 | J3: 25 | K3: 1240 | L3: 25 | M3: 3050 | N3: 25 | O3: 7000 | P3: 25 | Q3: 5500 | R3: 25 | S3: 11300 | T3: 25 | U3: 250 | V3: 2 | W3: 500 | X3: 2 | Y3: 80 | Z3: 2 | AA3: 100 | AB3: 2 | AC3: 450 | AD3: 2 | AE3: 200 | AF3: 2 | AG3: 500 | AH3: 2 | AI3: 300 | AJ3: 2
