Workbook
Name _ACC93: 'RELAIS T1'!$L$3
Name AB: 'RELAIS T1'!$J$3
Name ABDO: 'RELAIS T1'!$I$3
Name ACB: 'RELAIS T1'!$K$3
Name ACB_4: POINTS!#REF!
Name ACB_4_10: POINTS!#REF!
Name ACB_4_12: POINTS!#REF!
Name ACB_4_14: POINTS!#REF!
Name ACB_4_16: POINTS!#REF!
Name ACB_4_2: POINTS!#REF!
Name ACB_4_22: POINTS!#REF!
Name ACB_4_3: 'Total Points T1 T2'!#REF!
Name ACB_4_5: 'POINTS T2'!#REF!
Name ACB_4_8: POINTS!#REF!
Name ACB_5: #REF!
Name ASGB: 'RELAIS T1'!$M$3
Name AUVERS: 'RELAIS T1'!$H$4
Name BF_1_km_marche: 'Table BeF'!$Q:$R
Name BF_1000_m: 'Table BeF'!$M:$N
Name BF_120_m: 'Table BeF'!$G:$H
Name BF_2_km_marche: 'Table BeF'!$S:$T
Name BF_2000_m: 'Table BeF'!$O:$P
Name BF_300_m: 'Table BeF'!$I:$J
Name BF_50_m: 'Table BeF'!$A:$B
Name BF_50_m_H_: 'Table BeF'!$E:$F
Name BF_500_m: 'Table BeF'!$K:$L
Name BF_60_m: 'Table BeF'!$C:$D
Name BF_DISQUE: 'Table BeF'!$AE:$AF
Name BF_HAUTEUR: 'Table BeF'!$Y:$Z
Name BF_JAVELOT: 'Table BeF'!$AG:$AH
Name BF_LONGUEUR: 'Table BeF'!$U:$V
Name BF_MARTEAU: 'Table BeF'!$AI:$AJ
Name BF_PERCHE: 'Table BeF'!$AA:$AB
Name BF_POIDS: 'Table BeF'!$AC:$AD
Name BF_T_S_: 'Table BeF'!$W:$X
Name BM_1_km_marche: 'Table BeM'!$S:$T
Name BM_1000_m: 'Table BeM'!$O:$P
Name BM_120_m: 'Table BeM'!$I:$J
Name BM_2_km_marche: 'Table BeM'!$U:$V
Name BM_2000_m: 'Table BeM'!$Q:$R
Name BM_300_m: 'Table BeM'!$K:$L
Name BM_50_m: 'Table BeM'!$A:$B
Name BM_50_m_H_: 'Table BeM'!$E:$F
Name BM_500_m: 'Table BeM'!$M:$N
Name BM_60_m: 'Table BeM'!$C:$D
Name BM_80_m_H_: 'Table BeM'!$G:$H
Name BM_DISQUE: 'Table BeM'!$AG:$AH
Name BM_HAUTEUR: 'Table BeM'!$AA:$AB
Name BM_JAVELOT: 'Table BeM'!$AI:$AJ
Name BM_LONGUEUR: 'Table BeM'!$W:$X
Name BM_MARTEAU: 'Table BeM'!$AK:$AL
Name BM_PERCHE: 'Table BeM'!$AC:$AD
Name BM_POIDS: 'Table BeM'!$AE:$AF
Name BM_T_S_: 'Table BeM'!$Y:$Z
Name BMSA: 'RELAIS T1'!$N$3
Name CMA: 'RELAIS T1'!$O$3
Name COMA: 'RELAIS T1'!$P$3
Name CSB: 'RELAIS T1'!$Q$3
Name ESCXV: 'RELAIS T1'!$R$3
Name ESS: 'RELAIS T1'!$S$3

Sheet Jury
B2: CHALLENGE REGIONAL
B3: AUGUSTE DELAUNE
B4: ADULTES (Tour 2)
B6: Saint-Denis - 7 juin 2019
A9: OFFICIELS
A10: FONCTION | B10: NOM | C10: PRENOM | D10: CLUB
A12: DIRECTEUR DE REUNION | B12: BLANCHARD | C12: LUC | D12: SDUS
A13: JUGE ARBITRE | B13: COLOMBI | C13: BRUNO | D13: SDUS
A14: RESPONSABLE MATERIEL | B14: COLOMBI | C14: BRUNO | D14: SDUS
A16: STARTER | B16: DUVAL | C16: MARIE COLOMBE | D16: COMA
A17: CHRONOMETREUR | B17: GILLOT | C17: JACQUES | D17: ABDO
A18: CHRONOMETREUR | B18: RACHIDI | C18: MALIK | D18: USMA
A19: JUGE D'ARRIVEE | B19: BLANCHARD | C19: LUC | D19: SDUS
A20: JUGE D'ARRIVEE
A21: COMMISSAIRE DE COURSE | B21: MELCHIOR | C21: MELVIN | D21: SDUS
A22: COMMISSAIRE DE COURSE | B22: DIALLO | C22: ABDOURAMANE | D22: SDUS
A23: COMMISSAIRE DE COURSE | B23: LOUIS-CALIXTE | C23: ARTHUR | D23: SDUS
A25: TRIPLE SAUT | B25: GARNIER | C25: JEAN-JACQUES | D25: CMA
A26: TRIPLE SAUT | B26: SENECHAL | C26: ADELE | D26: SDUS
A27: TRIPLE SAUT | B27: LENDO | C27: PIERRE | D27: SDUS
A29: MARTEAU | B29: RENAUDIN | C29: PHILIPPE | D29: ASGB
A30: MARTEAU | B30: FEUILLARD | C30: JOHAN | D30: SDUS
A31: MARTEAU
A33: JAVELOT | B33: PICOT | C33: FLORENCE | D33: BMSA
A34: JAVELOT | B34: OURMIAH | C34: MAYLEEN | D34: SDUS
A35: JAVELOT | B35: FELIP | C35: CEDRIC | D35: SDUS
A37: PERCHE | B37: Annulé / météo
A38: PERCHE

Sheet Total Points T1 T2
A1: CLASSEMENT GENERAL
B3: ABDO | C3: ACB | D3: ASGB | E3: BMSA | F3: CAR | G3: CMA | H3: ACMA | I3: COMA | J3: CSB | K3: ESV | L3: ESCXV | M3: ESS | N3: NLSA | O3: SDUS | P3: TAC | Q3: MASC | R3: USI | S3: USMA | T3: US MERY
A4: 1er Tour | H4: =(POINTS!H16) -> #REF! | I4: =(POINTS!I16) -> #REF! | M4: =(POINTS!M16) -> #REF! | P4: =(POINTS!P16) -> #REF! | R4: =(POINTS!R16) -> #REF! | S4: =(POINTS!S16) -> #REF! | T4: =(POINTS!T16) -> #REF!
A5: 2ème Tour | C5: =('POINTS T2'!C15) -> #REF! | F5: =('POINTS T2'!F15) -> #REF! | G5: =('POINTS T2'!G15) -> #REF! | H5: =('POINTS T2'!H15) -> #REF! | I5: =('POINTS T2'!I15) -> #REF! | J5: =('POINTS T2'!J15) -> #REF! | L5: =('POINTS T2'!L15) -> #REF! | N5: =('POINTS T2'!N15) -> #REF! | Q5: =('POINTS T2'!Q15) -> #REF! | S5: =('POINTS T2'!S15) -> #REF! | T5: =('POINTS T2'!T15) -> #REF!
A6: Total | B6: =SUM(B4:B5) -> 0 | C6: =SUM(C4:C5) -> #REF! | D6: =SUM(D4:D5) -> 0 | E6: =SUM(E4:E5) -> 0 | F6: =SUM(F4:F5) -> #REF! | G6: =SUM(G4:G5) -> #REF! | H6: =SUM(H4:H5) -> #REF! | I6: =SUM(I4:I5) -> #REF! | ... T6: =SUM(T4:T5) -> #REF!
A7: Place | B7: 1 | C7: 9 | D7: 4 | E7: 2 | F7: 7 | G7: 14 | H7: 13 | I7: 16 | J7: 11 | K7: 5 | L7: 15 | M7: 12 | N7: 6 | O7: 3 | P7: 8 | Q7: 19 | R7: 10 | S7: 17 | T7: 18
A11: NOMBRE DE PARTICIPANTS SUR LES DEUX TOURS
A13: =A3 -> 0 | B13: =B3 -> ABDO | C13: =C3 -> ACB | D13: =D3 -> ASGB | E13: =E3 -> BMSA | F13: CAR | G13: CMA | H13: =H3 -> ACMA | I13: =I3 -> COMA | J13: CSB | K13: =K3 -> ESV | L13: =L3 -> ESCXV | M13: =M3 -> ESS | N13: =N3 -> NLSA | O13: =O3 -> SDUS | P13: =P3 -> TAC | Q13: =Q3 -> MASC | R13: USI | S13: =S3 -> USMA | T13: =T3 -> US MERY | U13: TOTAL
A14: Minimes F | U14: =SUM(B14:T14) -> 0
A15: Minimes M | U15: =SUM(B15:T15) -> 0
A16: Cadettes | U16: =SUM(B16:T16) -> 0
A17: Cadets | U17: =SUM(B17:T17) -> 0
A18: Femmes | U18: =SUM(B18:T18) -> 0
A19: Hommes | U19: =SUM(B19:T19) -> 0
A20: TOTAL | B20: =SUM(B14:B19) -> 0 | C20: =SUM(C14:C19) -> 0 | D20: =SUM(D14:D19) -> 0 | E20: =SUM(E14:E19) -> 0 | F20: =SUM(F14:F19) -> 0 | G20: =SUM(G14:G19) -> 0 | H20: =SUM(H14:H19) -> 0 | I20: =SUM(I14:I19) -> 0 | ... T20: =SUM(T14:T19) -> 0 | U20: =SUM(B20:T20) -> 0

Sheet POINTS
A1: CLASSEMENT 1er TOUR
B3: ABDO | C3: MASC | D3: ASGB | E3: BMSA | F3: VMA | G3: CMA | H3: ACMA | I3: COMA | J3: CSB | K3: ESV | L3: ESCXV | M3: ESS | N3: NLSA | O3: SDUS | P3: TAC | Q3: MASC | R3: USI | S3: USMA | T3: n
A4: Relais | B4: ='RELAIS T1'!I30 -> 0 | C4: ='RELAIS T1'!J30 -> 0 | D4: ='RELAIS T1'!K30 -> 0 | E4: ='RELAIS T1'!L30 -> 0 | F4: ='RELAIS T1'!M30 -> 0 | G4: ='RELAIS T1'!N30 -> 0 | H4: ='RELAIS T1'!O30 -> 0 | I4: ='RELAIS T1'!P30 -> 0 | ... T4: ='RELAIS T1'!AA30 -> 0
A6: Minimes F | B6: =#REF! -> #REF! | C6: =#REF! -> #REF! | D6: =#REF! -> #REF! | E6: =#REF! -> #REF! | F6: =#REF! -> #REF! | G6: =#REF! -> #REF! | H6: =#REF! -> #REF! | I6: =#REF! -> #REF! | ... T6: =#REF! -> #REF!
A7: Minimes M | B7: =#REF! -> #REF! | C7: =#REF! -> #REF! | D7: =#REF! -> #REF! | E7: =#REF! -> #REF! | F7: =#REF! -> #REF! | G7: =#REF! -> #REF! | H7: =#REF! -> #REF! | I7: =#REF! -> #REF! | ... T7: =#REF! -> #REF!
A8: Cadettes | B8: =#REF! -> #REF! | C8: =#REF! -> #REF! | D8: =#REF! -> #REF! | E8: =#REF! -> #REF! | F8: =#REF! -> #REF! | G8: =#REF! -> #REF! | H8: =#REF! -> #REF! | I8: =#REF! -> #REF! | ... T8: =#REF! -> #REF!
A9: Cadets | B9: =#REF! -> #REF! | C9: =#REF! -> #REF! | D9: =#REF! -> #REF! | E9: =#REF! -> #REF! | F9: =#REF! -> #REF! | G9: =#REF! -> #REF! | H9: =#REF! -> #REF! | I9: =#REF! -> #REF! | ... T9: =#REF! -> #REF!
A10: S/Total | B10: =SUM(B6:B9) -> #REF! | C10: =SUM(C6:C9) -> #REF! | D10: =SUM(D6:D9) -> #REF! | E10: =SUM(E6:E9) -> #REF! | F10: =SUM(F6:F9) -> #REF! | G10: =SUM(G6:G9) -> #REF! | H10: =SUM(H6:H9) -> #REF! | I10: =SUM(I6:I9) -> #REF! | ... T10: =SUM(T6:T9) -> #REF!
A12: Femmes | B12: =#REF! -> #REF! | C12: =#REF! -> #REF! | D12: =#REF! -> #REF! | E12: =#REF! -> #REF! | F12: =#REF! -> #REF! | G12: =#REF! -> #REF! | H12: =#REF! -> #REF! | I12: =#REF! -> #REF! | ... T12: =#REF! -> #REF!
A13: Hommes | B13: =#REF! -> #REF! | C13: =#REF! -> #REF! | D13: =#REF! -> #REF! | E13: =#REF! -> #REF! | F13: =#REF! -> #REF! | G13: =#REF! -> #REF! | H13: =#REF! -> #REF! | I13: =#REF! -> #REF! | ... T13: =#REF! -> #REF!
A14: S/Total | B14: =SUM(B12:B13) -> #REF! | C14: =SUM(C12:C13) -> #REF! | D14: =SUM(D12:D13) -> #REF! | E14: =SUM(E12:E13) -> #REF! | F14: =SUM(F12:F13) -> #REF! | G14: =SUM(G12:G13) -> #REF! | H14: =SUM(H12:H13) -> #REF! | I14: =SUM(I12:I13) -> #REF! | ... T14: =SUM(T12:T13) -> #REF!
A16: total 1er tour | B16: =SUM(B10,B14,B4) -> #REF! | C16: =SUM(C10,C14,C4) -> #REF! | D16: =SUM(D10,D14,D4) -> #REF! | E16: =SUM(E10,E14,E4) -> #REF! | F16: =SUM(F10,F14,F4) -> #REF! | G16: =SUM(G10,G14,G4) -> #REF! | H16: =SUM(H10,H14,H4) -> #REF! | I16: =SUM(I10,I14,I4) -> #REF! | ... T16: =SUM(T10,T14,T4) -> #REF!
A17: PLACES | B17: 8 | D17: 5 | E17: 2 | F17: 13 | G17: 14 | H17: 9 | I17: 17 | J17: 7 | K17: 3 | L17: 4 | M17: 12 | N17: 11 | O17: 1 | P17: 6 | Q17: 16 | S17: 10 | T17: 15
A20: NOMBRE DE PARTICIPANTS
A22: =A3 -> 0 | B22: =B3 -> ABDO | C22: =C3 -> MASC | D22: =D3 -> ASGB | E22: =E3 -> BMSA | F22: CAR | G22: =G3 -> CMA | H22: ACMA | I22: =I3 -> COMA | J22: CSB | K22: =K3 -> ESV | L22: =L3 -> ESCXV | M22: =M3 -> ESS | N22: =N3 -> NLSA | O22: =O3 -> SDUS | P22: =P3 -> TAC | Q22: =Q3 -> MASC | R22: USI | S22: =S3 -> USMA | T22: =T3 -> n | U22: TOTAL
A23: Minimes F | B23: =#REF! -> #REF! | C23: =#REF! -> #REF! | D23: =#REF! -> #REF! | E23: =#REF! -> #REF! | F23: =#REF! -> #REF! | G23: =#REF! -> #REF! | H23: =#REF! -> #REF! | I23: =#REF! -> #REF! | ... T23: =#REF! -> #REF! | U23: =SUM(B23:T23) -> #REF!
A24: Minimes M | B24: =#REF! -> #REF! | C24: =#REF! -> #REF! | D24: =#REF! -> #REF! | E24: =#REF! -> #REF! | F24: =#REF! -> #REF! | G24: =#REF! -> #REF! | H24: =#REF! -> #REF! | I24: =#REF! -> #REF! | ... T24: =#REF! -> #REF! | U24: =SUM(B24:T24) -> #REF!
A25: Cadettes | B25: =#REF! -> #REF! | C25: =#REF! -> #REF! | D25: =#REF! -> #REF! | E25: =#REF! -> #REF! | F25: =#REF! -> #REF! | G25: =#REF! -> #REF! | H25: =#REF! -> #REF! | I25: =#REF! -> #REF! | ... T25: =#REF! -> #REF! | U25: =SUM(B25:T25) -> #REF!
A26: Cadets | B26: =#REF! -> #REF! | C26: =#REF! -> #REF! | D26: =#REF! -> #REF! | E26: =#REF! -> #REF! | F26: =#REF! -> #REF! | G26: =#REF! -> #REF! | H26: =#REF! -> #REF! | I26: =#REF! -> #REF! | ... T26: =#REF! -> #REF! | U26: =SUM(B26:T26) -> #REF!
A27: Femmes | B27: =#REF! -> #REF! | C27: =#REF! -> #REF! | D27: =#REF! -> #REF! | E27: =#REF! -> #REF! | F27: =#REF! -> #REF! | G27: =#REF! -> #REF! | H27: =#REF! -> #REF! | I27: =#REF! -> #REF! | ... T27: =#REF! -> #REF! | U27: =SUM(B27:T27) -> #REF!
A28: Hommes | B28: =#REF! -> #REF! | C28: =#REF! -> #REF! | D28: =#REF! -> #REF! | E28: =#REF! -> #REF! | F28: =#REF! -> #REF! | G28: =#REF! -> #REF! | H28: =#REF! -> #REF! | I28: =#REF! -> #REF! | ... T28: =#REF! -> #REF! | U28: =SUM(B28:T28) -> #REF!
A29: TOTAL | B29: =SUM(B23:B28) -> #REF! | C29: =SUM(C23:C28) -> #REF! | D29: =SUM(D23:D28) -> #REF! | E29: =SUM(E23:E28) -> #REF! | F29: =SUM(F23:F28) -> #REF! | G29: =SUM(G23:G28) -> #REF! | H29: =SUM(H23:H28) -> #REF! | I29: =SUM(I23:I28) -> #REF! | ... T29: =SUM(T23:T28) -> #REF! | U29: =SUM(B29:T29) -> #REF!
A38: CLASSEMENT 2ème TOUR
B41: =B3 -> ABDO | C41: =C3 -> MASC | D41: =D3 -> ASGB | E41: =E3 -> BMSA | F41: =F3 -> VMA | G41: =G3 -> CMA | H41: =H3 -> ACMA | I41: =I3 -> COMA | ... T41: =T3 -> n
A42: Relais | B42: =#REF! -> #REF! | C42: =#REF! -> #REF! | D42: =#REF! -> #REF! | E42: =#REF! -> #REF! | F42: =#REF! -> #REF! | G42: =#REF! -> #REF! | H42: =#REF! -> #REF! | I42: =#REF! -> #REF! | ... T42: =#REF! -> #REF!
A44: Minimes F | B44: =#REF! -> #REF! | C44: =#REF! -> #REF! | D44: =#REF! -> #REF! | E44: =#REF! -> #REF! | F44: =#REF! -> #REF! | G44: =#REF! -> #REF! | H44: =#REF! -> #REF! | I44: =#REF! -> #REF! | ... T44: =#REF! -> #REF!
A45: Minimes M | B45: =#REF! -> #REF! | C45: =#REF! -> #REF! | D45: =#REF! -> #REF! | E45: =#REF! -> #REF! | F45: =#REF! -> #REF! | G45: =#REF! -> #REF! | H45: =#REF! -> #REF! | I45: =#REF! -> #REF! | ... T45: =#REF! -> #REF!
A46: Cadettes | B46: =#REF! -> #REF! | C46: =#REF! -> #REF! | D46: =#REF! -> #REF! | E46: =#REF! -> #REF! | F46: =#REF! -> #REF! | G46: =#REF! -> #REF! | H46: =#REF! -> #REF! | I46: =#REF! -> #REF! | ... T46: =#REF! -> #REF!
A47: Cadets | B47: =#REF! -> #REF! | C47: =#REF! -> #REF! | D47: =#REF! -> #REF! | E47: =#REF! -> #REF! | F47: =#REF! -> #REF! | G47: =#REF! -> #REF! | H47: =#REF! -> #REF! | I47: =#REF! -> #REF! | ... T47: =#REF! -> #REF!
A48: S/Total | B48: =SUM(B44:B47) -> #REF! | C48: =SUM(C44:C47) -> #REF! | D48: =SUM(D44:D47) -> #REF! | E48: =SUM(E44:E47) -> #REF! | F48: =SUM(F44:F47) -> #REF! | G48: =SUM(G44:G47) -> #REF! | H48: =SUM(H44:H47) -> #REF! | I48: =SUM(I44:I47) -> #REF! | ... T48: =SUM(T44:T47) -> #REF!
A50: Femmes | B50: =#REF! -> #REF! | C50: =#REF! -> #REF! | D50: =#REF! -> #REF! | E50: =#REF! -> #REF! | F50: =#REF! -> #REF! | G50: =#REF! -> #REF! | H50: =#REF! -> #REF! | I50: =#REF! -> #REF! | ... T50: =#REF! -> #REF!
A51: Hommes | B51: =#REF! -> #REF! | C51: =#REF! -> #REF! | D51: =#REF! -> #REF! | E51: =#REF! -> #REF! | F51: =#REF! -> #REF! | G51: =#REF! -> #REF! | H51: =#REF! -> #REF! | I51: =#REF! -> #REF! | ... T51: =#REF! -> #REF!
A52: S/Total | B52: =SUM(B50:B51) -> #REF! | C52: =SUM(C50:C51) -> #REF! | D52: =SUM(D50:D51) -> #REF! | E52: =SUM(E50:E51) -> #REF! | F52: =SUM(F50:F51) -> #REF! | G52: =SUM(G50:G51) -> #REF! | H52: =SUM(H50:H51) -> #REF! | I52: =SUM(I50:I51) -> #REF! | ... T52: =SUM(T50:T51) -> #REF!
A54: total 1er tour | B54: =SUM(B48,B52,B42) -> #REF! | C54: =SUM(C48,C52,C42) -> #REF! | D54: =SUM(D48,D52,D42) -> #REF! | E54: =SUM(E48,E52,E42) -> #REF! | F54: =SUM(F48,F52,F42) -> #REF! | G54: =SUM(G48,G52,G42) -> #REF! | H54: =SUM(H48,H52,H42) -> #REF! | I54: =SUM(I48,I52,I42) -> #REF! | ... T54: =SUM(T48,T52,T42) -> #REF!
A55: PLACES
A57: NOMBRE DE PARTICIPANTS
A58: =A41 -> 0 | B58: =B3 -> ABDO | C58: =C3 -> MASC | D58: =D3 -> ASGB | E58: =E3 -> BMSA | F58: =F3 -> VMA | G58: =G3 -> CMA | H58: =H3 -> ACMA | I58: =I3 -> COMA | ... T58: =T3 -> n | U58: TOTAL
A59: Minimes F | B59: =#REF! -> #REF! | C59: =#REF! -> #REF! | D59: =#REF! -> #REF! | E59: =#REF! -> #REF! | F59: =#REF! -> #REF! | G59: =#REF! -> #REF! | H59: =#REF! -> #REF! | I59: =#REF! -> #REF! | ... T59: =#REF! -> #REF! | U59: =SUM(B59:T59) -> #REF!
A60: Minimes M | B60: =#REF! -> #REF! | C60: =#REF! -> #REF! | D60: =#REF! -> #REF! | E60: =#REF! -> #REF! | F60: =#REF! -> #REF! | G60: =#REF! -> #REF! | H60: =#REF! -> #REF! | I60: =#REF! -> #REF! | ... T60: =#REF! -> #REF! | U60: =SUM(B60:T60) -> #REF!
A61: Cadettes | B61: =#REF! -> #REF! | C61: =#REF! -> #REF! | D61: =#REF! -> #REF! | E61: =#REF! -> #REF! | F61: =#REF! -> #REF! | G61: =#REF! -> #REF! | H61: =#REF! -> #REF! | I61: =#REF! -> #REF! | ... T61: =#REF! -> #REF! | U61: =SUM(B61:T61) -> #REF!
A62: Cadets | B62: =#REF! -> #REF! | C62: =#REF! -> #REF! | D62: =#REF! -> #REF! | E62: =#REF! -> #REF! | F62: =#REF! -> #REF! | G62: =#REF! -> #REF! | H62: =#REF! -> #REF! | I62: =#REF! -> #REF! | ... T62: =#REF! -> #REF! | U62: =SUM(B62:T62) -> #REF!
A63: Femmes | B63: =#REF! -> #REF! | C63: =#REF! -> #REF! | D63: =#REF! -> #REF! | E63: =#REF! -> #REF! | F63: =#REF! -> #REF! | G63: =#REF! -> #REF! | H63: =#REF! -> #REF! | I63: =#REF! -> #REF! | ... T63: =#REF! -> #REF! | U63: =SUM(B63:T63) -> #REF!
A64: Hommes | B64: =#REF! -> #REF! | C64: =#REF! -> #REF! | D64: =#REF! -> #REF! | E64: =#REF! -> #REF! | F64: =#REF! -> #REF! | G64: =#REF! -> #REF! | H64: =#REF! -> #REF! | I64: =#REF! -> #REF! | ... T64: =#REF! -> #REF! | U64: =SUM(B64:T64) -> #REF!
A65: TOTAL | B65: =SUM(B59:B64) -> #REF! | C65: =SUM(C59:C64) -> #REF! | D65: =SUM(D59:D64) -> #REF! | E65: =SUM(E59:E64) -> #REF! | F65: =SUM(F59:F64) -> #REF! | G65: =SUM(G59:G64) -> #REF! | H65: =SUM(H59:H64) -> #REF! | I65: =SUM(I59:I64) -> #REF! | ... T65: =SUM(T59:T64) -> #REF! | U65: =SUM(B65:T65) -> #REF!
A67: CLASSEMENT GENERAL
A68: =A3 -> 0 | B68: =B3 -> ABDO | C68: =C3 -> MASC | D68: =D3 -> ASGB | E68: =E3 -> BMSA | F68: =F3 -> VMA | G68: =G3 -> CMA | H68: =H3 -> ACMA | ... T68: =T3 -> n
A69: Points | B69: =SUM(B16,B54) -> #REF! | C69: =SUM(C16,C54) -> #REF! | D69: =SUM(D16,D54) -> #REF! | E69: =SUM(E16,E54) -> #REF! | F69: =SUM(F16,F54) -> #REF! | G69: =SUM(G16,G54) -> #REF! | H69: =SUM(H16,H54) -> #REF! | I69: =SUM(I16,I54) -> #REF! | ... T69: =SUM(T16,T54) -> #REF!
A70: Placce | B70: 10 | C70: 4 ex | D70: 4 ex | E70: 2 | F70: 11 | G70: 9 | H70: 13 | I70: 14 | K70: 3 | L70: 12 | M70: 8 | N70: 6 | O70: 1 | P70: 7 | S70: 15

Sheet POINTS T2
A1: CLASSEMENT 2ème TOUR
B3: ABDO | C3: ACB | D3: ASGB | E3: BMSA | F3: CAR | G3: CMA | H3: ACMA | I3: COMA | J3: CSB | K3: ESV | L3: ESCXV | M3: ESS | N3: NLSA | O3: SDUS | P3: TAC | Q3: MASC | R3: USI | S3: USMA | T3: US MERY
A4: Relais
A5: Minimes F | B5: =#REF! -> #REF! | C5: =#REF! -> #REF! | D5: =#REF! -> #REF! | E5: =#REF! -> #REF! | F5: =#REF! -> #REF! | G5: =#REF! -> #REF! | H5: =#REF! -> #REF! | I5: =#REF! -> #REF! | ... T5: =#REF! -> #REF!
A6: Minimes M | B6: =#REF! -> #REF! | C6: =#REF! -> #REF! | D6: =#REF! -> #REF! | E6: =#REF! -> #REF! | F6: =#REF! -> #REF! | G6: =#REF! -> #REF! | H6: =#REF! -> #REF! | I6: =#REF! -> #REF! | ... T6: =#REF! -> #REF!
A7: Cadettes | B7: =#REF! -> #REF! | C7: =#REF! -> #REF! | D7: =#REF! -> #REF! | E7: =#REF! -> #REF! | F7: =#REF! -> #REF! | G7: =#REF! -> #REF! | H7: =#REF! -> #REF! | I7: =#REF! -> #REF! | ... T7: =#REF! -> #REF!
A8: Cadets | B8: =#REF! -> #REF! | C8: =#REF! -> #REF! | D8: =#REF! -> #REF! | E8: =#REF! -> #REF! | F8: =#REF! -> #REF! | G8: =#REF! -> #REF! | H8: =#REF! -> #REF! | I8: =#REF! -> #REF! | ... T8: =#REF! -> #REF!
A9: S/Total | B9: =SUM(B4:B8) -> #REF! | C9: =SUM(C4:C8) -> #REF! | D9: =SUM(D4:D8) -> #REF! | E9: =SUM(E4:E8) -> #REF! | F9: =SUM(F4:F8) -> #REF! | G9: =SUM(G4:G8) -> #REF! | H9: =SUM(H4:H8) -> #REF! | I9: =SUM(I4:I8) -> #REF! | ... T9: =SUM(T4:T8) -> #REF!
A11: Femmes | B11: =#REF! -> #REF! | C11: =#REF! -> #REF! | D11: =#REF! -> #REF! | E11: =#REF! -> #REF! | F11: =#REF! -> #REF! | G11: =#REF! -> #REF! | H11: =#REF! -> #REF! | I11: =#REF! -> #REF! | ... T11: =#REF! -> #REF!
A12: Hommes
A13: S/Total | B13: =SUM(B11:B12) -> #REF! | C13: =SUM(C11:C12) -> #REF! | D13: =SUM(D11:D12) -> #REF! | E13: =SUM(E11:E12) -> #REF! | F13: =SUM(F11:F12) -> #REF! | G13: =SUM(G11:G12) -> #REF! | H13: =SUM(H11:H12) -> #REF! | I13: =SUM(I11:I12) -> #REF! | ... T13: =SUM(T11:T12) -> #REF!
A15: total 2ème tour | B15: =SUM(B13,B9) -> #REF! | C15: =SUM(C13,C9) -> #REF! | D15: =SUM(D13,D9) -> #REF! | E15: =SUM(E13,E9) -> #REF! | F15: =SUM(F13,F9) -> #REF! | G15: =SUM(G13,G9) -> #REF! | H15: =SUM(H13,H9) -> #REF! | I15: =SUM(I13,I9) -> #REF! | ... T15: =SUM(T13,T9) -> #REF!
A16: PLACES
A20: NOMBRE DE PARTICIPANTS
A22: =A3 -> 0 | B22: =B3 -> ABDO | C22: =C3 -> ACB | D22: =D3 -> ASGB | E22: =E3 -> BMSA | F22: CAR | G22: =G3 -> CMA | H22: ACMA | I22: =I3 -> COMA | J22: CSB | K22: =K3 -> ESV | L22: =L3 -> ESCXV | M22: =M3 -> ESS | N22: =N3 -> NLSA | O22: =O3 -> SDUS | P22: =P3 -> TAC | Q22: =Q3 -> MASC | R22: USI | S22: =S3 -> USMA | T22: =T3 -> US MERY | U22: TOTAL
A23: Minimes F | U23: =SUM(B23:T23) -> 0
A24: Minimes M | U24: =SUM(B24:T24) -> 0
A25: Cadettes | U25: =SUM(B25:T25) -> 0
A26: Cadets | U26: =SUM(B26:T26) -> 0
A27: Femmes | U27: =SUM(B27:T27) -> 0
A28: Hommes | U28: =SUM(B28:T28) -> 0
A29: TOTAL | B29: =SUM(B23:B28) -> 0 | C29: =SUM(C23:C28) -> 0 | D29: =SUM(D23:D28) -> 0 | E29: =SUM(E23:E28) -> 0 | F29: =SUM(F23:F28) -> 0 | G29: =SUM(G23:G28) -> 0 | H29: =SUM(H23:H28) -> 0 | I29: =SUM(I23:I28) -> 0 | ... T29: =SUM(T23:T28) -> 0 | U29: =SUM(B29:T29) -> 0

Sheet RELAIS T1
A1: RELAIS
A2: 43428
A3: CAT | B3: RELAIS | C3: VILLE | D3: CLUB | E3: PERF | F3: PLACE | G3: PTS | I3: =POINTS!B3 -> ABDO | J3: =POINTS!C3 -> MASC | K3: =POINTS!D3 -> ASGB | L3: =POINTS!E3 -> BMSA | M3: MS | N3: =POINTS!G3 -> CMA | O3: =POINTS!H3 -> ACMA | P3: =POINTS!I3 -> COMA | Q3: =POINTS!J3 -> CSB | R3: =POINTS!K3 -> ESV | S3: =POINTS!L3 -> ESCXV | T3: =POINTS!M3 -> ESS | U3: =POINTS!N3 -> NLSA | ... Z3: =POINTS!S3 -> USMA | AA3: MS
A4: MINIME | B4: 4X1 TOUR | C4: TREMBLAY | D4: TAC | E4: 1334 | F4: 1 | I4: =IF($D4<>($I$3),"",$G4) | J4: =IF($D4<>($J$3),"",$G4) | K4: =IF($D4<>($K$3),"",$G4) | L4: =IF($D4<>($L$3),"",$G4) | M4: =IF($D4<>($M$3),"",$G4) | N4: =IF($D4<>($N$3),"",$G4) | O4: =IF($D4<>($O$3),"",$G4) | P4: =IF($D4<>($P$3),"",$G4) | Q4: =IF($D4<>($Q$3),"",$G4) | R4: =IF($D4<>($R$3),"",$G4) | S4: =IF($D4<>($S$3),"",$G4) | T4: =IF($D4<>($T$3),"",$G4) | U4: =IF($D4<>($U$3),"",$G4) | V4: =IF($D4<>($V$3),"",$G4) | W4: =IF($D4<>($W$3),"",$G4) -> 0 | X4: =IF($D4<>($X$3),"",$G4) | Y4: =IF($D4<>($Y$3),"",$G4) | Z4: =IF($D4<>($Z$3),"",$G4) | AA4: =IF($D4<>($AA$3),"",$G4) | AB4: =IF($C4<>($AA$4),"",$F4)
A5: MINIME | B5: 4X1 TOUR | C5: BAGNOLET | D5: ACB | E5: 1343 | F5: 2 | I5: =IF($D5<>($I$3),"",$G5) | J5: =IF($D5<>($J$3),"",$G5) | K5: =IF($D5<>($K$3),"",$G5) | L5: =IF($D5<>($L$3),"",$G5) | M5: =IF($D5<>($M$3),"",$G5) | N5: =IF($D5<>($N$3),"",$G5) | O5: =IF($D5<>($O$3),"",$G5) | P5: =IF($D5<>($P$3),"",$G5) | Q5: =IF($D5<>($Q$3),"",$G5) | R5: =IF($D5<>($R$3),"",$G5) | S5: =IF($D5<>($S$3),"",$G5) | T5: =IF($D5<>($T$3),"",$G5) | U5: =IF($D5<>($U$3),"",$G5) | V5: =IF($D5<>($V$3),"",$G5) | W5: =IF($D5<>($W$3),"",$G5) | X5: =IF($D5<>($X$3),"",$G5) | Y5: =IF($D5<>($Y$3),"",$G5) | Z5: =IF($D5<>($Z$3),"",$G5) | AA5: =IF($D5<>($AA$3),"",$G5)
A6: MINIME | B6: 4X1 TOUR | C6: ST DENIS | D6: SDUS | E6: 1382 | F6: 3 | I6: =IF($D6<>($I$3),"",$G6) | J6: =IF($D6<>($J$3),"",$G6) | K6: =IF($D6<>($K$3),"",$G6) | L6: =IF($D6<>($L$3),"",$G6) | M6: =IF($D6<>($M$3),"",$G6) | N6: =IF($D6<>($N$3),"",$G6) | O6: =IF($D6<>($O$3),"",$G6) | P6: =IF($D6<>($P$3),"",$G6) | Q6: =IF($D6<>($Q$3),"",$G6) | R6: =IF($D6<>($R$3),"",$G6) | S6: =IF($D6<>($S$3),"",$G6) | T6: =IF($D6<>($T$3),"",$G6) | U6: =IF($D6<>($U$3),"",$G6) | V6: =IF($D6<>($V$3),"",$G6) -> 0 | W6: =IF($D6<>($W$3),"",$G6) | X6: =IF($D6<>($X$3),"",$G6) | Y6: =IF($D6<>($Y$3),"",$G6) | Z6: =IF($D6<>($Z$3),"",$G6) | AA6: =IF($D6<>($AA$3),"",$G6)
A7: MINIME | B7: 4X1 TOUR | C7: BLANC MESNIL | D7: BMSA | E7: 1424 | F7: 4 | I7: =IF($D7<>($I$3),"",$G7) | J7: =IF($D7<>($J$3),"",$G7) | K7: =IF($D7<>($K$3),"",$G7) | L7: =IF($D7<>($L$3),"",$G7) -> 0 | M7: =IF($D7<>($M$3),"",$G7) | N7: =IF($D7<>($N$3),"",$G7) | O7: =IF($D7<>($O$3),"",$G7) | P7: =IF($D7<>($P$3),"",$G7) | Q7: =IF($D7<>($Q$3),"",$G7) | R7: =IF($D7<>($R$3),"",$G7) | S7: =IF($D7<>($S$3),"",$G7) | T7: =IF($D7<>($T$3),"",$G7) | U7: =IF($D7<>($U$3),"",$G7) | V7: =IF($D7<>($V$3),"",$G7) | W7: =IF($D7<>($W$3),"",$G7) | X7: =IF($D7<>($X$3),"",$G7) | Y7: =IF($D7<>($Y$3),"",$G7) | Z7: =IF($D7<>($Z$3),"",$G7) | AA7: =IF($D7<>($AA$3),"",$G7)
A8: MINIME | B8: 4X1 TOUR | C8: NOISY LE SEC | D8: NLSA | E8: 1369 | F8: 1 | I8: =IF($D8<>($I$3),"",$G8) | J8: =IF($D8<>($J$3),"",$G8) | K8: =IF($D8<>($K$3),"",$G8) | L8: =IF($D8<>($L$3),"",$G8) | M8: =IF($D8<>($M$3),"",$G8) | N8: =IF($D8<>($N$3),"",$G8) | O8: =IF($D8<>($O$3),"",$G8) | P8: =IF($D8<>($P$3),"",$G8) | Q8: =IF($D8<>($Q$3),"",$G8) | R8: =IF($D8<>($R$3),"",$G8) | S8: =IF($D8<>($S$3),"",$G8) | T8: =IF($D8<>($T$3),"",$G8) | U8: =IF($D8<>($U$3),"",$G8) -> 0 | V8: =IF($D8<>($V$3),"",$G8) | W8: =IF($D8<>($W$3),"",$G8) | X8: =IF($D8<>($X$3),"",$G8) | Y8: =IF($D8<>($Y$3),"",$G8) | Z8: =IF($D8<>($Z$3),"",$G8) | AA8: =IF($D8<>($AA$3),"",$G8)
A9: MINIME | B9: 4X1 TOUR | C9: BLANC MESNIL | D9: BMSA | E9: 1392 | F9: 2 | I9: =IF($D9<>($I$3),"",$G9) | J9: =IF($D9<>($J$3),"",$G9) | K9: =IF($D9<>($K$3),"",$G9) | L9: =IF($D9<>($L$3),"",$G9) -> 0 | M9: =IF($D9<>($M$3),"",$G9) | N9: =IF($D9<>($N$3),"",$G9) | O9: =IF($D9<>($O$3),"",$G9) | P9: =IF($D9<>($P$3),"",$G9) | Q9: =IF($D9<>($Q$3),"",$G9) | R9: =IF($D9<>($R$3),"",$G9) | S9: =IF($D9<>($S$3),"",$G9) | T9: =IF($D9<>($T$3),"",$G9) | U9: =IF($D9<>($U$3),"",$G9) | V9: =IF($D9<>($V$3),"",$G9) | W9: =IF($D9<>($W$3),"",$G9) | X9: =IF($D9<>($X$3),"",$G9) | Y9: =IF($D9<>($Y$3),"",$G9) | Z9: =IF($D9<>($Z$3),"",$G9) | AA9: =IF($D9<>($AA$3),"",$G9)
A10: MINIME | B10: 4X1 TOUR | C10: BAGNOLET | D10: ASGB | E10: 1432 | F10: 3 | I10: =IF($D10<>($I$3),"",$G10) | J10: =IF($D10<>($J$3),"",$G10) | K10: =IF($D10<>($K$3),"",$G10) -> 0 | L10: =IF($D10<>($L$3),"",$G10) | M10: =IF($D10<>($M$3),"",$G10) | N10: =IF($D10<>($N$3),"",$G10) | O10: =IF($D10<>($O$3),"",$G10) | P10: =IF($D10<>($P$3),"",$G10) | Q10: =IF($D10<>($Q$3),"",$G10) | R10: =IF($D10<>($R$3),"",$G10) | S10: =IF($D10<>($S$3),"",$G10) | T10: =IF($D10<>($T$3),"",$G10) | U10: =IF($D10<>($U$3),"",$G10) | V10: =IF($D10<>($V$3),"",$G10) | W10: =IF($D10<>($W$3),"",$G10) | X10: =IF($D10<>($X$3),"",$G10) | Y10: =IF($D10<>($Y$3),"",$G10) | Z10: =IF($D10<>($Z$3),"",$G10) | AA10: =IF($D10<>($AA$3),"",$G10)
C11: NOISY LE SEC | D11: NLSA | E11: 1417 | F11: 1 | I11: =IF($D11<>($I$3),"",$G11) | K11: =IF($D11<>($K$3),"",$G11) | L11: =IF($D11<>($L$3),"",$G11) | N11: =IF($D11<>($N$3),"",$G11) | O11: =IF($D11<>($O$3),"",$G11) | P11: =IF($D11<>($P$3),"",$G11) | Q11: =IF($D11<>($Q$3),"",$G11) | R11: =IF($D11<>($R$3),"",$G11) | S11: =IF($D11<>($S$3),"",$G11) | U11: =IF($D11<>($U$3),"",$G11) -> 0 | V11: =IF($D11<>($V$3),"",$G11) | W11: =IF($D11<>($W$3),"",$G11) | X11: =IF($D11<>($X$3),"",$G11) | Z11: =IF($D11<>($Z$3),"",$G11) | AA11: =IF($D11<>($AA$3),"",$G11)
C12: BRETIGNY | D12: CSB | E12: 1427 | F12: 2 | I12: =IF($D12<>($I$3),"",$G12) | K12: =IF($D12<>($K$3),"",$G12) | L12: =IF($D12<>($L$3),"",$G12) | N12: =IF($D12<>($N$3),"",$G12) | O12: =IF($D12<>($O$3),"",$G12) | P12: =IF($D12<>($P$3),"",$G12) | Q12: =IF($D12<>($Q$3),"",$G12) -> 0 | R12: =IF($D12<>($R$3),"",$G12) | S12: =IF($D12<>($S$3),"",$G12) | U12: =IF($D12<>($U$3),"",$G12) | V12: =IF($D12<>($V$3),"",$G12) | W12: =IF($D12<>($W$3),"",$G12) | X12: =IF($D12<>($X$3),"",$G12) | Z12: =IF($D12<>($Z$3),"",$G12) | AA12: =IF($D12<>($AA$3),"",$G12)
C13: BOBIGNY | D13: ACB | E13: 1591 | F13: 3 | I13: =IF($D13<>($I$3),"",$G13) | K13: =IF($D13<>($K$3),"",$G13) | L13: =IF($D13<>($L$3),"",$G13) | N13: =IF($D13<>($N$3),"",$G13) | O13: =IF($D13<>($O$3),"",$G13) | P13: =IF($D13<>($P$3),"",$G13) | Q13: =IF($D13<>($Q$3),"",$G13) | R13: =IF($D13<>($R$3),"",$G13) | S13: =IF($D13<>($S$3),"",$G13) | U13: =IF($D13<>($U$3),"",$G13) | V13: =IF($D13<>($V$3),"",$G13) | W13: =IF($D13<>($W$3),"",$G13) | X13: =IF($D13<>($X$3),"",$G13) | Z13: =IF($D13<>($Z$3),"",$G13) | AA13: =IF($D13<>($AA$3),"",$G13)
A14: MINIME | B14: 4X1 TOUR | I14: =IF($D14<>($I$3),"",$G14) | J14: =IF($D14<>($J$3),"",$G14) | K14: =IF($D14<>($K$3),"",$G14) | L14: =IF($D14<>($L$3),"",$G14) | M14: =IF($D14<>($M$3),"",$G14) | N14: =IF($D14<>($N$3),"",$G14) | O14: =IF($D14<>($O$3),"",$G14) | P14: =IF($D14<>($P$3),"",$G14) | Q14: =IF($D14<>($Q$3),"",$G14) | R14: =IF($D14<>($R$3),"",$G14) | S14: =IF($D14<>($S$3),"",$G14) | T14: =IF($D14<>($T$3),"",$G14) | U14: =IF($D14<>($U$3),"",$G14) | V14: =IF($D14<>($V$3),"",$G14) | W14: =IF($D14<>($W$3),"",$G14) | X14: =IF($D14<>($X$3),"",$G14) | Y14: =IF($D14<>($Y$3),"",$G14) | Z14: =IF($D14<>($Z$3),"",$G14) | AA14: =IF($D14<>($AA$3),"",$G14)
I15: =IF($D15<>($I$3),"",$G15) | J15: =IF($D15<>($J$3),"",$G15) | K15: =IF($D15<>($K$3),"",$G15) | L15: =IF($D15<>($L$3),"",$G15) | M15: =IF($D15<>($M$3),"",$G15) | N15: =IF($D15<>($N$3),"",$G15) | O15: =IF($D15<>($O$3),"",$G15) | P15: =IF($D15<>($P$3),"",$G15) | Q15: =IF($D15<>($Q$3),"",$G15) | R15: =IF($D15<>($R$3),"",$G15) | S15: =IF($D15<>($S$3),"",$G15) | T15: =IF($D15<>($T$3),"",$G15) | U15: =IF($D15<>($U$3),"",$G15) | V15: =IF($D15<>($V$3),"",$G15) | W15: =IF($D15<>($W$3),"",$G15) | X15: =IF($D15<>($X$3),"",$G15) | Y15: =IF($D15<>($Y$3),"",$G15) | Z15: =IF($D15<>($Z$3),"",$G15) | AA15: =IF($D15<>($AA$3),"",$G15)
A16: SENIOR | B16: 6X1 TOUR | C16: SAINT OUEN | D16: USMA | E16: 2182 | F16: 1 | I16: =IF($D16<>($I$3),"",$G16) | J16: =IF($D16<>($J$3),"",$G16) | K16: =IF($D16<>($K$3),"",$G16) | L16: =IF($D16<>($L$3),"",$G16) | M16: =IF($D16<>($M$3),"",$G16) | N16: =IF($D16<>($N$3),"",$G16) | O16: =IF($D16<>($O$3),"",$G16) | P16: =IF($D16<>($P$3),"",$G16) | Q16: =IF($D16<>($Q$3),"",$G16) | R16: =IF($D16<>($R$3),"",$G16) | S16: =IF($D16<>($S$3),"",$G16) | T16: =IF($D16<>($T$3),"",$G16) | U16: =IF($D16<>($U$3),"",$G16) | V16: =IF($D16<>($V$3),"",$G16) | W16: =IF($D16<>($W$3),"",$G16) | X16: =IF($D16<>($X$3),"",$G16) | Y16: =IF($D16<>($Y$3),"",$G16) | Z16: =IF($D16<>($Z$3),"",$G16) -> 0 | AA16: =IF($D16<>($AA$3),"",$G16)
A17: SENIOR | B17: 6X1 TOUR | C17: NOISY LE SEC | D17: NLSA | E17: 2222 | F17: 2 | I17: =IF($D17<>($I$3),"",$G17) | J17: =IF($D17<>($J$3),"",$G17) | K17: =IF($D17<>($K$3),"",$G17) | L17: =IF($D17<>($L$3),"",$G17) | M17: =IF($D17<>($M$3),"",$G17) | N17: =IF($D17<>($N$3),"",$G17) | O17: =IF($D17<>($O$3),"",$G17) | P17: =IF($D17<>($P$3),"",$G17) | Q17: =IF($D17<>($Q$3),"",$G17) | R17: =IF($D17<>($R$3),"",$G17) | S17: =IF($D17<>($S$3),"",$G17) | T17: =IF($D17<>($T$3),"",$G17) | U17: =IF($D17<>($U$3),"",$G17) -> 0 | V17: =IF($D17<>($V$3),"",$G17) | W17: =IF($D17<>($W$3),"",$G17) | X17: =IF($D17<>($X$3),"",$G17) | Y17: =IF($D17<>($Y$3),"",$G17) | Z17: =IF($D17<>($Z$3),"",$G17) | AA17: =IF($D17<>($AA$3),"",$G17)
A18: SENIOR | B18: 6X1 TOUR | C18: BLANC MESNIL | D18: BMSA | E18: 2226 | F18: 3 | I18: =IF($D18<>($I$3),"",$G18) | J18: =IF($D18<>($J$3),"",$G18) | K18: =IF($D18<>($K$3),"",$G18) | L18: =IF($D18<>($L$3),"",$G18) -> 0 | M18: =IF($D18<>($M$3),"",$G18) | N18: =IF($D18<>($N$3),"",$G18) | O18: =IF($D18<>($O$3),"",$G18) | P18: =IF($D18<>($P$3),"",$G18) | Q18: =IF($D18<>($Q$3),"",$G18) | R18: =IF($D18<>($R$3),"",$G18) | S18: =IF($D18<>($S$3),"",$G18) | T18: =IF($D18<>($T$3),"",$G18) | U18: =IF($D18<>($U$3),"",$G18) | V18: =IF($D18<>($V$3),"",$G18) | W18: =IF($D18<>($W$3),"",$G18) | X18: =IF($D18<>($X$3),"",$G18) | Y18: =IF($D18<>($Y$3),"",$G18) | Z18: =IF($D18<>($Z$3),"",$G18) | AA18: =IF($D18<>($AA$3),"",$G18)
A19: SENIOR | B19: 6X1 TOUR | I19: =IF($D19<>($I$3),"",$G19) | J19: =IF($D19<>($J$3),"",$G19) | K19: =IF($D19<>($K$3),"",$G19) | L19: =IF($D19<>($L$3),"",$G19) | M19: =IF($D19<>($M$3),"",$G19) | N19: =IF($D19<>($N$3),"",$G19) | O19: =IF($D19<>($O$3),"",$G19) | P19: =IF($D19<>($P$3),"",$G19) | Q19: =IF($D19<>($Q$3),"",$G19) | R19: =IF($D19<>($R$3),"",$G19) | S19: =IF($D19<>($S$3),"",$G19) | T19: =IF($D19<>($T$3),"",$G19) | U19: =IF($D19<>($U$3),"",$G19) | V19: =IF($D19<>($V$3),"",$G19) | W19: =IF($D19<>($W$3),"",$G19) | X19: =IF($D19<>($X$3),"",$G19) | Y19: =IF($D19<>($Y$3),"",$G19) | Z19: =IF($D19<>($Z$3),"",$G19) | AA19: =IF($D19<>($AA$3),"",$G19)
A20: SENIOR | B20: 6X1 TOUR | I20: =IF($D20<>($I$3),"",$G20) | J20: =IF($D20<>($J$3),"",$G20) | K20: =IF($D20<>($K$3),"",$G20) | L20: =IF($D20<>($L$3),"",$G20) | M20: =IF($D20<>($M$3),"",$G20) | N20: =IF($D20<>($N$3),"",$G20) | O20: =IF($D20<>($O$3),"",$G20) | P20: =IF($D20<>($P$3),"",$G20) | Q20: =IF($D20<>($Q$3),"",$G20) | R20: =IF($D20<>($R$3),"",$G20) | S20: =IF($D20<>($S$3),"",$G20) | T20: =IF($D20<>($T$3),"",$G20) | U20: =IF($D20<>($U$3),"",$G20) | V20: =IF($D20<>($V$3),"",$G20) | W20: =IF($D20<>($W$3),"",$G20) | X20: =IF($D20<>($X$3),"",$G20) | Y20: =IF($D20<>($Y$3),"",$G20) | Z20: =IF($D20<>($Z$3),"",$G20) | AA20: =IF($D20<>($AA$3),"",$G20)
A21: SENIOR | B21: 6X1 TOUR | I21: =IF($D21<>($I$3),"",$G21) | J21: =IF($D21<>($J$3),"",$G21) | K21: =IF($D21<>($K$3),"",$G21) | L21: =IF($D21<>($L$3),"",$G21) | M21: =IF($D21<>($M$3),"",$G21) | N21: =IF($D21<>($N$3),"",$G21) | O21: =IF($D21<>($O$3),"",$G21) | P21: =IF($D21<>($P$3),"",$G21) | Q21: =IF($D21<>($Q$3),"",$G21) | R21: =IF($D21<>($R$3),"",$G21) | S21: =IF($D21<>($S$3),"",$G21) | T21: =IF($D21<>($T$3),"",$G21) | U21: =IF($D21<>($U$3),"",$G21) | V21: =IF($D21<>($V$3),"",$G21) | W21: =IF($D21<>($W$3),"",$G21) | X21: =IF($D21<>($X$3),"",$G21) | Y21: =IF($D21<>($Y$3),"",$G21) | Z21: =IF($D21<>($Z$3),"",$G21) | AA21: =IF($D21<>($AA$3),"",$G21)
I22: =IF($D22<>($I$3),"",$G22) | K22: =IF($D22<>($K$3),"",$G22) | L22: =IF($D22<>($L$3),"",$G22) | N22: =IF($D22<>($N$3),"",$G22) | O22: =IF($D22<>($O$3),"",$G22) | P22: =IF($D22<>($P$3),"",$G22) | Q22: =IF($D22<>($Q$3),"",$G22) | R22: =IF($D22<>($R$3),"",$G22) | S22: =IF($D22<>($S$3),"",$G22) | U22: =IF($D22<>($U$3),"",$G22) | V22: =IF($D22<>($V$3),"",$G22) | W22: =IF($D22<>($W$3),"",$G22) | X22: =IF($D22<>($X$3),"",$G22) | Z22: =IF($D22<>($Z$3),"",$G22) | AA22: =IF($D22<>($AA$3),"",$G22)
I23: =IF($D23<>($I$3),"",$G23) | K23: =IF($D23<>($K$3),"",$G23) | L23: =IF($D23<>($L$3),"",$G23) | N23: =IF($D23<>($N$3),"",$G23) | O23: =IF($D23<>($O$3),"",$G23) | P23: =IF($D23<>($P$3),"",$G23) | Q23: =IF($D23<>($Q$3),"",$G23) | R23: =IF($D23<>($R$3),"",$G23) | S23: =IF($D23<>($S$3),"",$G23) | U23: =IF($D23<>($U$3),"",$G23) | V23: =IF($D23<>($V$3),"",$G23) | W23: =IF($D23<>($W$3),"",$G23) | X23: =IF($D23<>($X$3),"",$G23) | Z23: =IF($D23<>($Z$3),"",$G23) | AA23: =IF($D23<>($AA$3),"",$G23)
I24: =IF($D24<>($I$3),"",$G24) | K24: =IF($D24<>($K$3),"",$G24) | L24: =IF($D24<>($L$3),"",$G24) | N24: =IF($D24<>($N$3),"",$G24) | O24: =IF($D24<>($O$3),"",$G24) | P24: =IF($D24<>($P$3),"",$G24) | Q24: =IF($D24<>($Q$3),"",$G24) | R24: =IF($D24<>($R$3),"",$G24) | S24: =IF($D24<>($S$3),"",$G24) | U24: =IF($D24<>($U$3),"",$G24) | V24: =IF($D24<>($V$3),"",$G24) | W24: =IF($D24<>($W$3),"",$G24) | X24: =IF($D24<>($X$3),"",$G24) | Z24: =IF($D24<>($Z$3),"",$G24) | AA24: =IF($D24<>($AA$3),"",$G24)
A25: SENIOR | B25: 6X1 TOUR | I25: =IF($D25<>($I$3),"",$G25) | J25: =IF($D25<>($J$3),"",$G25) | K25: =IF($D25<>($K$3),"",$G25) | L25: =IF($D25<>($L$3),"",$G25) | M25: =IF($D25<>($M$3),"",$G25) | N25: =IF($D25<>($N$3),"",$G25) | O25: =IF($D25<>($O$3),"",$G25) | P25: =IF($D25<>($P$3),"",$G25) | Q25: =IF($D25<>($Q$3),"",$G25) | R25: =IF($D25<>($R$3),"",$G25) | S25: =IF($D25<>($S$3),"",$G25) | T25: =IF($D25<>($T$3),"",$G25) | U25: =IF($D25<>($U$3),"",$G25) | V25: =IF($D25<>($V$3),"",$G25) | W25: =IF($D25<>($W$3),"",$G25) | X25: =IF($D25<>($X$3),"",$G25) | Y25: =IF($D25<>($Y$3),"",$G25) | Z25: =IF($D25<>($Z$3),"",$G25) | AA25: =IF($D25<>($AA$3),"",$G25)
A26: SENIOR | B26: 6X1 TOUR | I26: =IF($D26<>($I$3),"",$G26) | J26: =IF($D26<>($J$3),"",$G26) | K26: =IF($D26<>($K$3),"",$G26) | L26: =IF($D26<>($L$3),"",$G26) | M26: =IF($D26<>($M$3),"",$G26) | N26: =IF($D26<>($N$3),"",$G26) | O26: =IF($D26<>($O$3),"",$G26) | P26: =IF($D26<>($P$3),"",$G26) | Q26: =IF($D26<>($Q$3),"",$G26) | R26: =IF($D26<>($R$3),"",$G26) | S26: =IF($D26<>($S$3),"",$G26) | T26: =IF($D26<>($T$3),"",$G26) | U26: =IF($D26<>($U$3),"",$G26) | V26: =IF($D26<>($V$3),"",$G26) | W26: =IF($D26<>($W$3),"",$G26) | X26: =IF($D26<>($X$3),"",$G26) | Y26: =IF($D26<>($Y$3),"",$G26) | Z26: =IF($D26<>($Z$3),"",$G26) | AA26: =IF($D26<>($AA$3),"",$G26)
A27: SENIOR | B27: 6X1 TOUR | I27: =IF($D27<>($I$3),"",$G27) | J27: =IF($D27<>($J$3),"",$G27) | K27: =IF($D27<>($K$3),"",$G27) | L27: =IF($D27<>($L$3),"",$G27) | M27: =IF($D27<>($M$3),"",$G27) | N27: =IF($D27<>($N$3),"",$G27) | O27: =IF($D27<>($O$3),"",$G27) | P27: =IF($D27<>($P$3),"",$G27) | Q27: =IF($D27<>($Q$3),"",$G27) | R27: =IF($D27<>($R$3),"",$G27) | S27: =IF($D27<>($S$3),"",$G27) | T27: =IF($D27<>($T$3),"",$G27) | U27: =IF($D27<>($U$3),"",$G27) | V27: =IF($D27<>($V$3),"",$G27) | W27: =IF($D27<>($W$3),"",$G27) | X27: =IF($D27<>($X$3),"",$G27) | Y27: =IF($D27<>($Y$3),"",$G27) | Z27: =IF($D27<>($Z$3),"",$G27) | AA27: =IF($D27<>($AA$3),"",$G27)
A28: SENIOR | B28: 6X1 TOUR | I28: =IF($D28<>($I$3),"",$G28) | J28: =IF($D28<>($J$3),"",$G28) | K28: =IF($D28<>($K$3),"",$G28) | L28: =IF($D28<>($L$3),"",$G28) | M28: =IF($D28<>($M$3),"",$G28) | N28: =IF($D28<>($N$3),"",$G28) | O28: =IF($D28<>($O$3),"",$G28) | P28: =IF($D28<>($P$3),"",$G28) | Q28: =IF($D28<>($Q$3),"",$G28) | R28: =IF($D28<>($R$3),"",$G28) | S28: =IF($D28<>($S$3),"",$G28) | T28: =IF($D28<>($T$3),"",$G28) | U28: =IF($D28<>($U$3),"",$G28) | V28: =IF($D28<>($V$3),"",$G28) | W28: =IF($D28<>($W$3),"",$G28) | X28: =IF($D28<>($X$3),"",$G28) | Y28: =IF($D28<>($Y$3),"",$G28) | Z28: =IF($D28<>($Z$3),"",$G28) | AA28: =IF($D28<>($AA$3),"",$G28)
H30: Pts | I30: =SUM(I4:I28) -> 0 | J30: =SUM(J4:J28) -> 0 | K30: =SUM(K4:K28) -> 0 | L30: =SUM(L4:L28) -> 0 | M30: =SUM(M4:M28) -> 0 | N30: =SUM(N4:N28) -> 0 | O30: =SUM(O4:O28) -> 0 | P30: =SUM(P4:P28) -> 0 | ... AA30: =SUM(AA4:AA28) -> 0

Sheet FEMMES
A1: FÉMININES
A2: NOM | B2: PRENOM | C2: CAT. | D2: CLUB | E2: 250 m Haies (76) | F2: 800 m | G2: 3000 m | H2: 3000 marche | I2: Triple saut | J2: Perche | K2: Marteau 3kg | L2: Javelot 500 gr
A3: RENAUDIN | B3: MAÏA | C3: MIF | D3: ASGB | K3: 17.34
A4: VION | B4: MAELLE | C4: MIF | D4: ASGB | H4: 21'31"8
A5: CISSOKHO | B5: SHERAZADE | C5: MIF | D5: BMSA | E5: 49"3 | L5: 10.3
A6: PIN | B6: MARGOT | C6: V2F | D6: CMAA | I6: 6.37 | L6: 16.72
A7: AKENAD | B7: AYA | C7: MIF | D7: COMA | E7: 42"8 | L7: 14.44
A8: HORRA | B8: SHERAZADE | C8: MIF | D8: COMA | L8: 8.75
A9: SOUGA LAZZERO | B9: ELENA | C9: MIF | D9: COMA | E9: 54"0 | G9: DNF
A10: THEBAULT | B10: ELISABETH | C10: V3F | D10: SDUS | H10: 21'05"3
A11: ULYSSE | B11: DAPHKARNY | C11: MIF | D11: SDUS | E11: 44"6 | I11: 8.77
A12: ALPHONSE | B12: OLGA | C12: V3F | D12: USMA | H12: 20'46"7
A13: COLLIN | B13: SANDRINE | C13: V2F | D13: USMA | H13: 20'58"7
A14: SANTIAGO | B14: NORMA | C14: V1F | D14: USMA | H14: 20'43"6
A16: NOM | B16: PRENOM | C16: CAT. | D16: CLUB | E16: 320 m Haies (76) | F16: 800 m | G16: 3000 m | H16: 3000 marche | I16: Triple saut | J16: Perche | K16: Marteau 3kg | L16: Javelot 600 gr
A17: MOUSSA | B17: IRIS | C17: CAF | D17: BMSA | K17: 32.34 | L17: 26.71
A18: GIQUEL | B18: MARINA | C18: CAF | D18: ESS | F18: 2'43"9
A19: LIMAGE | B19: JESSY | C19: CAF | D19: ESS | I19: 10.41
A21: NOM | B21: PRENOM | C21: CAT. | D21: CLUB | E21: 400 m Haies (76) | F21: 800 m | G21: 3000 m | H21: 3000 marche | I21: Triple saut | J21: Perche | K21: Marteau 4kg | L21: Javelot 600 gr
A22: GARATEA | B22: SUSANA | C22: V1F | D22: ASGB | K22: 29.46
A23: GERARD | B23: ANNE-LAURE | C23: S2F | D23: ASGB | K23: 27.2
A24: HAÏDARA | B24: SATOU | C24: JUF | D24: ASGB | I24: 7.88
A25: MANKENDA | B25: FLORE | C25: S1F | D25: ASGB | K25: 27.61
A26: QUEMON | B26: ANAÏS | C26: S2F | D26: USMA | F26: 2'38"4

Sheet HOMMES
A1: MASCULINS
A2: NOM | B2: PRENOM | C2: CAT. | D2: CLUB | E2: 250 m Haies (76) | F2: 800 m | G2: 3000 m | H2: 3000 marche | I2: Triple saut | J2: Perche | K2: Marteau 4kg | L2: Javelot 600 gr
A3: LOUSTEAU | B3: JEAN-MICHEL | C3: V2M | D3: ABDO | G3: 13'04"3
A4: DOLCIN | B4: KEAWAN | C4: MIM | D4: ASGB | I4: 10.39
A5: RENAUDIN | B5: TOM | C5: MIM | D5: ASGB | I5: 10.32 | K5: 19.41
A6: PELLESTIN | B6: SULLYVAN | C6: MIM | D6: ESS | E6: 36"3 | I6: 10.9
A7: BARADJI | B7: MAMADI | C7: MIM | D7: SDUS | E7: 46"2 | I7: 9.1 | L7: 11.45
A8: BARADJI | B8: MOUSSA | C8: V2M | D8: SDUS | I8: 9.15 | L8: 33.98
A9: RACHIDI | B9: MALIK | C9: V3M | D9: USMA | H9: 20'45"1
A11: NOM | B11: PRENOM | C11: CAT. | D11: CLUB | E11: 320 m Haies (84) | F11: 800 m | G11: 3000 m | H11: 3000 marche | I11: Triple saut | J11: Perche | K11: Marteau 5kg | L11: Javelot 700 gr
A12: RENAUDIN | B12: PHILIPPE | C12: V1M | D12: ASGB | K12: 28.79
A13: SAADI HADDAD | B13: KHEMIS | C13: CAM | D13: ASGB | F13: 2'49"6 | K13: 22.01
A14: BERANGER | B14: THOMAS | C14: CAM | D14: BMSA | L14: 25.92
A15: CELESTE | B15: MAX | C15: CAM | D15: BMSA | F15: 2'31"2 | L15: 30.25
A16: BOUZIT | B16: KHALED | C16: CAM | D16: ESS | F16: 2'27"7
A17: SELVARUBAN | B17: SUJEEBAN | C17: CAM | D17: ESS | E17: 48"7
A18: SOUARE | B18: SIDIYA | C18: CAM | D18: SDUS | E18: 50"9
A19: YJJEDD | B19: BILAL | C19: CAM | D19: SDUS | E19: 55"2
A21: NOM | B21: PRENOM | C21: CAT. | D21: CLUB | E21: 400 m Haies (84) | F21: 800 m | G21: 3000 m | H21: 3000 marche | I21: Triple saut | J21: Perche | K21: Marteau 6kg | L21: Javelot 800 gr
A22: ALI | B22: ZAÏD | C22: JUM | D22: ESS | F22: 2'35"3
A23: DOU | B23: YOUCEF | C23: JUM | D23: ESS | F23: 3'22"8
A24: BARADJI | B24: MOUSSA | C24: V2M | D24: SDUS | E24: 74"2
A25: LEFORESTIER | B25: DIDIER | C25: V2M | D25: USMA | E25: 67"2
A27: NOM | B27: PRENOM | C27: CAT. | D27: CLUB | E27: 400 m Haies (91) | F27: 800 m | G27: 3000 m | H27: 3000 marche | I27: Triple saut | J27: Perche | K27: Marteau 7kg | L27: Javelot 800 gr
A28: GAINVILLE | B28: ARTHUR | C28: S1M | D28: ASGB | F28: 2'40"6 | G28: 12'28"9
A29: PESCHE | B29: MAXIME | C29: S1M | D29: ASGB | I29: 10.75
A30: DELMA | B30: DANNY | C30: JUM | D30: BMSA | L30: 23.52
A31: MAALI | B31: ARYLES | C31: JUM | D31: BMSA | F31: 2'30"8 | L31: 13.5
A32: KHATTABI | B32: MOURAD | C32: S1M | D32: COMA | G32: 11'15"6
A33: CORREIA | B33: BENJAMIN | C33: S1M | D33: ESS | F33: 2'46"6 | L33: 21.33
A34: KHALFALLAH | B34: BRAHIM | C34: V1M | D34: ESS | F34: 2'54"6
A35: BARADJI | B35: BAMAN | C35: JUM | D35: SDUS | E35: 75"6 | L35: 18.05
A36: FELIP | B36: CEDRIC | C36: V1M | D36: SDUS | L36: 27.3
A37: FEUILLARD | B37: JOHAN | C37: S2M | D37: SDUS | K37: 31.12 | L37: 28.17
A38: HADJI | B38: YACINE | C38: JUM | D38: SDUS | G38: 11'04"6
A39: KEITA | B39: SOULEYMANE | C39: S1M | D39: SDUS | E39: 72"7 | F39: 2'51"1 | L39: 22.91
A40: KITU | B40: MOÏSE | C40: S1M | D40: SDUS | E40: 66"3 | F40: 2'48"2 | L40: 18.9
A41: MASCREZ | B41: MEHDI | C41: CAM | D41: SDUS | G41: 12'08"1
A42: SAYDI | B42: HEDI | C42: S1M | D42: SDUS | F42: 2'47"9 | L42: 26.52

Sheet Table Mo
A1: 50 m | B1: PTS | C1: 50 haies | D1: PTS | E1: 300 m | F1: PTS | G1: 500 m | H1: PTS | I1: 600 m | J1: PTS | K1: 500 marche | L1: PTS | M1: 600 marche | N1: PTS | O1: Longueur | P1: PTS | Q1: Triple saut | R1: PTS | S1: Hauteur | T1: PTS | U1: Perche | V1: PTS | W1: Poids | X1: PTS | Y1: Balles | Z1: PTS | AA1: Anneau | AB1: PTS | AC1: Marteau | AD1: PTS
A2: 1 | B2: 25 | C2: 0 | D2: 25 | E2: 0 | F2: 25 | G2: 0 | H2: 25 | I2: 0 | J2: 25 | K2: 0 | L2: 25 | M2: 0 | N2: 25 | O2: 0 | P2: 1 | Q2: 0 | R2: 1 | S2: 0 | T2: 1 | U2: 0 | V2: 1 | W2: 0 | X2: 1 | Y2: 0 | Z2: 1 | AA2: 0 | AB2: 1 | AC2: 0 | AD2: 1
A3: 76 | B3: 25 | C3: 81 | D3: 25 | E3: 590 | F3: 25 | G3: 1400 | H3: 25 | I3: 2000 | J3: 25 | K3: 3100 | L3: 25 | M3: 3500 | N3: 25 | O3: 100 | P3: 2 | Q3: 240 | R3: 2 | S3: 70 | T3: 2 | V3: 2 | W3: 140 | X3: 2 | Y3: 100 | Z3: 2 | AA3: 200 | AB3: 2 | AD3: 2
A4: 77 | B4: 24 | C4: 82 | D4: 24 | E4: 591 | F4: 24 | G4: 1401 | H4: 24 | I4: 2001 | J4: 24 | K4: 3101 | L4: 24 | M4: 3501 | N4: 24 | O4: 110 | P4: 3 | Q4: 250 | R4: 3 | T4: 3 | V4: 3 | W4: 170 | X4: 3 | Y4: 200 | Z4: 3 | AA4: 300 | AB4: 3 | AD4: 3
A5: 78 | B5: 23 | C5: 83 | D5: 23 | E5: 1000 | F5: 24 | G5: 1410 | H5: 24 | I5: 2010 | J5: 24 | K5: 3120 | L5: 24 | M5: 3530 | N5: 24 | O5: 120 | P5: 4 | Q5: 260 | R5: 4 | T5: 4 | V5: 4 | W5: 200 | X5: 4 | Y5: 300 | Z5: 4 | AA5: 400 | AB5: 4 | AD5: 4
A6: 79 | B6: 22 | C6: 84 | D6: 22 | E6: 1001 | F6: 23 | G6: 1411 | H6: 23 | I6: 2011 | J6: 23 | K6: 3121 | L6: 23 | M6: 3531 | N6: 23 | O6: 130 | P6: 5 | Q6: 280 | R6: 5 | S6: 75 | T6: 5 | V6: 5 | W6: 230 | X6: 5 | Y6: 400 | Z6: 5 | AA6: 500 | AB6: 5 | AD6: 5
A7: 80 | B7: 21 | C7: 85 | D7: 22 | E7: 1010 | F7: 23 | G7: 1420 | H7: 23 | I7: 2020 | J7: 23 | K7: 3160 | L7: 23 | M7: 3560 | N7: 23 | O7: 140 | P7: 6 | Q7: 300 | R7: 6 | T7: 6 | V7: 6 | W7: 260 | X7: 6 | Y7: 500 | Z7: 6 | AA7: 600 | AB7: 6 | AD7: 6
A8: 81 | B8: 20 | C8: 86 | D8: 21 | E8: 1011 | F8: 22 | G8: 1421 | H8: 22 | I8: 2021 | J8: 22 | K8: 3161 | L8: 22 | M8: 3561 | N8: 22 | O8: 150 | P8: 7 | Q8: 320 | R8: 7 | T8: 7 | V8: 7 | W8: 290 | X8: 7 | Y8: 550 | Z8: 7 | AA8: 700 | AB8: 7 | AD8: 7
A9: 82 | B9: 20 | C9: 87 | D9: 21 | E9: 1020 | F9: 22 | G9: 1440 | H9: 22 | I9: 2040 | J9: 22 | K9: 3190 | L9: 22 | M9: 3590 | N9: 22 | O9: 160 | P9: 8 | Q9: 340 | R9: 8 | S9: 80 | T9: 8 | V9: 8 | W9: 320 | X9: 8 | Y9: 600 | Z9: 8 | AA9: 800 | AB9: 8 | AD9: 8
A10: 83 | B10: 19 | C10: 88 | D10: 21 | E10: 1021 | F10: 21 | G10: 1441 | H10: 21 | I10: 2041 | J10: 21 | K10: 3191 | L10: 21 | M10: 3591 | N10: 21 | O10: 170 | P10: 9 | Q10: 360 | R10: 9 | T10: 9 | V10: 9 | W10: 350 | X10: 9 | Y10: 650 | Z10: 9 | AA10: 900 | AB10: 9 | AD10: 9
A11: 84 | B11: 19 | C11: 89 | D11: 20 | E11: 1030 | F11: 21 | G11: 1460 | H11: 21 | I11: 2060 | J11: 21 | K11: 3220 | L11: 21 | M11: 4030 | N11: 21 | O11: 180 | P11: 10 | Q11: 380 | R11: 10 | T11: 10 | V11: 10 | W11: 380 | X11: 10 | Y11: 700 | Z11: 10 | AA11: 1000 | AB11: 10 | AD11: 10
A12: 85 | B12: 18 | C12: 90 | D12: 20 | E12: 1031 | F12: 20 | G12: 1461 | H12: 20 | I12: 2061 | J12: 20 | K12: 3221 | L12: 20 | M12: 4031 | N12: 20 | O12: 190 | P12: 11 | Q12: 400 | R12: 11 | S12: 85 | T12: 11 | V12: 11 | W12: 410 | X12: 11 | Y12: 800 | Z12: 11 | AA12: 1100 | AB12: 11 | AD12: 11
A13: 86 | B13: 18 | C13: 91 | D13: 20 | E13: 1050 | F13: 20 | G13: 1490 | H13: 20 | I13: 2080 | J13: 20 | K13: 3260 | L13: 20 | M13: 4070 | N13: 20 | O13: 200 | P13: 12 | Q13: 420 | R13: 12 | T13: 12 | V13: 12 | W13: 440 | X13: 12 | Y13: 900 | Z13: 12 | AA13: 1200 | AB13: 12 | AD13: 12
A14: 87 | B14: 18 | C14: 92 | D14: 19 | E14: 1051 | F14: 19 | G14: 1491 | H14: 19 | I14: 2081 | J14: 19 | K14: 3261 | L14: 19 | M14: 4071 | N14: 19 | O14: 210 | P14: 13 | Q14: 440 | R14: 13 | T14: 13 | V14: 13 | W14: 470 | X14: 13 | Y14: 1000 | Z14: 13 | AA14: 1300 | AB14: 13 | AD14: 13
A15: 88 | B15: 17 | C15: 93 | D15: 19 | E15: 1070 | F15: 19 | G15: 1520 | H15: 19 | I15: 2110 | J15: 19 | K15: 3300 | L15: 19 | M15: 4110 | N15: 19 | O15: 220 | P15: 14 | Q15: 460 | R15: 14 | S15: 90 | T15: 14 | V15: 14 | W15: 500 | X15: 14 | Y15: 1100 | Z15: 14 | AA15: 1400 | AB15: 14 | AD15: 14
A16: 89 | B16: 17 | C16: 94 | D16: 19 | E16: 1071 | F16: 18 | G16: 1521 | H16: 18 | I16: 2111 | J16: 18 | K16: 3301 | L16: 18 | M16: 4111 | N16: 18 | O16: 230 | P16: 15 | Q16: 480 | R16: 15 | T16: 15 | V16: 15 | W16: 530 | X16: 15 | Y16: 1200 | Z16: 15 | AA16: 1500 | AB16: 15 | AD16: 15
A17: 90 | B17: 17 | C17: 95 | D17: 18 | E17: 1090 | F17: 18 | G17: 1560 | H17: 18 | I17: 2150 | J17: 18 | K17: 3340 | L17: 18 | M17: 4150 | N17: 18 | O17: 240 | P17: 16 | Q17: 500 | R17: 16 | S17: 95 | T17: 16 | V17: 16 | W17: 560 | X17: 16 | Y17: 1300 | Z17: 16 | AA17: 1600 | AB17: 16 | AD17: 16
A18: 91 | B18: 16 | C18: 96 | D18: 18 | E18: 1091 | F18: 17 | G18: 1561 | H18: 17 | I18: 2151 | J18: 17 | K18: 3341 | L18: 17 | M18: 4151 | N18: 17 | O18: 260 | P18: 17 | Q18: 520 | R18: 17 | T18: 17 | V18: 17 | W18: 580 | X18: 17 | Y18: 1400 | Z18: 17 | AA18: 1700 | AB18: 17 | AD18: 17
A19: 92 | B19: 16 | C19: 97 | D19: 18 | E19: 1110 | F19: 17 | G19: 2000 | H19: 17 | I19: 2200 | J19: 17 | K19: 3390 | L19: 17 | M19: 4190 | N19: 17 | O19: 280 | P19: 18 | Q19: 540 | R19: 18 | S19: 100 | T19: 18 | V19: 18 | W19: 620 | X19: 18 | Y19: 1600 | Z19: 18 | AA19: 1800 | AB19: 18 | AD19: 18
A20: 93 | B20: 16 | C20: 98 | D20: 17 | E20: 1111 | F20: 16 | G20: 2000 | H20: 16 | I20: 201 | J20: 16 | K20: 3391 | L20: 16 | M20: 4191 | N20: 16 | O20: 300 | P20: 19 | Q20: 560 | R20: 19 | T20: 19 | V20: 19 | W20: 660 | X20: 19 | Y20: 1800 | Z20: 19 | AA20: 1900 | AB20: 19 | AD20: 19
A21: 94 | B21: 15 | C21: 99 | D21: 17 | E21: 1130 | F21: 16 | G21: 2040 | H21: 16 | I21: 2250 | J21: 16 | K21: 3440 | L21: 16 | M21: 4240 | N21: 16 | O21: 320 | P21: 20 | Q21: 580 | R21: 20 | S21: 105 | T21: 20 | V21: 20 | W21: 700 | X21: 20 | Y21: 2000 | Z21: 20 | AA21: 2000 | AB21: 20 | AD21: 20
A22: 95 | B22: 15 | C22: 100 | D22: 17 | E22: 1131 | F22: 15 | G22: 2040 | H22: 15 | I22: 2251 | J22: 15 | K22: 3441 | L22: 15 | M22: 4241 | N22: 15 | O22: 340 | P22: 21 | Q22: 600 | R22: 21 | T22: 21 | V22: 21 | W22: 750 | X22: 21 | Y22: 2300 | Z22: 21 | AA22: 2100 | AB22: 21 | AD22: 21
A23: 96 | B23: 15 | C23: 101 | D23: 17 | E23: 1160 | F23: 15 | G23: 2080 | H23: 15 | I23: 2300 | J23: 15 | K23: 3490 | L23: 15 | M23: 4300 | N23: 15 | O23: 360 | P23: 22 | Q23: 620 | R23: 22 | S23: 110 | T23: 22 | V23: 22 | W23: 800 | X23: 22 | Y23: 2600 | Z23: 22 | AA23: 2200 | AB23: 22 | AD23: 22
A24: 97 | B24: 14 | C24: 102 | D24: 16 | E24: 1161 | F24: 14 | G24: 2080 | H24: 14 | I24: 2301 | J24: 14 | K24: 3491 | L24: 14 | M24: 4301 | N24: 14 | O24: 380 | P24: 23 | Q24: 640 | R24: 23 | S24: 115 | T24: 23 | V24: 23 | W24: 900 | X24: 23 | Y24: 2900 | Z24: 23 | AA24: 2300 | AB24: 23 | AD24: 23
A25: 98 | B25: 14 | C25: 103 | D25: 16 | E25: 1190 | F25: 14 | G25: 2120 | H25: 14 | I25: 2360 | J25: 14 | K25: 3540 | L25: 14 | M25: 4350 | N25: 14 | O25: 400 | P25: 24 | Q25: 660 | R25: 24 | S25: 120 | T25: 24 | V25: 24 | W25: 100 | X25: 24 | Y25: 3200 | Z25: 24 | AA25: 2400 | AB25: 24 | AD25: 24
A26: 99 | B26: 14 | C26: 104 | D26: 16 | E26: 1191 | F26: 13 | G26: 2120 | H26: 13 | I26: 2361 | J26: 13 | K26: 3541 | L26: 13 | M26: 4351 | N26: 13 | O26: 420 | P26: 25 | Q26: 680 | R26: 25 | S26: 125 | T26: 25 | V26: 25 | W26: 110 | X26: 25 | Y26: 3600 | Z26: 25 | AA26: 2500 | AB26: 25 | AD26: 25
A27: 100 | B27: 13 | C27: 105 | D27: 16 | E27: 1210 | F27: 13 | G27: 2180 | H27: 13 | I27: 2420 | J27: 13 | K27: 3590 | L27: 13 | M27: 4420 | N27: 13
A28: 101 | B28: 13 | C28: 106 | D28: 15 | E28: 1211 | F28: 12 | G28: 2181 | H28: 12 | I28: 2421 | J28: 12 | K28: 3591 | L28: 12 | M28: 4421 | N28: 12
A29: 102 | B29: 13 | C29: 107 | D29: 14 | E29: 1250 | F29: 12 | G29: 2240 | H29: 12 | I29: 2480 | J29: 12 | K29: 4050 | L29: 12 | M29: 4480 | N29: 12
A30: 103 | B30: 13 | C30: 108 | D30: 14 | E30: 1351 | F30: 11 | G30: 2241 | H30: 11 | I30: 2481 | J30: 11 | K30: 4051 | L30: 11 | M30: 4481 | N30: 11
A31: 104 | B31: 12 | C31: 109 | D31: 14 | E31: 1300 | F31: 11 | G31: 2300 | H31: 11 | I31: 2540 | J31: 11 | K31: 4100 | L31: 11 | M31: 4560 | N31: 11
A32: 105 | B32: 12 | C32: 110 | D32: 14 | E32: 1301 | F32: 10 | G32: 2301 | H32: 10 | I32: 2541 | J32: 10 | K32: 4101 | L32: 10 | M32: 4561 | N32: 10
A33: 106 | B33: 12 | C33: 111 | D33: 13 | E33: 1350 | F33: 10 | G33: 2360 | H33: 10 | I33: 3000 | J33: 10 | K33: 4170 | L33: 10 | M33: 5040 | N33: 10
A34: 107 | B34: 12 | C34: 112 | D34: 13 | E34: 1351 | F34: 9 | G34: 2361 | H34: 9 | I34: 3001 | J34: 9 | K34: 4171 | L34: 9 | M34: 5041 | N34: 9
A35: 108 | B35: 11 | C35: 113 | D35: 13 | E35: 1400 | F35: 9 | G35: 2420 | H35: 9 | I35: 3060 | J35: 9 | K35: 4240 | L35: 9 | M35: 5120 | N35: 9
A36: 109 | B36: 11 | C36: 114 | D36: 13 | E36: 1401 | F36: 8 | G36: 2421 | H36: 8 | I36: 3061 | J36: 8 | K36: 4241 | L36: 8 | M36: 5121 | N36: 8
A37: 110 | B37: 11 | C37: 115 | D37: 12 | E37: 1450 | F37: 8 | G37: 2480 | H37: 8 | I37: 3130 | J37: 8 | K37: 4310 | L37: 8 | M37: 5200 | N37: 8
A38: 111 | B38: 11 | C38: 116 | D38: 12 | E38: 1451 | F38: 7 | G38: 2481 | H38: 7 | I38: 3131 | J38: 7 | K38: 4311 | L38: 7 | M38: 5201 | N38: 7
... A51: 124 | B51: 8 | C51: 129 | D51: 9 | E51: 5000 | F51: 1 | G51: 7000 | H51: 1 | I51: 9000 | J51: 1 | K51: 12000 | L51: 1 | M51: 13000 | N51: 1
A52: 125 | B52: 8 | C52: 130 | D52: 9
A53: 126 | B53: 7 | C53: 131 | D53: 9
A54: 127 | B54: 7 | C54: 132 | D54: 9
A55: 128 | B55: 7 | C55: 133 | D55: 8
A56: 129 | B56: 7 | C56: 134 | D56: 8
A57: 130 | B57: 7 | C57: 135 | D57: 8
A58: 131 | B58: 6 | C58: 136 | D58: 8
A59: 132 | B59: 6 | C59: 137 | D59: 8
A60: 133 | B60: 6 | C60: 138 | D60: 7
A61: 134 | B61: 6 | C61: 139 | D61: 7
A62: 135 | B62: 6 | C62: 140 | D62: 7
A63: 136 | B63: 5 | C63: 141 | D63: 7
... A102: 174 | B102: 1 | C102: 180 | D102: 1

Sheet Table Po
A1: 50 m | B1: PTS | C1: 60 m | D1: PTS | E1: 50 m H. | F1: PTS | G1: 120 m | H1: PTS | I1: 300 m | J1: PTS | K1: 500 m | L1: PTS | M1: 1000 m | N1: PTS | O1: 1 km marche | P1: PTS | Q1: Longueur | R1: PTS | S1: Triple saut | T1: PTS | U1: Hauteur | V1: PTS | W1: Perche | X1: PTS | Y1: Poids | Z1: PTS | AA1: Javelot | AB1: PTS | AC1: Disque | AD1: PTS | AE1: Ballonde | AF1: PTS
A2: 0 | B2: 25 | C2: 0 | D2: 25 | E2: 0 | F2: 25 | G2: 0 | H2: 25 | I2: 0 | J2: 25 | K2: 0 | L2: 25 | M2: 0 | N2: 25 | O2: 0 | P2: 25 | Q2: 0 | R2: 1 | S2: 0 | T2: 1 | U2: 0 | V2: 1 | W2: 0 | X2: 1 | Y2: 0 | Z2: 1 | AA2: 0 | AB2: 1 | AC2: 0 | AD2: 1 | AE2: 0 | AF2: 1
A3: 74 | B3: 25 | C3: 84 | D3: 25 | E3: 84 | F3: 25 | G3: 160 | H3: 25 | I3: 540 | J3: 25 | K3: 1300 | L3: 25 | M3: 3150 | N3: 25 | O3: 5500 | P3: 25 | Q3: 180 | R3: 2 | S3: 360 | T3: 2 | U3: 80 | V3: 2 | W3: 80 | X3: 2 | Y3: 300 | Z3: 2 | AA3: 500 | AB3: 2 | AC3: 500 | AD3: 2 | AE3: 400 | AF3: 2
E4: 85 | F4: 24 | G4: 161 | H4: 24 | I4: 541 | J4: 24 | K4: 1301 | L4: 24 | M4: 3151 | N4: 24 | O4: 5501 | P4: 24 | Q4: 200 | R4: 3 | S4: 380 | T4: 3 | V4: 3 | W4: 100 | X4: 3 | Y4: 320 | Z4: 3 | AA4: 550 | AB4: 3 | AC4: 550 | AD4: 3 | AE4: 450 | AF4: 3
A5: 75 | B5: 24 | C5: 85 | D5: 24 | E5: 86 | F5: 24 | G5: 164 | H5: 24 | I5: 550 | J5: 24 | K5: 1320 | L5: 24 | M5: 3200 | N5: 24 | O5: 5550 | P5: 24 | Q5: 210 | R5: 4 | S5: 400 | T5: 4 | V5: 4 | W5: 105 | X5: 4 | Y5: 340 | Z5: 4 | AA5: 600 | AB5: 4 | AC5: 600 | AD5: 4 | AE5: 500 | AF5: 4
E6: 87 | F6: 23 | G6: 165 | H6: 23 | I6: 551 | J6: 23 | K6: 1321 | L6: 23 | M6: 3201 | N6: 23 | O6: 5551 | P6: 23 | Q6: 220 | R6: 5 | S6: 420 | T6: 5 | U6: 85 | V6: 5 | W6: 110 | X6: 5 | Y6: 360 | Z6: 5 | AA6: 650 | AB6: 5 | AC6: 650 | AD6: 5 | AE6: 550 | AF6: 5
A7: 76 | B7: 23 | C7: 86 | D7: 23 | E7: 89 | F7: 23 | G7: 168 | H7: 23 | I7: 560 | J7: 23 | K7: 1340 | L7: 23 | M7: 3250 | N7: 23 | O7: 6000 | P7: 23 | Q7: 230 | R7: 6 | S7: 440 | T7: 6 | V7: 6 | W7: 115 | X7: 6 | Y7: 380 | Z7: 6 | AA7: 700 | AB7: 6 | AC7: 700 | AD7: 6 | AE7: 600 | AF7: 6
E8: 90 | F8: 22 | G8: 169 | H8: 22 | I8: 561 | J8: 22 | K8: 1341 | L8: 22 | M8: 3251 | N8: 22 | O8: 6001 | P8: 22 | Q8: 240 | R8: 7 | S8: 460 | T8: 7 | V8: 7 | W8: 120 | X8: 7 | Y8: 400 | Z8: 7 | AA8: 750 | AB8: 7 | AC8: 750 | AD8: 7 | AE8: 650 | AF8: 7
A9: 77 | B9: 22 | C9: 87 | D9: 22 | E9: 92 | F9: 22 | G9: 172 | H9: 22 | I9: 570 | J9: 22 | K9: 1360 | L9: 22 | M9: 3300 | N9: 22 | O9: 6050 | P9: 22 | Q9: 250 | R9: 8 | S9: 480 | T9: 8 | U9: 90 | V9: 8 | W9: 125 | X9: 8 | Y9: 420 | Z9: 8 | AA9: 800 | AB9: 8 | AC9: 800 | AD9: 8 | AE9: 700 | AF9: 8
E10: 93 | F10: 21 | G10: 173 | H10: 21 | I10: 571 | J10: 21 | K10: 1361 | L10: 21 | M10: 3301 | N10: 21 | O10: 6051 | P10: 21 | Q10: 260 | R10: 9 | S10: 500 | T10: 9 | V10: 9 | W10: 130 | X10: 9 | Y10: 440 | Z10: 9 | AA10: 850 | AB10: 9 | AC10: 850 | AD10: 9 | AE10: 750 | AF10: 9
A11: 78 | B11: 21 | C11: 88 | D11: 21 | E11: 95 | F11: 21 | G11: 176 | H11: 21 | I11: 580 | J11: 21 | K11: 1380 | L11: 21 | M11: 3350 | N11: 21 | O11: 6100 | P11: 21 | Q11: 270 | R11: 10 | S11: 520 | T11: 10 | V11: 10 | W11: 135 | X11: 10 | Y11: 460 | Z11: 10 | AA11: 900 | AB11: 10 | AC11: 900 | AD11: 10 | AE11: 800 | AF11: 10
E12: 96 | F12: 20 | G12: 177 | H12: 20 | I12: 581 | J12: 20 | K12: 1381 | L12: 20 | M12: 3351 | N12: 20 | O12: 6101 | P12: 20 | Q12: 280 | R12: 11 | S12: 540 | T12: 11 | U12: 95 | V12: 11 | W12: 140 | X12: 11 | Y12: 480 | Z12: 11 | AA12: 950 | AB12: 11 | AC12: 950 | AD12: 11 | AE12: 850 | AF12: 11
A13: 79 | B13: 20 | C13: 89 | D13: 20 | E13: 98 | F13: 20 | G13: 180 | H13: 20 | I13: 590 | J13: 20 | K13: 1400 | L13: 20 | M13: 3400 | N13: 20 | O13: 6150 | P13: 20 | Q13: 290 | R13: 12 | S13: 560 | T13: 12 | V13: 12 | W13: 145 | X13: 12 | Y13: 500 | Z13: 12 | AA13: 1000 | AB13: 12 | AC13: 1000 | AD13: 12 | AE13: 900 | AF13: 12
E14: 99 | F14: 19 | G14: 181 | H14: 19 | I14: 591 | J14: 19 | K14: 1401 | L14: 19 | M14: 3401 | N14: 19 | O14: 6151 | P14: 19 | Q14: 300 | R14: 13 | S14: 580 | T14: 13 | V14: 13 | W14: 150 | X14: 13 | Y14: 520 | Z14: 13 | AA14: 1100 | AB14: 13 | AC14: 1100 | AD14: 13 | AE14: 950 | AF14: 13
A15: 80 | B15: 19 | C15: 90 | D15: 19 | E15: 102 | F15: 19 | G15: 185 | H15: 19 | I15: 1000 | J15: 19 | K15: 1430 | L15: 19 | M15: 3450 | N15: 19 | O15: 6220 | P15: 19 | Q15: 310 | R15: 14 | S15: 600 | T15: 14 | U15: 100 | V15: 14 | W15: 155 | X15: 14 | Y15: 540 | Z15: 14 | AA15: 1200 | AB15: 14 | AC15: 1200 | AD15: 14 | AE15: 1000 | AF15: 14
C16: 91 | D16: 18 | E16: 103 | F16: 18 | G16: 186 | H16: 18 | I16: 1001 | J16: 18 | K16: 1431 | L16: 18 | M16: 3451 | N16: 18 | O16: 6221 | P16: 18 | Q16: 320 | R16: 15 | S16: 620 | T16: 15 | V16: 15 | W16: 160 | X16: 15 | Y16: 560 | Z16: 15 | AA16: 1300 | AB16: 15 | AC16: 1300 | AD16: 15 | AE16: 1100 | AF16: 15
A17: 81 | B17: 18 | C17: 92 | D17: 18 | E17: 106 | F17: 18 | G17: 190 | H17: 18 | I17: 1020 | J17: 18 | K17: 1460 | L17: 18 | M17: 3500 | N17: 18 | O17: 6290 | P17: 18 | Q17: 330 | R17: 16 | S17: 640 | T17: 16 | U17: 105 | V17: 16 | W17: 165 | X17: 16 | Y17: 580 | Z17: 16 | AA17: 1400 | AB17: 16 | AC17: 1400 | AD17: 16 | AE17: 1200 | AF17: 16
A18: 82 | B18: 17 | C18: 93 | D18: 17 | E18: 107 | F18: 17 | G18: 191 | H18: 17 | I18: 1021 | J18: 17 | K18: 1461 | L18: 17 | M18: 3501 | N18: 17 | O18: 6291 | P18: 17 | Q18: 340 | R18: 17 | S18: 660 | T18: 17 | V18: 17 | W18: 170 | X18: 17 | Y18: 600 | Z18: 17 | AA18: 1500 | AB18: 17 | AC18: 1500 | AD18: 17 | AE18: 1400 | AF18: 17
A19: 83 | B19: 17 | C19: 94 | D19: 17 | E19: 110 | F19: 17 | G19: 195 | H19: 17 | I19: 1040 | J19: 17 | K19: 1490 | L19: 17 | M19: 3550 | N19: 17 | O19: 6360 | P19: 17 | Q19: 350 | R19: 18 | S19: 680 | T19: 18 | U19: 110 | V19: 18 | W19: 175 | X19: 18 | Y19: 620 | Z19: 18 | AA19: 1600 | AB19: 18 | AC19: 1600 | AD19: 18 | AE19: 1600 | AF19: 18
A20: 84 | B20: 16 | C20: 95 | D20: 16 | E20: 111 | F20: 16 | G20: 196 | H20: 16 | I20: 1041 | J20: 16 | K20: 1491 | L20: 16 | M20: 3551 | N20: 16 | O20: 6361 | P20: 16 | Q20: 360 | R20: 19 | S20: 700 | T20: 19 | V20: 19 | W20: 180 | X20: 19 | Y20: 640 | Z20: 19 | AA20: 1700 | AB20: 19 | AC20: 1700 | AD20: 19 | AE20: 1800 | AF20: 19
A21: 85 | B21: 16 | C21: 96 | D21: 16 | E21: 114 | F21: 16 | G21: 200 | H21: 16 | I21: 1060 | J21: 16 | K21: 1520 | L21: 16 | M21: 4000 | N21: 16 | O21: 6430 | P21: 16 | Q21: 370 | R21: 20 | S21: 725 | T21: 20 | U21: 115 | V21: 20 | W21: 190 | X21: 20 | Y21: 670 | Z21: 20 | AA21: 1800 | AB21: 20 | AC21: 1800 | AD21: 20 | AE21: 2000 | AF21: 20
A22: 86 | B22: 15 | C22: 97 | D22: 15 | E22: 115 | F22: 15 | G22: 201 | H22: 15 | I22: 1061 | J22: 15 | K22: 1521 | L22: 15 | M22: 4001 | N22: 15 | O22: 6431 | P22: 15 | Q22: 380 | R22: 21 | S22: 750 | T22: 21 | V22: 21 | W22: 200 | X22: 21 | Y22: 700 | Z22: 21 | AA22: 2000 | AB22: 21 | AC22: 2000 | AD22: 21 | AE22: 2200 | AF22: 21
A23: 87 | B23: 15 | C23: 98 | D23: 15 | E23: 118 | F23: 15 | G23: 205 | H23: 15 | I23: 1080 | J23: 15 | K23: 1550 | L23: 15 | M23: 4050 | N23: 15 | O23: 6500 | P23: 15 | Q23: 390 | R23: 22 | S23: 775 | T23: 22 | U23: 120 | V23: 22 | W23: 220 | X23: 22 | Y23: 750 | Z23: 22 | AA23: 2200 | AB23: 22 | AC23: 2200 | AD23: 22 | AE23: 2400 | AF23: 22
A24: 88 | B24: 14 | C24: 99 | D24: 14 | E24: 119 | F24: 14 | G24: 206 | H24: 14 | I24: 1081 | J24: 14 | K24: 1551 | L24: 14 | M24: 4051 | N24: 14 | O24: 6501 | P24: 14 | Q24: 400 | R24: 23 | S24: 800 | T24: 23 | U24: 125 | V24: 23 | W24: 240 | X24: 23 | Y24: 800 | Z24: 23 | AA24: 2400 | AB24: 23 | AC24: 2400 | AD24: 23 | AE24: 2600 | AF24: 23
A25: 89 | B25: 14 | C25: 100 | D25: 14 | E25: 122 | F25: 14 | G25: 210 | H25: 14 | I25: 1100 | J25: 14 | K25: 1580 | L25: 14 | M25: 4100 | N25: 14 | O25: 6570 | P25: 14 | Q25: 420 | R25: 24 | S25: 850 | T25: 24 | U25: 130 | V25: 24 | W25: 260 | X25: 24 | Y25: 850 | Z25: 24 | AA25: 2700 | AB25: 24 | AC25: 2600 | AD25: 24 | AE25: 2700 | AF25: 24
A26: 90 | B26: 13 | C26: 101 | D26: 13 | E26: 123 | F26: 13 | G26: 211 | H26: 13 | I26: 1101 | J26: 13 | K26: 1581 | L26: 13 | M26: 4101 | N26: 13 | O26: 6571 | P26: 13 | Q26: 440 | R26: 25 | S26: 950 | T26: 25 | U26: 135 | V26: 25 | W26: 280 | X26: 25 | Y26: 950 | Z26: 25 | AA26: 3000 | AB26: 25 | AC26: 2800 | AD26: 25 | AE26: 2900 | AF26: 25
A27: 91 | B27: 13 | C27: 102 | D27: 13 | E27: 126 | F27: 13 | G27: 215 | H27: 13 | I27: 1120 | J27: 13 | K27: 2020 | L27: 13 | M27: 4160 | N27: 13 | O27: 7040 | P27: 13
A28: 92 | B28: 12 | C28: 103 | D28: 12 | E28: 127 | F28: 12 | G28: 216 | H28: 12 | I28: 1121 | J28: 12 | K28: 2021 | L28: 12 | M28: 4161 | N28: 12 | O28: 7041 | P28: 12
A29: 94 | B29: 12 | C29: 105 | D29: 12 | E29: 130 | F29: 12 | G29: 220 | H29: 12 | I29: 1140 | J29: 12 | K29: 2060 | L29: 12 | M29: 4220 | N29: 12 | O29: 7120 | P29: 12
A30: 95 | B30: 11 | C30: 106 | D30: 11 | E30: 131 | F30: 11 | G30: 221 | H30: 11 | I30: 1141 | J30: 11 | K30: 2061 | L30: 11 | M30: 4221 | N30: 11 | O30: 7121 | P30: 11
A31: 97 | B31: 11 | C31: 108 | D31: 11 | E31: 134 | F31: 11 | G31: 225 | H31: 11 | I31: 1160 | J31: 11 | K31: 2100 | L31: 11 | M31: 4300 | N31: 11 | O31: 7200 | P31: 11
A32: 98 | B32: 10 | C32: 109 | D32: 10 | E32: 135 | F32: 10 | G32: 226 | H32: 10 | I32: 1161 | J32: 10 | K32: 2101 | L32: 10 | M32: 4301 | N32: 10 | O32: 7201 | P32: 10
A33: 100 | B33: 10 | C33: 111 | D33: 10 | E33: 138 | F33: 10 | G33: 232 | H33: 10 | I33: 1180 | J33: 10 | K33: 2150 | L33: 10 | M33: 4380 | N33: 10 | O33: 7280 | P33: 10
A34: 101 | B34: 9 | C34: 112 | D34: 9 | E34: 139 | F34: 9 | G34: 233 | H34: 9 | I34: 1181 | J34: 9 | K34: 2151 | L34: 9 | M34: 4381 | N34: 9 | O34: 7281 | P34: 9
A35: 103 | B35: 9 | C35: 114 | D35: 9 | E35: 142 | F35: 9 | G35: 239 | H35: 9 | I35: 1200 | J35: 9 | K35: 2200 | L35: 9 | M35: 4460 | N35: 9 | O35: 7360 | P35: 9
A36: 104 | B36: 8 | C36: 115 | D36: 8 | E36: 143 | F36: 8 | G36: 240 | H36: 8 | I36: 1201 | J36: 8 | K36: 2201 | L36: 8 | M36: 4461 | N36: 8 | O36: 7361 | P36: 8
A37: 106 | B37: 8 | C37: 118 | D37: 8 | E37: 146 | F37: 8 | G37: 246 | H37: 8 | I37: 1230 | J37: 8 | K37: 2250 | L37: 8 | M37: 4540 | N37: 8 | O37: 7440 | P37: 8
A38: 107 | B38: 7 | C38: 119 | D38: 7 | E38: 147 | F38: 7 | G38: 247 | H38: 7 | I38: 1231 | J38: 7 | K38: 2251 | L38: 7 | M38: 4541 | N38: 7 | O38: 7441 | P38: 7
... A50: 127 | B50: 1 | C50: 146 | D50: 1 | E50: 171 | F50: 2 | G50: 289 | H50: 1 | I50: 1411 | J50: 1 | K50: 2551 | L50: 1 | M50: 5501 | N50: 1 | O50: 8401 | P50: 1
A51: 50 m | B51: PTS | C51: 60 m | D51: PTS | E51: 50 m H. | F51: PTS | G51: 120 m | H51: PTS | I51: 300 m | J51: PTS | K51: 500 m | L51: PTS | M51: 1000 m | N51: PTS | O51: 1 km marche | P51: PTS

Sheet Table BeF
A1: 50 m | B1: PTS | C1: 60 m | D1: PTS | E1: 50 m H. | F1: PTS | G1: 120 m | H1: PTS | I1: 300 m | J1: PTS | K1: 500 m | L1: PTS | M1: 1000 m | N1: PTS | O1: 2000 m | P1: PTS | Q1: 1 km marche | R1: PTS | S1: 2 km marche | T1: PTS | U1: LONGUEUR | V1: PTS | W1: T.S. | X1: PTS | Y1: HAUTEUR | Z1: PTS | AA1: PERCHE | AB1: PTS | AC1: POIDS | AD1: PTS | AE1: DISQUE | AF1: PTS | AG1: JAVELOT | AH1: PTS | AI1: MARTEAU | AJ1: PTS
A2: 0 | B2: 25 | C2: 0 | D2: 25 | E2: 0 | F2: 25 | G2: 0 | H2: 25 | I2: 0 | J2: 25 | K2: 0 | L2: 25 | M2: 0 | N2: 25 | O2: 0 | P2: 25 | Q2: 0 | R2: 25 | S2: 0 | T2: 25 | U2: 0 | V2: 1 | W2: 0 | X2: 1 | Y2: 0 | Z2: 1 | AA2: 0 | AB2: 1 | AC2: 0 | AD2: 1 | AE2: 0 | AF2: 1 | AG2: 0 | AH2: 1 | AI2: 0 | AJ2: 1
A3: 68 | B3: 25 | C3: 79 | D3: 25 | E3: 87 | F3: 25 | G3: 154 | H3: 25 | I3: 470 | J3: 25 | K3: 1240 | L3: 25 | M3: 3050 | N3: 25 | O3: 7000 | P3: 25 | Q3: 5500 | R3: 25 | S3: 11300 | T3: 25 | U3: 250 | V3: 2 | W3: 500 | X3: 2 | Y3: 80 | Z3: 2 | AA3: 100 | AB3: 2 | AC3: 450 | AD3: 2 | AE3: 200 | AF3: 2 | AG3: 500 | AH3: 2 | AI3: 300 | AJ3: 2
C4: 80 | D4: 24 | E4: 88 | F4: 24 | G4: 155 | H4: 24 | I4: 471 | J4: 24 | K4: 1241 | L4: 24 | M4: 3051 | N4: 24 | O4: 7001 | P4: 24 | Q4: 5501 | R4: 24 | S4: 11301 | T4: 24
A5: 69 | B5: 24 | C5: 81 | D5: 24 | E5: 89 | F5: 24 | G5: 157 | H5: 24 | I5: 485 | J5: 24 | K5: 1260 | L5: 24 | M5: 3090 | N5: 24 | O5: 7100 | P5: 24 | Q5: 6000 | R5: 24 | S5: 11550 | T5: 24 | U5: 260 | V5: 3 | W5: 550 | X5: 3 | Y5: 85 | Z5: 3 | AB5: 3 | AC5: 500 | AD5: 3 | AE5: 300 | AF5: 3 | AG5: 600 | AH5: 3 | AI5: 400 | AJ5: 3
C6: 82 | D6: 23 | E6: 90 | F6: 23 | G6: 158 | H6: 23 | I6: 486 | J6: 23 | K6: 1261 | L6: 23 | M6: 3091 | N6: 23 | O6: 7101 | P6: 23 | Q6: 6001 | R6: 23 | S6: 11551 | T6: 23
A7: 70 | B7: 23 | C7: 83 | D7: 23 | E7: 91 | F7: 23 | G7: 160 | H7: 23 | I7: 500 | J7: 23 | K7: 1280 | L7: 23 | M7: 3130 | N7: 23 | O7: 7200 | P7: 23 | Q7: 6100 | R7: 23 | S7: 12100 | T7: 23 | U7: 270 | V7: 4 | W7: 575 | X7: 4 | Y7: 90 | Z7: 4 | AA7: 110 | AB7: 4 | AC7: 525 | AD7: 4 | AE7: 400 | AF7: 4 | AG7: 700 | AH7: 4 | AI7: 500 | AJ7: 4
A8: 71 | B8: 22 | C8: 84 | D8: 22 | E8: 92 | F8: 22 | G8: 161 | H8: 22 | I8: 501 | J8: 22 | K8: 1281 | L8: 22 | M8: 3131 | N8: 22 | O8: 7201 | P8: 22 | Q8: 6101 | R8: 22 | S8: 12101 | T8: 22
A9: 72 | B9: 22 | C9: 85 | D9: 22 | E9: 94 | F9: 22 | G9: 163 | H9: 22 | I9: 520 | J9: 22 | K9: 1300 | L9: 22 | M9: 3170 | N9: 22 | O9: 7300 | P9: 22 | Q9: 6200 | R9: 22 | S9: 12250 | T9: 22 | U9: 280 | V9: 5 | W9: 600 | X9: 5 | Y9: 95 | Z9: 5 | AB9: 5 | AC9: 550 | AD9: 5 | AE9: 500 | AF9: 5 | AG9: 800 | AH9: 5 | AI9: 600 | AJ9: 5
A10: 73 | B10: 21 | C10: 86 | D10: 21 | E10: 95 | F10: 21 | G10: 164 | H10: 21 | I10: 521 | J10: 21 | K10: 1301 | L10: 21 | M10: 3171 | N10: 21 | O10: 7301 | P10: 21 | Q10: 6201 | R10: 21 | S10: 12251 | T10: 21
A11: 74 | B11: 21 | C11: 87 | D11: 21 | E11: 97 | F11: 21 | G11: 166 | H11: 21 | I11: 540 | J11: 21 | K11: 1320 | L11: 21 | M11: 3210 | N11: 21 | O11: 7400 | P11: 21 | Q11: 6300 | R11: 21 | S11: 12400 | T11: 21 | U11: 290 | V11: 6 | W11: 625 | X11: 6 | Y11: 100 | Z11: 6 | AA11: 120 | AB11: 6 | AC11: 575 | AD11: 6 | AE11: 600 | AF11: 6 | AG11: 900 | AH11: 6 | AI11: 700 | AJ11: 6
A12: 75 | B12: 20 | C12: 88 | D12: 20 | E12: 98 | F12: 20 | G12: 167 | H12: 20 | I12: 541 | J12: 20 | K12: 1321 | L12: 20 | M12: 3211 | N12: 20 | O12: 7401 | P12: 20 | Q12: 6301 | R12: 20 | S12: 12401 | T12: 20
A13: 76 | B13: 20 | C13: 89 | D13: 20 | E13: 100 | F13: 20 | G13: 170 | H13: 20 | I13: 560 | J13: 20 | K13: 1340 | L13: 20 | M13: 3250 | N13: 20 | O13: 7500 | P13: 20 | Q13: 6400 | R13: 20 | S13: 12550 | T13: 20 | U13: 300 | V13: 7 | W13: 650 | X13: 7 | Y13: 105 | Z13: 7 | AB13: 7 | AC13: 600 | AD13: 7 | AE13: 700 | AF13: 7 | AG13: 1000 | AH13: 7 | AI13: 800 | AJ13: 7
A14: 77 | B14: 19 | C14: 90 | D14: 19 | E14: 101 | F14: 19 | G14: 171 | H14: 19 | I14: 561 | J14: 19 | K14: 1341 | L14: 19 | M14: 3251 | N14: 19 | O14: 7501 | P14: 19 | Q14: 6401 | R14: 19 | S14: 12551 | T14: 19
A15: 78 | B15: 19 | C15: 91 | D15: 19 | E15: 103 | F15: 19 | G15: 175 | H15: 19 | I15: 580 | J15: 19 | K15: 1370 | L15: 19 | M15: 3300 | N15: 19 | O15: 8050 | P15: 19 | Q15: 6500 | R15: 19 | S15: 13100 | T15: 19 | U15: 310 | V15: 8 | W15: 675 | X15: 8 | Z15: 8 | AA15: 130 | AB15: 8 | AC15: 625 | AD15: 8 | AE15: 800 | AF15: 8 | AG15: 1100 | AH15: 8 | AI15: 900 | AJ15: 8
A16: 79 | B16: 18 | C16: 92 | D16: 18 | E16: 104 | F16: 18 | G16: 176 | H16: 18 | I16: 581 | J16: 18 | K16: 1371 | L16: 18 | M16: 3301 | N16: 18 | O16: 8051 | P16: 18 | Q16: 6501 | R16: 18 | S16: 13101 | T16: 18
A17: 81 | B17: 18 | C17: 93 | D17: 18 | E17: 106 | F17: 18 | G17: 180 | H17: 18 | I17: 1000 | J17: 18 | K17: 1400 | L17: 18 | M17: 3350 | N17: 18 | O17: 8200 | P17: 18 | Q17: 7000 | R17: 18 | S17: 13250 | T17: 18 | U17: 320 | V17: 9 | W17: 700 | X17: 9 | Y17: 110 | Z17: 9 | AA17: 140 | AB17: 9 | AC17: 650 | AD17: 9 | AE17: 900 | AF17: 9 | AG17: 1200 | AH17: 9 | AI17: 1000 | AJ17: 9
A18: 82 | B18: 17 | C18: 94 | D18: 17 | E18: 107 | F18: 17 | G18: 181 | H18: 17 | I18: 1001 | J18: 17 | K18: 1401 | L18: 17 | M18: 3351 | N18: 17 | O18: 8201 | P18: 17 | Q18: 7001 | R18: 17 | S18: 13251 | T18: 17
A19: 84 | B19: 17 | C19: 96 | D19: 17 | E19: 109 | F19: 17 | G19: 185 | H19: 17 | I19: 1020 | J19: 17 | K19: 1430 | L19: 17 | M19: 3400 | N19: 17 | O19: 8350 | P19: 17 | Q19: 7100 | R19: 17 | S19: 13400 | T19: 17 | U19: 330 | V19: 10 | W19: 720 | X19: 10 | Z19: 10 | AA19: 150 | AB19: 10 | AC19: 675 | AD19: 10 | AE19: 1000 | AF19: 10 | AG19: 1300 | AH19: 10 | AI19: 1100 | AJ19: 10
A20: 85 | B20: 16 | C20: 97 | D20: 16 | E20: 110 | F20: 16 | G20: 186 | H20: 16 | I20: 1021 | J20: 16 | K20: 1431 | L20: 16 | M20: 3401 | N20: 16 | O20: 8351 | P20: 16 | Q20: 7101 | R20: 16 | S20: 13401 | T20: 16
A21: 87 | B21: 16 | C21: 99 | D21: 16 | E21: 112 | F21: 16 | G21: 190 | H21: 16 | I21: 1060 | J21: 16 | K21: 1460 | L21: 16 | M21: 3450 | N21: 16 | O21: 8500 | P21: 16 | Q21: 7200 | R21: 16 | S21: 14000 | T21: 16 | U21: 340 | V21: 11 | W21: 740 | X21: 11 | Y21: 115 | Z21: 11 | AA21: 160 | AB21: 11 | AC21: 700 | AD21: 11 | AE21: 1100 | AF21: 11 | AG21: 1400 | AH21: 11 | AI21: 1200 | AJ21: 11
A22: 88 | B22: 15 | C22: 100 | D22: 15 | E22: 113 | F22: 15 | G22: 191 | H22: 15 | I22: 1061 | J22: 15 | K22: 1461 | L22: 15 | M22: 3451 | N22: 15 | O22: 8501 | P22: 15 | Q22: 7201 | R22: 15 | S22: 14001 | T22: 15
A23: 90 | B23: 15 | C23: 102 | D23: 15 | E23: 115 | F23: 15 | G23: 195 | H23: 15 | I23: 1100 | J23: 15 | K23: 1490 | L23: 15 | M23: 3500 | N23: 15 | O23: 9050 | P23: 15 | Q23: 7300 | R23: 15 | S23: 14200 | T23: 15 | U23: 350 | V23: 12 | W23: 760 | X23: 12 | Z23: 12 | AA23: 175 | AB23: 12 | AC23: 720 | AD23: 12 | AE23: 1200 | AF23: 12 | AG23: 1500 | AH23: 12 | AI23: 1300 | AJ23: 12
A24: 91 | B24: 14 | C24: 103 | D24: 14 | E24: 116 | F24: 14 | G24: 196 | H24: 14 | I24: 1101 | J24: 14 | K24: 1491 | L24: 14 | M24: 3501 | N24: 14 | O24: 9051 | P24: 14 | Q24: 7301 | R24: 14 | S24: 14201 | T24: 14
A25: 93 | B25: 14 | C25: 106 | D25: 14 | E25: 118 | F25: 14 | G25: 200 | H25: 14 | I25: 1140 | J25: 14 | K25: 1520 | L25: 14 | M25: 3560 | N25: 14 | O25: 9200 | P25: 14 | Q25: 7400 | R25: 14 | S25: 14400 | T25: 14 | U25: 360 | V25: 13 | W25: 780 | X25: 13 | Y25: 120 | Z25: 13 | AA25: 190 | AB25: 13 | AC25: 740 | AD25: 13 | AE25: 1300 | AF25: 13 | AG25: 1600 | AH25: 13 | AI25: 1400 | AJ25: 13
A26: 94 | B26: 13 | C26: 107 | D26: 13 | E26: 119 | F26: 13 | G26: 201 | H26: 13 | I26: 1141 | J26: 13 | K26: 1521 | L26: 13 | M26: 3561 | N26: 13 | O26: 9201 | P26: 13 | Q26: 7401 | R26: 13 | S26: 14401 | T26: 13
A27: 96 | B27: 13 | C27: 110 | D27: 13 | E27: 121 | F27: 13 | G27: 205 | H27: 13 | I27: 1180 | J27: 13 | K27: 1550 | L27: 13 | M27: 4020 | N27: 13 | O27: 9350 | P27: 13 | Q27: 7500 | R27: 13 | S27: 15000 | T27: 13 | U27: 370 | V27: 14 | W27: 800 | X27: 14 | Z27: 14 | AA27: 205 | AB27: 14 | AC27: 760 | AD27: 14 | AE27: 1400 | AF27: 14 | AG27: 1700 | AH27: 14 | AI27: 1500 | AJ27: 14
A28: 97 | B28: 12 | C28: 111 | D28: 12 | E28: 122 | F28: 12 | G28: 206 | H28: 12 | I28: 1181 | J28: 12 | K28: 1551 | L28: 12 | M28: 4021 | N28: 12 | O28: 9351 | P28: 12 | Q28: 7501 | R28: 12 | S28: 15001 | T28: 12
A29: 99 | B29: 12 | C29: 114 | D29: 12 | E29: 124 | F29: 12 | G29: 210 | H29: 12 | I29: 1220 | J29: 12 | K29: 1580 | L29: 12 | M29: 4080 | N29: 12 | O29: 9500 | P29: 12 | Q29: 8000 | R29: 12 | S29: 15200 | T29: 12 | U29: 380 | V29: 15 | W29: 820 | X29: 15 | Y29: 125 | Z29: 15 | AA29: 220 | AB29: 15 | AC29: 780 | AD29: 15 | AE29: 1500 | AF29: 15 | AG29: 1800 | AH29: 15 | AI29: 1600 | AJ29: 15
A30: 100 | B30: 11 | C30: 115 | D30: 11 | E30: 125 | F30: 11 | G30: 211 | H30: 11 | I30: 1221 | J30: 11 | K30: 1581 | L30: 11 | M30: 4081 | N30: 11 | O30: 9501 | P30: 11 | Q30: 8001 | R30: 11 | S30: 15201 | T30: 11
A31: 102 | B31: 11 | C31: 118 | D31: 11 | E31: 128 | F31: 11 | G31: 215 | H31: 11 | I31: 1260 | J31: 11 | K31: 2020 | L31: 11 | M31: 4120 | N31: 11 | O31: 10050 | P31: 11 | Q31: 8100 | R31: 11 | S31: 15400 | T31: 11 | U31: 390 | V31: 16 | W31: 840 | X31: 16 | Z31: 16 | AA31: 230 | AB31: 16 | AC31: 800 | AD31: 16 | AE31: 1600 | AF31: 16 | AG31: 1900 | AH31: 16 | AI31: 1700 | AJ31: 16
A32: 103 | B32: 10 | C32: 119 | D32: 10 | E32: 129 | F32: 10 | G32: 216 | H32: 10 | I32: 1261 | J32: 10 | K32: 2021 | L32: 10 | M32: 4121 | N32: 10 | O32: 10051 | P32: 10 | Q32: 8101 | R32: 10 | S32: 15401 | T32: 10
A33: 105 | B33: 10 | C33: 122 | D33: 10 | E33: 132 | F33: 10 | G33: 220 | H33: 10 | I33: 1300 | J33: 10 | K33: 2060 | L33: 10 | M33: 4200 | N33: 10 | O33: 10200 | P33: 10 | Q33: 8200 | R33: 10 | S33: 16000 | T33: 10 | U33: 400 | V33: 17 | W33: 860 | X33: 17 | Y33: 130 | Z33: 17 | AA33: 240 | AB33: 17 | AC33: 825 | AD33: 17 | AE33: 1700 | AF33: 17 | AG33: 2000 | AH33: 17 | AI33: 1800 | AJ33: 17
A34: 106 | B34: 9 | C34: 123 | D34: 9 | E34: 133 | F34: 9 | G34: 221 | H34: 9 | I34: 1301 | J34: 9 | K34: 2061 | L34: 9 | M34: 4201 | N34: 9 | O34: 10201 | P34: 9 | Q34: 8201 | R34: 9 | S34: 16001 | T34: 9
A35: 109 | B35: 9 | C35: 126 | D35: 9 | E35: 136 | F35: 9 | G35: 225 | H35: 9 | I35: 1340 | J35: 9 | K35: 2100 | L35: 9 | M35: 4280 | N35: 9 | O35: 10400 | P35: 9 | Q35: 8300 | R35: 9 | S35: 16200 | T35: 9 | U35: 410 | V35: 18 | W35: 880 | X35: 18 | Z35: 18 | AA35: 250 | AB35: 18 | AC35: 850 | AD35: 18 | AE35: 1800 | AF35: 18 | AG35: 2100 | AH35: 18 | AI35: 1900 | AJ35: 18
A36: 110 | B36: 8 | C36: 127 | D36: 8 | E36: 137 | F36: 8 | G36: 226 | H36: 8 | I36: 1341 | J36: 8 | K36: 2101 | L36: 8 | M36: 4281 | N36: 8 | O36: 10401 | P36: 8 | Q36: 8301 | R36: 8 | S36: 16201 | T36: 8
A37: 113 | B37: 8 | C37: 130 | D37: 8 | E37: 140 | F37: 8 | G37: 230 | H37: 8 | I37: 1380 | J37: 8 | K37: 2150 | L37: 8 | M37: 4360 | N37: 8 | O37: 11000 | P37: 8 | Q37: 8400 | R37: 8 | S37: 16400 | T37: 8 | U37: 420 | V37: 19 | W37: 900 | X37: 19 | Y37: 135 | Z37: 19 | AA37: 260 | AB37: 19 | AC37: 875 | AD37: 19 | AE37: 1900 | AF37: 19 | AG37: 2200 | AH37: 19 | AI37: 2100 | AJ37: 19
A38: 114 | B38: 7 | C38: 131 | D38: 7 | E38: 141 | F38: 7 | G38: 231 | H38: 7 | I38: 1381 | J38: 7 | K38: 2151 | L38: 7 | M38: 4361 | N38: 7 | O38: 11001 | P38: 7 | Q38: 8401 | R38: 7 | S38: 16401 | T38: 7
A39: 117 | B39: 7 | C39: 135 | D39: 7 | E39: 145 | F39: 7 | G39: 237 | H39: 7 | I39: 1420 | J39: 7 | K39: 2200 | L39: 7 | M39: 4420 | N39: 7 | O39: 11200 | P39: 7 | Q39: 8500 | R39: 7 | S39: 17100 | T39: 7 | U39: 430 | V39: 20 | W39: 925 | X39: 20 | Z39: 20 | AB39: 20 | AC39: 900 | AD39: 20 | AE39: 2000 | AF39: 20 | AG39: 2400 | AH39: 20 | AI39: 2300 | AJ39: 20
A40: 118 | B40: 6 | C40: 136 | D40: 6 | E40: 146 | F40: 6 | G40: 238 | H40: 6 | I40: 1421 | J40: 6 | K40: 2201 | L40: 6 | M40: 4421 | N40: 6 | O40: 11201 | P40: 6 | Q40: 8501 | R40: 6 | S40: 17101 | T40: 6
A41: 122 | B41: 6 | C41: 140 | D41: 6 | E41: 150 | F41: 6 | G41: 244 | H41: 6 | I41: 1460 | J41: 6 | K41: 2250 | L41: 6 | M41: 4480 | N41: 6 | O41: 11400 | P41: 6 | Q41: 9050 | R41: 6 | S41: 17400 | T41: 6 | U41: 440 | V41: 21 | W41: 950 | X41: 21 | Y41: 140 | Z41: 21 | AA41: 270 | AB41: 21 | AC41: 925 | AD41: 21 | AE41: 2200 | AF41: 21 | AG41: 2600 | AH41: 21 | AI41: 2500 | AJ41: 21
A42: 123 | B42: 5 | C42: 141 | D42: 5 | E42: 151 | F42: 5 | G42: 245 | H42: 5 | I42: 1461 | J42: 5 | K42: 2251 | L42: 5 | M42: 4481 | N42: 5 | O42: 11401 | P42: 5 | Q42: 9051 | R42: 5 | S42: 17401 | T42: 5
A43: 127 | B43: 5 | C43: 145 | D43: 5 | E43: 155 | F43: 5 | G43: 251 | H43: 5 | I43: 1500 | J43: 5 | K43: 2300 | L43: 5 | M43: 4540 | N43: 5 | O43: 12000 | P43: 5 | Q43: 9200 | R43: 5 | S43: 18100 | T43: 5 | U43: 450 | V43: 22 | W43: 975 | X43: 22 | Z43: 22 | AB43: 22 | AC43: 950 | AD43: 22 | AE43: 2400 | AF43: 22 | AG43: 2800 | AH43: 22 | AI43: 2700 | AJ43: 22
A44: 128 | B44: 4 | C44: 146 | D44: 4 | E44: 156 | F44: 4 | G44: 252 | H44: 4 | I44: 1501 | J44: 4 | K44: 2301 | L44: 4 | M44: 4541 | N44: 4 | O44: 12001 | P44: 4 | Q44: 9201 | R44: 4 | S44: 18101 | T44: 4
A45: 132 | B45: 4 | C45: 150 | D45: 4 | E45: 160 | F45: 4 | G45: 258 | H45: 4 | I45: 1550 | J45: 4 | K45: 2350 | L45: 4 | M45: 5020 | N45: 4 | O45: 12200 | P45: 4 | Q45: 9350 | R45: 4 | S45: 18400 | T45: 4 | U45: 460 | V45: 23 | W45: 1000 | X45: 23 | Y45: 144 | Z45: 23 | AA45: 280 | AB45: 23 | AC45: 1000 | AD45: 23 | AE45: 2600 | AF45: 23 | AG45: 3000 | AH45: 23 | AI45: 2900 | AJ45: 23
A46: 133 | B46: 3 | C46: 151 | D46: 3 | E46: 161 | F46: 3 | G46: 259 | H46: 3 | I46: 1551 | J46: 3 | K46: 2351 | L46: 3 | M46: 5021 | N46: 3 | O46: 12201 | P46: 3 | Q46: 9351 | R46: 3 | S46: 18401 | T46: 3
A47: 137 | B47: 3 | C47: 155 | D47: 3 | E47: 165 | F47: 3 | G47: 266 | H47: 3 | I47: 2000 | J47: 3 | K47: 2400 | L47: 3 | M47: 5100 | N47: 3 | O47: 12400 | P47: 3 | Q47: 9500 | R47: 3 | S47: 19100 | T47: 3 | U47: 470 | V47: 24 | W47: 1025 | X47: 24 | Z47: 24 | AB47: 24 | AC47: 1050 | AD47: 24 | AE47: 2800 | AF47: 24 | AG47: 3200 | AH47: 24 | AI47: 3100 | AJ47: 24
A48: 138 | B48: 2 | C48: 156 | D48: 2 | E48: 166 | F48: 2 | G48: 267 | H48: 2 | I48: 2001 | J48: 2 | K48: 2401 | L48: 2 | M48: 5101 | N48: 2 | O48: 12401 | P48: 2 | Q48: 9501 | R48: 2 | S48: 19101 | T48: 2
A49: 142 | B49: 2 | C49: 160 | D49: 2 | E49: 170 | F49: 2 | G49: 274 | H49: 2 | I49: 2050 | J49: 2 | K49: 2450 | L49: 2 | M49: 5200 | N49: 2 | O49: 13000 | P49: 2 | Q49: 10050 | R49: 2 | S49: 10400 | T49: 2 | U49: 480 | V49: 25 | W49: 1050 | X49: 25 | Y49: 148 | Z49: 25 | AA49: 290 | AB49: 25 | AC49: 1100 | AD49: 25 | AE49: 3000 | AF49: 25 | AG49: 3400 | AH49: 25 | AI49: 3200 | AJ49: 25
A50: 143 | B50: 1 | C50: 161 | D50: 1 | E50: 171 | F50: 1 | G50: 273 | H50: 1 | I50: 2051 | J50: 1 | K50: 2451 | L50: 1 | M50: 5201 | N50: 1 | O50: 13001 | P50: 1 | Q50: 10051 | R50: 1 | S50: 19401 | T50: 1
A51: 50 m | B51: PTS | C51: 60 m | D51: PTS | E51: 50 m H. | F51: PTS | G51: 120 m | H51: PTS | I51: 300 m | J51: PTS | K51: 500 m | L51: PTS | M51: 1000 m | N51: PTS | O51: 2000 m | P51: PTS | Q51: 1 km marche | R51: PTS | S51: 2 km marche | T51: PTS | U51: LONGUEUR | V51: PTS | W51: T.S. | X51: PTS | Y51: HAUTEUR | Z51: PTS | AA51: PERCHE | AB51: PTS | AC51: POIDS | AD51: PTS | AE51: DISQUE | AF51: PTS | AG51: JAVELOT | AH51: PTS | AI51: Marteau | AJ51: PTS

Sheet Table BeM
A1: 50 m | B1: PTS | C1: 60 m | D1: PTS | E1: 50 m H. | F1: PTS | G1: 80 m H. | H1: PTS | I1: 120 m | J1: PTS | K1: 300 m | L1: PTS | M1: 500 m | N1: PTS | O1: 1000 m | P1: PTS | Q1: 2000 m | R1: PTS | S1: 1 km marche | T1: PTS | U1: 2 km marche | V1: PTS | W1: LONGUEUR | X1: PTS | Y1: T.S. | Z1: PTS | AA1: HAUTEUR | AB1: PTS | AC1: PERCHE | AD1: PTS | AE1: POIDS | AF1: PTS | AG1: DISQUE | AH1: PTS | AI1: JAVELOT | AJ1: PTS | AK1: MARTEAU | AL1: PTS
A2: 0 | B2: 25 | C2: 0 | D2: 25 | E2: 0 | F2: 25 | G2: 0 | H2: 25 | I2: 0 | J2: 25 | K2: 0 | L2: 25 | M2: 0 | N2: 25 | O2: 0 | P2: 25 | Q2: 0 | R2: 25 | S2: 0 | T2: 25 | U2: 0 | V2: 25 | W2: 0 | X2: 1 | Y2: 0 | Z2: 1 | AA2: 0 | AB2: 1 | AC2: 0 | AD2: 1 | AE2: 0 | AF2: 1 | AG2: 0 | AH2: 1 | AI2: 0 | AJ2: 1 | AK2: 0 | AL2: 1
A3: 65 | B3: 25 | C3: 74 | D3: 25 | E3: 83 | F3: 25 | G3: 115 | H3: 25 | I3: 150 | J3: 25 | K3: 450 | L3: 25 | M3: 1201 | N3: 25 | O3: 3050 | P3: 25 | Q3: 6400 | R3: 25 | S3: 5300 | T3: 25 | U3: 11000 | V3: 25 | W3: 240 | X3: 2 | Y3: 560 | Z3: 2 | AA3: 80 | AB3: 2 | AC3: 100 | AD3: 2 | AE3: 560 | AF3: 2 | AG3: 300 | AH3: 2 | AI3: 600 | AJ3: 2 | AK3: 400 | AL3: 2
A4: 66 | B4: 24 | C4: 75 | D4: 24 | E4: 84 | F4: 24 | G4: 116 | H4: 24 | I4: 151 | J4: 24 | K4: 451 | L4: 24 | M4: 1201 | N4: 24 | O4: 3051 | P4: 24 | Q4: 6401 | R4: 24 | S4: 5'30"1 | T4: 24 | U4: 11001 | V4: 24
A5: 67 | B5: 24 | C5: 76 | D5: 24 | E5: 86 | F5: 24 | G5: 118 | H5: 24 | I5: 154 | J5: 24 | K5: 460 | L5: 24 | M5: 1220 | N5: 24 | O5: 3080 | P5: 24 | Q5: 6480 | R5: 24 | S5: 5400 | T5: 24 | U5: 11150 | V5: 24 | W5: 245 | X5: 3 | Y5: 570 | Z5: 3 | AB5: 3 | AD5: 3 | AE5: 570 | AF5: 3 | AG5: 400 | AH5: 3 | AI5: 700 | AJ5: 3 | AK5: 500 | AL5: 3
A6: 68 | B6: 23 | C6: 77 | D6: 23 | E6: 87 | F6: 23 | G6: 119 | H6: 23 | I6: 155 | J6: 23 | K6: 461 | L6: 23 | M6: 1221 | N6: 23 | O6: 3081 | P6: 23 | Q6: 6481 | R6: 23 | S6: 5401 | T6: 23 | U6: 11151 | V6: 23
A7: 69 | B7: 23 | C7: 78 | D7: 23 | E7: 89 | F7: 23 | G7: 121 | H7: 23 | I7: 158 | J7: 23 | K7: 470 | L7: 23 | M7: 1240 | N7: 23 | O7: 3120 | P7: 23 | Q7: 6560 | R7: 23 | S7: 5500 | T7: 23 | U7: 11300 | V7: 23 | W7: 250 | X7: 4 | Y7: 580 | Z7: 4 | AB7: 4 | AC7: 115 | AD7: 4 | AE7: 580 | AF7: 4 | AG7: 500 | AH7: 4 | AI7: 800 | AJ7: 4 | AK7: 600 | AL7: 4
A8: 70 | B8: 22 | C8: 79 | D8: 22 | E8: 90 | F8: 22 | G8: 122 | H8: 22 | I8: 159 | J8: 22 | K8: 471 | L8: 22 | M8: 1241 | N8: 22 | O8: 3121 | P8: 22 | Q8: 6561 | R8: 22 | S8: 5501 | T8: 22 | U8: 11301 | V8: 22
A9: 71 | B9: 22 | C9: 80 | D9: 22 | E9: 92 | F9: 22 | G9: 124 | H9: 22 | I9: 162 | J9: 22 | K9: 480 | L9: 22 | M9: 1260 | N9: 22 | O9: 3160 | P9: 22 | Q9: 7040 | R9: 22 | S9: 6000 | T9: 22 | U9: 11450 | V9: 22 | W9: 255 | X9: 5 | Y9: 590 | Z9: 5 | AA9: 85 | AB9: 5 | AD9: 5 | AE9: 590 | AF9: 5 | AG9: 600 | AH9: 5 | AI9: 900 | AJ9: 5 | AK9: 700 | AL9: 5
A10: 72 | B10: 21 | C10: 81 | D10: 21 | E10: 93 | F10: 21 | G10: 125 | H10: 21 | I10: 163 | J10: 21 | K10: 481 | L10: 21 | M10: 1261 | N10: 21 | O10: 3161 | P10: 21 | Q10: 7041 | R10: 21 | S10: 6001 | T10: 21 | U10: 11451 | V10: 21
A11: 73 | B11: 21 | C11: 82 | D11: 21 | E11: 95 | F11: 21 | G11: 127 | H11: 21 | I11: 166 | J11: 21 | K11: 495 | L11: 21 | M11: 1280 | N11: 21 | O11: 3200 | P11: 21 | Q11: 7120 | R11: 21 | S11: 6100 | T11: 21 | U11: 12000 | V11: 21 | W11: 260 | X11: 6 | Y11: 600 | Z11: 6 | AB11: 6 | AC11: 130 | AD11: 6 | AE11: 600 | AF11: 6 | AG11: 700 | AH11: 6 | AI11: 1000 | AJ11: 6 | AK11: 800 | AL11: 6
A12: 74 | B12: 20 | C12: 83 | D12: 20 | E12: 96 | F12: 20 | G12: 128 | H12: 20 | I12: 167 | J12: 20 | K12: 496 | L12: 20 | M12: 1281 | N12: 20 | O12: 3201 | P12: 20 | Q12: 7121 | R12: 20 | S12: 6101 | T12: 20 | U12: 12001 | V12: 20
A13: 75 | B13: 20 | C13: 84 | D13: 20 | E13: 98 | F13: 20 | G13: 130 | H13: 20 | I13: 170 | J13: 20 | K13: 510 | L13: 20 | M13: 1300 | N13: 20 | O13: 3250 | P13: 20 | Q13: 7200 | R13: 20 | S13: 6200 | T13: 20 | U13: 12150 | V13: 20 | W13: 265 | X13: 7 | Y13: 620 | Z13: 7 | AA13: 90 | AB13: 7 | AD13: 7 | AE13: 520 | AF13: 7 | AG13: 800 | AH13: 7 | AI13: 1100 | AJ13: 7 | AK13: 900 | AL13: 7
A14: 76 | B14: 19 | C14: 85 | D14: 19 | E14: 99 | F14: 19 | G14: 131 | H14: 19 | I14: 171 | J14: 19 | K14: 511 | L14: 19 | M14: 1301 | N14: 19 | O14: 3251 | P14: 19 | Q14: 7201 | R14: 19 | S14: 6201 | T14: 19 | U14: 12151 | V14: 19
A15: 77 | B15: 19 | C15: 86 | D15: 19 | E15: 101 | F15: 19 | G15: 135 | H15: 19 | I15: 174 | J15: 19 | K15: 530 | L15: 19 | M15: 1320 | N15: 19 | O15: 3300 | P15: 19 | Q15: 7290 | R15: 19 | S15: 6300 | T15: 19 | U15: 12300 | V15: 19 | W15: 270 | X15: 8 | Y15: 640 | Z15: 8 | AB15: 8 | AC15: 145 | AD15: 8 | AE15: 640 | AF15: 8 | AG15: 900 | AH15: 8 | AI15: 1200 | AJ15: 8 | AK15: 1000 | AL15: 8
A16: 78 | B16: 18 | C16: 87 | D16: 18 | E16: 102 | F16: 18 | G16: 136 | H16: 18 | I16: 175 | J16: 18 | K16: 531 | L16: 18 | M16: 1321 | N16: 18 | O16: 3301 | P16: 18 | Q16: 7291 | R16: 18 | S16: 6301 | T16: 18 | U16: 12301 | V16: 18
A17: 79 | B17: 18 | C17: 89 | D17: 18 | E17: 104 | F17: 18 | G17: 140 | H17: 18 | I17: 180 | J17: 18 | K17: 550 | L17: 18 | M17: 1340 | N17: 18 | O17: 3370 | P17: 18 | Q17: 7390 | R17: 18 | S17: 6400 | T17: 18 | U17: 12450 | V17: 18 | W17: 280 | X17: 9 | Y17: 660 | Z17: 9 | AA17: 95 | AB17: 9 | AD17: 9 | AE17: 655 | AF17: 9 | AG17: 1000 | AH17: 9 | AI17: 1300 | AJ17: 9 | AK17: 1100 | AL17: 9
A18: 80 | B18: 17 | C18: 90 | D18: 17 | E18: 105 | F18: 17 | G18: 141 | H18: 17 | I18: 181 | J18: 17 | K18: 551 | L18: 17 | M18: 1341 | N18: 17 | O18: 3371 | P18: 17 | Q18: 7391 | R18: 17 | S18: 6401 | T18: 17 | U18: 12451 | V18: 17
A19: 81 | B19: 17 | C19: 92 | D19: 17 | E19: 107 | F19: 17 | G19: 145 | H19: 17 | I19: 186 | J19: 17 | K19: 570 | L19: 17 | M19: 1360 | N19: 17 | O19: 3440 | P19: 17 | Q19: 7500 | R19: 17 | S19: 6500 | T19: 17 | U19: 13000 | V19: 17 | W19: 290 | X19: 10 | Y19: 680 | Z19: 10 | AB19: 10 | AC19: 160 | AD19: 10 | AE19: 670 | AF19: 10 | AG19: 1100 | AH19: 10 | AI19: 1400 | AJ19: 10 | AK19: 1200 | AL19: 10
A20: 82 | B20: 16 | C20: 93 | D20: 16 | E20: 108 | F20: 16 | G20: 146 | H20: 16 | I20: 187 | J20: 16 | K20: 571 | L20: 16 | M20: 1361 | N20: 16 | O20: 3441 | P20: 16 | Q20: 7501 | R20: 16 | S20: 6501 | T20: 16 | U20: 13001 | V20: 16
A21: 83 | B21: 16 | C21: 95 | D21: 16 | E21: 110 | F21: 16 | G21: 150 | H21: 16 | I21: 192 | J21: 16 | K21: 595 | L21: 16 | M21: 1390 | N21: 16 | O21: 3510 | P21: 16 | Q21: 8020 | R21: 16 | S21: 7000 | T21: 16 | U21: 13150 | V21: 16 | W21: 300 | X21: 11 | Y21: 700 | Z21: 11 | AA21: 100 | AB21: 11 | AD21: 11 | AE21: 685 | AF21: 11 | AG21: 1200 | AH21: 11 | AI21: 1500 | AJ21: 11 | AK21: 1300 | AL21: 11
A22: 84 | B22: 15 | C22: 96 | D22: 15 | E22: 111 | F22: 15 | G22: 151 | H22: 15 | I22: 193 | J22: 15 | K22: 596 | L22: 15 | M22: 1391 | N22: 15 | O22: 3511 | P22: 15 | Q22: 8021 | R22: 15 | S22: 7001 | T22: 15 | U22: 13151 | V22: 15
A23: 85 | B23: 15 | C23: 98 | D23: 15 | E23: 115 | F23: 15 | G23: 155 | H23: 15 | I23: 198 | J23: 15 | K23: 1020 | L23: 15 | M23: 1420 | N23: 15 | O23: 3580 | P23: 15 | Q23: 8140 | R23: 15 | S23: 7100 | T23: 15 | U23: 13300 | V23: 15 | W23: 310 | X23: 12 | Y23: 720 | Z23: 12 | AB23: 12 | AC23: 175 | AD23: 12 | AE23: 700 | AF23: 12 | AG23: 1300 | AH23: 12 | AI23: 1600 | AJ23: 12 | AK23: 1400 | AL23: 12
A24: 86 | B24: 14 | C24: 99 | D24: 14 | E24: 116 | F24: 14 | G24: 156 | H24: 14 | I24: 199 | J24: 14 | K24: 1021 | L24: 14 | M24: 1421 | N24: 14 | O24: 3581 | P24: 14 | Q24: 8141 | R24: 14 | S24: 7101 | T24: 14 | U24: 13301 | V24: 14
A25: 88 | B25: 14 | C25: 101 | D25: 14 | E25: 120 | F25: 14 | G25: 160 | H25: 14 | I25: 204 | J25: 14 | K25: 1050 | L25: 14 | M25: 1450 | N25: 14 | O25: 4050 | P25: 14 | Q25: 8260 | R25: 14 | S25: 7200 | T25: 14 | U25: 13500 | V25: 14 | W25: 320 | X25: 13 | Y25: 740 | Z25: 13 | AA25: 105 | AB25: 13 | AD25: 13 | AE25: 720 | AF25: 13 | AG25: 1400 | AH25: 13 | AI25: 1700 | AJ25: 13 | AK25: 1500 | AL25: 13
A26: 89 | B26: 13 | C26: 102 | D26: 13 | E26: 121 | F26: 13 | G26: 161 | H26: 13 | I26: 205 | J26: 13 | K26: 1051 | L26: 13 | M26: 1451 | N26: 13 | O26: 4051 | P26: 13 | Q26: 8261 | R26: 13 | S26: 7201 | T26: 13 | U26: 13501 | V26: 13
A27: 91 | B27: 13 | C27: 104 | D27: 13 | E27: 125 | F27: 13 | G27: 165 | H27: 13 | I27: 210 | J27: 13 | K27: 1070 | L27: 13 | M27: 1480 | N27: 13 | O27: 4120 | P27: 13 | Q27: 8380 | R27: 13 | S27: 7350 | T27: 13 | U27: 14150 | V27: 13 | W27: 330 | X27: 14 | Y27: 760 | Z27: 14 | AB27: 14 | AC27: 190 | AD27: 14 | AE27: 740 | AF27: 14 | AG27: 1500 | AH27: 14 | AI27: 1800 | AJ27: 14 | AK27: 1600 | AL27: 14
A28: 92 | B28: 12 | C28: 103 | D28: 12 | E28: 126 | F28: 12 | G28: 166 | H28: 12 | I28: 211 | J28: 12 | K28: 1071 | L28: 12 | M28: 1481 | N28: 12 | O28: 4121 | P28: 12 | Q28: 8381 | R28: 12 | S28: 7351 | T28: 12 | U28: 14151 | V28: 12
A29: 94 | B29: 12 | C29: 107 | D29: 12 | E29: 130 | F29: 12 | G29: 170 | H29: 12 | I29: 220 | J29: 12 | K29: 1100 | L29: 12 | M29: 1510 | N29: 12 | O29: 4200 | P29: 12 | Q29: 8500 | R29: 12 | S29: 7500 | T29: 12 | U29: 14400 | V29: 12 | W29: 340 | X29: 15 | Y29: 780 | Z29: 15 | AA29: 110 | AB29: 15 | AD29: 15 | AE29: 760 | AF29: 15 | AG29: 1600 | AH29: 15 | AI29: 1900 | AJ29: 15 | AK29: 1700 | AL29: 15
A30: 95 | B30: 11 | C30: 108 | D30: 11 | E30: 131 | F30: 11 | G30: 171 | H30: 11 | I30: 221 | J30: 11 | K30: 1101 | L30: 11 | M30: 1511 | N30: 11 | O30: 4201 | P30: 11 | Q30: 8501 | R30: 11 | S30: 7501 | T30: 11 | U30: 14401 | V30: 11
A31: 97 | B31: 11 | C31: 110 | D31: 11 | E31: 135 | F31: 11 | G31: 180 | H31: 11 | I31: 230 | J31: 11 | K31: 1120 | L31: 11 | M31: 1550 | N31: 11 | O31: 4280 | P31: 11 | Q31: 9020 | R31: 11 | S31: 8050 | T31: 11 | U31: 15100 | V31: 11 | W31: 350 | X31: 16 | Y31: 800 | Z31: 16 | AA31: 115 | AB31: 16 | AC31: 200 | AD31: 16 | AE31: 780 | AF31: 16 | AG31: 1700 | AH31: 16 | AI31: 2000 | AJ31: 16 | AK31: 1800 | AL31: 16
A32: 98 | B32: 10 | C32: 111 | D32: 10 | E32: 136 | F32: 10 | G32: 181 | H32: 10 | I32: 231 | J32: 10 | K32: 1121 | L32: 10 | M32: 1551 | N32: 10 | O32: 4281 | P32: 10 | Q32: 9021 | R32: 10 | S32: 8051 | T32: 10 | U32: 15101 | V32: 10
A33: 100 | B33: 10 | C33: 113 | D33: 10 | E33: 140 | F33: 10 | G33: 190 | H33: 10 | I33: 240 | J33: 10 | K33: 1150 | L33: 10 | M33: 2000 | N33: 10 | O33: 4360 | P33: 10 | Q33: 9140 | R33: 10 | S33: 8200 | T33: 10 | U33: 15300 | V33: 10 | W33: 360 | X33: 17 | Y33: 820 | Z33: 17 | AA33: 120 | AB33: 17 | AC33: 210 | AD33: 17 | AE33: 800 | AF33: 17 | AG33: 1800 | AH33: 17 | AI33: 2100 | AJ33: 17 | AK33: 1900 | AL33: 17
A34: 101 | B34: 9 | C34: 114 | D34: 9 | E34: 141 | F34: 9 | G34: 191 | H34: 9 | I34: 241 | J34: 9 | K34: 1151 | L34: 9 | M34: 2001 | N34: 9 | O34: 4361 | P34: 9 | Q34: 9141 | R34: 9 | S34: 8201 | T34: 9 | U34: 15301 | V34: 9
A35: 104 | B35: 9 | C35: 116 | D35: 9 | E35: 145 | F35: 9 | G35: 200 | H35: 9 | I35: 250 | J35: 9 | K35: 1170 | L35: 9 | M35: 2050 | N35: 9 | O35: 4440 | P35: 9 | Q35: 9260 | R35: 9 | S35: 8350 | T35: 9 | U35: 15500 | V35: 9 | W35: 375 | X35: 18 | Y35: 840 | Z35: 18 | AA35: 125 | AB35: 18 | AC35: 220 | AD35: 18 | AE35: 825 | AF35: 18 | AG35: 1900 | AH35: 18 | AI35: 2200 | AJ35: 18 | AK35: 2100 | AL35: 18
A36: 105 | B36: 8 | C36: 117 | D36: 8 | E36: 146 | F36: 8 | G36: 201 | H36: 8 | I36: 251 | J36: 8 | K36: 1171 | L36: 8 | M36: 2051 | N36: 8 | O36: 4441 | P36: 8 | Q36: 9261 | R36: 8 | S36: 8351 | T36: 8 | U36: 15501 | V36: 8
A37: 108 | B37: 8 | C37: 120 | D37: 8 | E37: 155 | F37: 8 | G37: 210 | H37: 8 | I37: 260 | J37: 8 | K37: 1200 | L37: 8 | M37: 2100 | N37: 8 | O37: 4520 | P37: 8 | Q37: 9380 | R37: 8 | S37: 8500 | T37: 8 | U37: 16100 | V37: 8 | W37: 390 | X37: 19 | Y37: 860 | Z37: 19 | AA37: 130 | AB37: 19 | AC37: 240 | AD37: 19 | AE37: 850 | AF37: 19 | AG37: 2000 | AH37: 19 | AI37: 2400 | AJ37: 19 | AK37: 2300 | AL37: 19
A38: 109 | B38: 7 | C38: 121 | D38: 7 | E38: 156 | F38: 7 | G38: 211 | H38: 7 | I38: 261 | J38: 7 | K38: 1201 | L38: 7 | M38: 2101 | N38: 7 | O38: 4521 | P38: 7 | Q38: 9381 | R38: 7 | S38: 8501 | T38: 7 | U38: 16101 | V38: 7
A39: 112 | B39: 7 | C39: 125 | D39: 7 | E39: 165 | F39: 7 | G39: 220 | H39: 7 | I39: 270 | J39: 7 | K39: 1230 | L39: 7 | M39: 2150 | N39: 7 | O39: 5000 | P39: 7 | Q39: 9500 | R39: 7 | S39: 9050 | T39: 7 | U39: 16300 | V39: 7 | W39: 405 | X39: 20 | Y39: 880 | Z39: 20 | AA39: 135 | AB39: 20 | AC39: 260 | AD39: 20 | AE39: 875 | AF39: 20 | AG39: 2200 | AH39: 20 | AI39: 2600 | AJ39: 20 | AK39: 2500 | AL39: 20
A40: 113 | B40: 6 | C40: 126 | D40: 6 | E40: 166 | F40: 6 | G40: 221 | H40: 6 | I40: 271 | J40: 6 | K40: 1231 | L40: 6 | M40: 2151 | N40: 6 | O40: 5001 | P40: 6 | Q40: 9501 | R40: 6 | S40: 9051 | T40: 6 | U40: 16301 | V40: 6
A41: 116 | B41: 6 | C41: 130 | D41: 6 | E41: 175 | F41: 6 | G41: 230 | H41: 6 | I41: 280 | J41: 6 | K41: 1260 | L41: 6 | M41: 2200 | N41: 6 | O41: 5100 | P41: 6 | Q41: 10050 | R41: 6 | S41: 9200 | T41: 6 | U41: 16500 | V41: 6 | W41: 420 | X41: 21 | Y41: 900 | Z41: 21 | AA41: 140 | AB41: 21 | AC41: 280 | AD41: 21 | AE41: 900 | AF41: 21 | AG41: 2400 | AH41: 21 | AI41: 2800 | AJ41: 21 | AK41: 2700 | AL41: 21
A42: 117 | B42: 5 | C42: 131 | D42: 5 | E42: 176 | F42: 5 | G42: 231 | H42: 5 | I42: 281 | J42: 5 | K42: 1261 | L42: 5 | M42: 2201 | N42: 5 | O42: 5101 | P42: 5 | Q42: 10051 | R42: 5 | S42: 9201 | T42: 5 | U42: 16501 | V42: 5
A43: 120 | B43: 5 | C43: 135 | D43: 5 | E43: 185 | F43: 5 | G43: 240 | H43: 5 | I43: 290 | J43: 5 | K43: 1390 | L43: 5 | M43: 2250 | N43: 5 | O43: 5200 | P43: 5 | Q43: 10200 | R43: 5 | S43: 9350 | T43: 5 | U43: 17100 | V43: 5 | W43: 440 | X43: 22 | Y43: 950 | Z43: 22 | AA43: 144 | AB43: 22 | AC43: 300 | AD43: 22 | AE43: 950 | AF43: 22 | AG43: 2600 | AH43: 22 | AI43: 3000 | AJ43: 22 | AK43: 2900 | AL43: 22
A44: 121 | B44: 4 | C44: 136 | D44: 4 | E44: 186 | F44: 4 | G44: 241 | H44: 4 | I44: 291 | J44: 4 | K44: 1301 | L44: 4 | M44: 2251 | N44: 4 | O44: 5201 | P44: 4 | Q44: 10201 | R44: 4 | S44: 9351 | T44: 4 | U44: 17101 | V44: 4
A45: 124 | B45: 4 | C45: 140 | D45: 4 | E45: 195 | F45: 4 | G45: 250 | H45: 4 | I45: 300 | J45: 4 | K45: 1350 | L45: 4 | M45: 2300 | N45: 4 | O45: 5300 | P45: 4 | Q45: 10350 | R45: 4 | S45: 9500 | T45: 4 | U45: 17300 | V45: 4 | W45: 460 | X45: 23 | Y45: 1000 | Z45: 23 | AA45: 148 | AB45: 23 | AC45: 320 | AD45: 23 | AE45: 1000 | AF45: 23 | AG45: 2800 | AH45: 23 | AI45: 3200 | AJ45: 23 | AK45: 3100 | AL45: 23
A46: 125 | B46: 3 | C46: 141 | D46: 3 | E46: 196 | F46: 3 | G46: 251 | H46: 3 | I46: 301 | J46: 3 | K46: 1351 | L46: 3 | M46: 2301 | N46: 3 | O46: 5301 | P46: 3 | Q46: 10351 | R46: 3 | S46: 9501 | T46: 3 | U46: 17301 | V46: 3
A47: 128 | B47: 3 | C47: 145 | D47: 3 | E47: 205 | F47: 3 | G47: 260 | H47: 3 | I47: 310 | J47: 3 | K47: 1400 | L47: 3 | M47: 2350 | N47: 3 | O47: 5400 | P47: 3 | Q47: 10500 | R47: 3 | S47: 10050 | T47: 3 | U47: 17500 | V47: 3 | W47: 480 | X47: 24 | Y47: 1050 | Z47: 24 | AA47: 154 | AB47: 24 | AC47: 340 | AD47: 24 | AE47: 1050 | AF47: 24 | AG47: 3000 | AH47: 24 | AI47: 3400 | AJ47: 24 | AK47: 3300 | AL47: 24
A48: 129 | B48: 2 | C48: 146 | D48: 2 | E48: 206 | F48: 2 | G48: 261 | H48: 2 | I48: 311 | J48: 2 | K48: 1401 | L48: 2 | M48: 2351 | N48: 2 | O48: 5401 | P48: 2 | Q48: 10501 | R48: 2 | S48: 10051 | T48: 2 | U48: 17501 | V48: 2
A49: 132 | B49: 2 | C49: 150 | D49: 2 | E49: 215 | F49: 2 | G49: 270 | H49: 2 | I49: 320 | J49: 2 | K49: 1500 | L49: 2 | M49: 2400 | N49: 2 | O49: 5500 | P49: 2 | Q49: 11050 | R49: 2 | S49: 10200 | T49: 2 | U49: 18100 | V49: 2 | W49: 500 | X49: 25 | Y49: 1100 | Z49: 25 | AA49: 160 | AB49: 25 | AC49: 360 | AD49: 25 | AE49: 1100 | AF49: 25 | AG49: 3200 | AH49: 25 | AI49: 3600 | AJ49: 25 | AK49: 3500 | AL49: 25
A50: 133 | B50: 1 | C50: 151 | D50: 1 | E50: 216 | F50: 1 | G50: 271 | H50: 1 | I50: 321 | J50: 1 | K50: 1501 | L50: 1 | M50: 2401 | N50: 1 | O50: 5501 | P50: 1 | Q50: 11051 | R50: 1 | S50: 10201 | T50: 1 | U50: 18101 | V50: 1
A51: 50 m | B51: PTS | C51: 60 m | D51: PTS | E51: 50 m H. | F51: PTS | G51: 80 m H. | H51: PTS | I51: 120 m | J51: PTS | K51: 300 m | L51: PTS | M51: 500 m | N51: PTS | O51: 1000 m | P51: PTS | Q51: 2000 m | R51: PTS | S51: 1 km marche | T51: PTS | U51: 2 km marche | V51: PTS | W51: LONGUEUR | X51: PTS | Y51: T.S. | Z51: PTS | AA51: HAUTEUR | AB51: PTS | AC51: PERCHE | AD51: PTS | AE51: POIDS | AF51: PTS | AG51: DISQUE | AH51: PTS | AI51: JAVELOT | AJ51: PTS | AK51: Marteau | AL51: PTS

Sheet Table MiF
A1: 50 m | B1: PTS | C1: 60 m | D1: PTS | E1: 80 m | F1: PTS | G1: 50 m H. | H1: PTS | I1: 60 m H. | J1: PTS | K1: 80 m H. | L1: PTS | M1: 150 m | N1: PTS | O1: 250 m | P1: PTS | Q1: 500 m | R1: PTS | S1: 1000 m | T1: PTS | U1: 2000 m | V1: PTS | W1: 3000 m | X1: PTS | Y1: 1 km marche | Z1: PTS | AA1: 2 km marche | AB1: PTS | AC1: 3 km marche | AD1: PTS | AE1: LONGUEUR | AF1: PTS | AG1: T.S. | AH1: PTS | AI1: HAUTEUR | AJ1: PTS | AK1: PERCHE | AL1: PTS | AM1: POIDS | AN1: PTS | AO1: DISQUE | AP1: PTS | AQ1: JAVELOT | AR1: PTS | AS1: MARTEAU | AT1: PTS
A2: NP | B2: 0 | C2: NP | D2: 0 | E2: NP | F2: 0 | G2: NP | H2: 0 | I2: NP | J2: 0 | K2: NP | L2: 0 | M2: NP | N2: 0 | O2: NP | P2: 0 | Q2: NP | R2: 0 | S2: NP | T2: 0 | U2: NP | V2: 0 | W2: NP | X2: 0 | Y2: NP | Z2: 0 | AA2: NP | AB2: 0 | AC2: NP | AD2: 0 | AE2: NP | AF2: 0 | AG2: NP | AH2: 0 | AI2: NP | AJ2: 0 | AK2: NP | AL2: 0 | AM2: NP | AN2: 0 | AO2: NP | AP2: 0 | AQ2: NP | AR2: 0 | AS2: NP | AT2: 0
A3: NC | B3: 0 | C3: NC | D3: 0 | E3: NC | F3: 0 | G3: NC | H3: 0 | I3: NC | J3: 0 | K3: NC | L3: 0 | M3: NC | N3: 0 | O3: NC | P3: 0 | Q3: NC | R3: 0 | S3: NC | T3: 0 | U3: NC | V3: 0 | W3: NC | X3: 0 | Y3: NC | Z3: 0 | AA3: NC | AB3: 0 | AC3: NC | AD3: 0 | AE3: NC | AF3: 0 | AG3: NC | AH3: 0 | AI3: NC | AJ3: 0 | AK3: NC | AL3: 0 | AM3: NC | AN3: 0 | AO3: NC | AP3: 0 | AQ3: NC | AR3: 0 | AS3: NC | AT3: 0
A4: AB | B4: 0 | C4: AB | D4: 0 | E4: AB | F4: 0 | G4: AB | H4: 0 | I4: AB | J4: 0 | K4: AB | L4: 0 | M4: AB | N4: 0 | O4: AB | P4: 0 | Q4: AB | R4: 0 | S4: AB | T4: 0 | U4: AB | V4: 0 | W4: AB | X4: 0 | Y4: AB | Z4: 0 | AA4: AB | AB4: 0 | AC4: AB | AD4: 0 | AE4: AB | AF4: 0 | AG4: AB | AH4: 0 | AI4: AB | AJ4: 0 | AK4: AB | AL4: 0 | AM4: AB | AN4: 0 | AO4: AB | AP4: 0 | AQ4: AB | AR4: 0 | AS4: AB | AT4: 0
A5: 0 | B5: 25 | C5: 0 | D5: 25 | E5: 0 | F5: 25 | G5: 0 | H5: 25 | I5: 0 | J5: 25 | K5: 0 | L5: 25 | M5: 0 | N5: 25 | O5: 0 | P5: 25 | Q5: 0 | R5: 25 | S5: 0 | T5: 25 | U5: 0 | V5: 25 | W5: 0 | X5: 25 | Y5: 0 | Z5: 25 | AA5: 0 | AB5: 25 | AC5: 0 | AD5: 25 | AE5: 0 | AF5: 1 | AG5: 0 | AH5: 1 | AI5: 0 | AJ5: 1 | AK5: 0 | AL5: 1 | AM5: 0 | AN5: 1 | AO5: 0 | AP5: 1 | AQ5: 0 | AR5: 1 | AS5: 0 | AT5: 1
A6: 67 | B6: 25 | C6: 76 | D6: 25 | E6: 98 | F6: 25 | G6: 81 | H6: 25 | I6: 93 | J6: 25 | K6: 119 | L6: 25 | M6: 186 | N6: 25 | O6: 320 | P6: 25 | Q6: 1200 | R6: 25 | S6: 3050 | T6: 25 | U6: 7100 | V6: 25 | W6: 10000 | X6: 25 | Y6: 5250 | Z6: 25 | AA6: 10500 | AB6: 25 | AC6: 15300 | AD6: 25 | AE6: 260 | AF6: 2 | AG6: 580 | AH6: 2 | AI6: 90 | AJ6: 2 | AK6: 100 | AL6: 2 | AM6: 400 | AN6: 2 | AO6: 700 | AP6: 2 | AQ6: 700 | AR6: 2 | AS6: 600 | AT6: 2
A7: 68 | B7: 24 | C7: 77 | D7: 24 | E7: 99 | F7: 24 | G7: 82 | H7: 24 | I7: 94 | J7: 24 | K7: 120 | L7: 24 | M7: 187 | N7: 24 | O7: 323 | P7: 24 | Q7: 1201 | R7: 24 | S7: 3051 | T7: 24 | U7: 7101 | V7: 24 | W7: 10001 | X7: 24 | Y7: 5251 | Z7: 24 | AA7: 10501 | AB7: 24 | AC7: 15301 | AD7: 24
A8: 69 | B8: 24 | C8: 78 | D8: 24 | E8: 100 | F8: 24 | G8: 84 | H8: 24 | I8: 96 | J8: 24 | K8: 123 | L8: 24 | M8: 190 | N8: 24 | O8: 326 | P8: 24 | Q8: 1220 | R8: 24 | S8: 3090 | T8: 24 | U8: 7200 | V8: 24 | W8: 10300 | X8: 24 | Y8: 5350 | Z8: 24 | AA8: 11100 | AB8: 24 | AC8: 16000 | AD8: 24 | AE8: 270 | AF8: 3 | AG8: 600 | AH8: 3 | AJ8: 3 | AL8: 3 | AM8: 420 | AN8: 3 | AO8: 800 | AP8: 3 | AQ8: 800 | AR8: 3 | AS8: 700 | AT8: 3
B9: 23 | C9: 79 | D9: 23 | E9: 101 | F9: 23 | G9: 85 | H9: 23 | I9: 97 | J9: 23 | K9: 124 | L9: 23 | M9: 191 | N9: 23 | O9: 329 | P9: 23 | Q9: 1221 | R9: 23 | S9: 3091 | T9: 23 | U9: 7201 | V9: 23 | W9: 10301 | X9: 23 | Y9: 5351 | Z9: 23 | AA9: 11101 | AB9: 23 | AC9: 16001 | AD9: 23
A10: 70 | B10: 23 | C10: 80 | D10: 23 | E10: 102 | F10: 23 | G10: 87 | H10: 23 | I10: 99 | J10: 23 | K10: 127 | L10: 23 | M10: 194 | N10: 23 | O10: 332 | P10: 23 | Q10: 1240 | R10: 23 | S10: 3130 | T10: 23 | U10: 7300 | V10: 23 | W10: 11000 | X10: 23 | Y10: 5450 | Z10: 23 | AA10: 11300 | AB10: 23 | AC10: 16300 | AD10: 23 | AE10: 280 | AF10: 4 | AG10: 620 | AH10: 4 | AJ10: 4 | AL10: 4 | AM10: 440 | AN10: 4 | AO10: 900 | AP10: 4 | AQ10: 900 | AR10: 4 | AS10: 800 | AT10: 4
B11: 22 | C11: 81 | D11: 22 | E11: 103 | F11: 22 | G11: 88 | H11: 22 | I11: 100 | J11: 22 | K11: 128 | L11: 22 | M11: 195 | N11: 22 | O11: 335 | P11: 22 | Q11: 1241 | R11: 22 | S11: 3131 | T11: 22 | U11: 7301 | V11: 22 | W11: 11001 | X11: 22 | Y11: 5451 | Z11: 22 | AA11: 11301 | AB11: 22 | AC11: 16301 | AD11: 22
A12: 71 | B12: 22 | D12: 22 | E12: 104 | F12: 22 | G12: 90 | H12: 22 | I12: 102 | J12: 22 | K12: 131 | L12: 22 | M12: 198 | N12: 22 | O12: 338 | P12: 22 | Q12: 1260 | R12: 22 | S12: 3170 | T12: 22 | U12: 7400 | V12: 22 | W12: 10300 | X12: 22 | Y12: 5550 | Z12: 22 | AA12: 11500 | AB12: 22 | AC12: 17000 | AD12: 22 | AE12: 290 | AF12: 5 | AG12: 640 | AH12: 5 | AI12: 100 | AJ12: 5 | AK12: 120 | AL12: 5 | AM12: 460 | AN12: 5 | AO12: 1000 | AP12: 5 | AQ12: 1000 | AR12: 5 | AS12: 900 | AT12: 5
B13: 21 | C13: 82 | D13: 21 | E13: 105 | F13: 21 | G13: 91 | H13: 21 | I13: 103 | J13: 21 | K13: 132 | L13: 21 | M13: 199 | N13: 21 | O13: 341 | P13: 21 | Q13: 1261 | R13: 21 | S13: 3171 | T13: 21 | U13: 7401 | V13: 21 | W13: 10301 | X13: 21 | Y13: 5551 | Z13: 21 | AA13: 11501 | AB13: 21 | AC13: 17001 | AD13: 21
A14: 72 | B14: 21 | D14: 21 | E14: 106 | F14: 21 | G14: 94 | H14: 21 | I14: 105 | J14: 21 | K14: 135 | L14: 21 | M14: 201 | N14: 21 | O14: 344 | P14: 21 | Q14: 1280 | R14: 21 | S14: 3210 | T14: 21 | U14: 7500 | V14: 21 | W14: 12000 | X14: 21 | Y14: 6050 | Z14: 21 | AA14: 12100 | AB14: 21 | AC14: 17300 | AD14: 21 | AE14: 300 | AF14: 6 | AG14: 660 | AH14: 6 | AJ14: 6 | AL14: 6 | AM14: 480 | AN14: 6 | AO14: 1100 | AP14: 6 | AQ14: 1100 | AR14: 6 | AS14: 1000 | AT14: 6
B15: 20 | C15: 83 | D15: 20 | E15: 107 | F15: 20 | G15: 95 | H15: 20 | I15: 106 | J15: 20 | K15: 136 | L15: 20 | M15: 202 | N15: 20 | O15: 347 | P15: 20 | Q15: 1281 | R15: 20 | S15: 3211 | T15: 20 | U15: 7501 | V15: 20 | W15: 12001 | X15: 20 | Y15: 6051 | Z15: 20 | AA15: 12101 | AB15: 20 | AC15: 17301 | AD15: 20
A16: 73 | B16: 20 | D16: 20 | E16: 108 | F16: 20 | G16: 98 | H16: 20 | I16: 108 | J16: 20 | K16: 140 | L16: 20 | M16: 204 | N16: 20 | O16: 350 | P16: 20 | Q16: 1300 | R16: 20 | S16: 3240 | T16: 20 | U16: 8000 | V16: 20 | W16: 12150 | X16: 20 | Y16: 6150 | Z16: 20 | AA16: 12300 | AB16: 20 | AC16: 18000 | AD16: 20 | AE16: 310 | AF16: 7 | AG16: 680 | AH16: 7 | AI16: 110 | AJ16: 7 | AK16: 140 | AL16: 7 | AM16: 500 | AN16: 7 | AO16: 1200 | AP16: 7 | AQ16: 1200 | AR16: 7 | AS16: 1100 | AT16: 7
B17: 19 | C17: 84 | D17: 19 | E17: 109 | F17: 19 | G17: 99 | H17: 19 | I17: 109 | J17: 19 | K17: 141 | L17: 19 | M17: 205 | N17: 19 | O17: 353 | P17: 19 | Q17: 1301 | R17: 19 | S17: 3241 | T17: 19 | U17: 8001 | V17: 19 | W17: 12151 | X17: 19 | Y17: 6151 | Z17: 19 | AA17: 12301 | AB17: 19 | AC17: 18001 | AD17: 19
A18: 74 | B18: 19 | D18: 19 | E18: 110 | F18: 19 | G18: 102 | H18: 19 | I18: 111 | J18: 19 | K18: 145 | L18: 19 | M18: 207 | N18: 19 | O18: 356 | P18: 19 | Q18: 1330 | R18: 19 | S18: 3270 | T18: 19 | U18: 8100 | V18: 19 | W18: 12300 | X18: 19 | Y18: 6250 | Z18: 19 | AA18: 12550 | AB18: 19 | AC18: 18300 | AD18: 19 | AE18: 320 | AF18: 8 | AG18: 700 | AH18: 8 | AJ18: 8 | AL18: 8 | AM18: 520 | AN18: 8 | AO18: 1300 | AP18: 8 | AQ18: 1300 | AR18: 8 | AS18: 1200 | AT18: 8
B19: 18 | C19: 85 | D19: 18 | E19: 111 | F19: 18 | G19: 103 | H19: 18 | I19: 112 | J19: 18 | K19: 146 | L19: 18 | M19: 208 | N19: 18 | O19: 359 | P19: 18 | Q19: 1331 | R19: 18 | S19: 3271 | T19: 18 | U19: 8101 | V19: 18 | W19: 12301 | X19: 18 | Y19: 6251 | Z19: 18 | AA19: 12551 | AB19: 18 | AC19: 18301 | AD19: 18
A20: 75 | B20: 18 | C20: 86 | D20: 18 | E20: 112 | F20: 18 | G20: 106 | H20: 18 | I20: 114 | J20: 18 | K20: 150 | L20: 18 | M20: 210 | N20: 18 | O20: 362 | P20: 18 | Q20: 1360 | R20: 18 | S20: 3300 | T20: 18 | U20: 8200 | V20: 18 | W20: 12450 | X20: 18 | Y20: 6400 | Z20: 18 | AA20: 13200 | AB20: 18 | AC20: 19000 | AD20: 18 | AE20: 330 | AF20: 9 | AG20: 720 | AH20: 9 | AI20: 115 | AJ20: 9 | AK20: 160 | AL20: 9 | AM20: 540 | AN20: 9 | AO20: 1400 | AP20: 9 | AQ20: 1400 | AR20: 9 | AS20: 1300 | AT20: 9
B21: 17 | C21: 87 | D21: 17 | E21: 113 | F21: 17 | G21: 107 | H21: 17 | I21: 115 | J21: 17 | K21: 151 | L21: 17 | M21: 211 | N21: 17 | O21: 365 | P21: 17 | Q21: 1361 | R21: 17 | S21: 3301 | T21: 17 | U21: 8201 | V21: 17 | W21: 12451 | X21: 17 | Y21: 6401 | Z21: 17 | AA21: 13201 | AB21: 17 | AC21: 19001 | AD21: 17
A22: 76 | B22: 17 | C22: 88 | D22: 17 | E22: 114 | F22: 17 | G22: 110 | H22: 17 | I22: 118 | J22: 17 | K22: 155 | L22: 17 | M22: 213 | N22: 17 | O22: 368 | P22: 17 | Q22: 1390 | R22: 17 | S22: 3350 | T22: 17 | U22: 8300 | V22: 17 | W22: 13000 | X22: 17 | Y22: 6550 | Z22: 17 | AA22: 13450 | AB22: 17 | AC22: 19300 | AD22: 17 | AE22: 340 | AF22: 10 | AG22: 740 | AH22: 10 | AJ22: 10 | AL22: 10 | AM22: 560 | AN22: 10 | AO22: 1500 | AP22: 10 | AQ22: 1500 | AR22: 10 | AS22: 1400 | AT22: 10
A23: 77 | B23: 16 | C23: 89 | D23: 16 | E23: 115 | F23: 16 | G23: 111 | H23: 16 | I23: 119 | J23: 16 | K23: 156 | L23: 16 | M23: 214 | N23: 16 | O23: 371 | P23: 16 | Q23: 1391 | R23: 16 | S23: 3351 | T23: 16 | U23: 8301 | V23: 16 | W23: 13001 | X23: 16 | Y23: 6551 | Z23: 16 | AA23: 13451 | AB23: 16 | AC23: 19301 | AD23: 16
A24: 78 | B24: 16 | C24: 91 | D24: 16 | E24: 116 | F24: 16 | G24: 114 | H24: 16 | I24: 122 | J24: 16 | K24: 160 | L24: 16 | M24: 216 | N24: 16 | O24: 374 | P24: 16 | Q24: 1420 | R24: 16 | S24: 3400 | T24: 16 | U24: 8400 | V24: 16 | W24: 13150 | X24: 16 | Y24: 7050 | Z24: 16 | AA24: 14100 | AB24: 16 | AC24: 20000 | AD24: 16 | AE24: 350 | AF24: 11 | AG24: 760 | AH24: 11 | AI24: 120 | AJ24: 11 | AK24: 175 | AL24: 11 | AM24: 580 | AN24: 11 | AO24: 1600 | AP24: 11 | AQ24: 1600 | AR24: 11 | AS24: 1500 | AT24: 11
A25: 79 | B25: 15 | C25: 92 | D25: 15 | E25: 117 | F25: 15 | G25: 115 | H25: 15 | I25: 123 | J25: 15 | K25: 161 | L25: 15 | M25: 217 | N25: 15 | O25: 377 | P25: 15 | Q25: 1421 | R25: 15 | S25: 3401 | T25: 15 | U25: 8401 | V25: 15 | W25: 13151 | X25: 15 | Y25: 7051 | Z25: 15 | AA25: 14101 | AB25: 15 | AC25: 20001 | AD25: 15
A26: 80 | B26: 15 | C26: 94 | D26: 15 | E26: 119 | F26: 15 | G26: 118 | H26: 15 | I26: 126 | J26: 15 | K26: 165 | L26: 15 | M26: 219 | N26: 15 | O26: 380 | P26: 15 | Q26: 1450 | R26: 15 | S26: 3450 | T26: 15 | U26: 8500 | V26: 15 | W26: 13300 | X26: 15 | Y26: 7150 | Z26: 15 | AA26: 14350 | AB26: 15 | AC26: 20300 | AD26: 15 | AE26: 360 | AF26: 12 | AG26: 780 | AH26: 12 | AJ26: 12 | AL26: 12 | AM26: 600 | AN26: 12 | AO26: 1700 | AP26: 12 | AQ26: 1700 | AR26: 12 | AS26: 1600 | AT26: 12
A27: 81 | B27: 14 | C27: 95 | D27: 14 | E27: 120 | F27: 14 | G27: 119 | H27: 14 | I27: 127 | J27: 14 | K27: 166 | L27: 14 | M27: 220 | N27: 14 | O27: 383 | P27: 14 | Q27: 1451 | R27: 14 | S27: 3451 | T27: 14 | U27: 8501 | V27: 14 | W27: 13301 | X27: 14 | Y27: 7151 | Z27: 14 | AA27: 14351 | AB27: 14 | AC27: 20301 | AD27: 14
A28: 82 | B28: 14 | C28: 97 | D28: 14 | E28: 122 | F28: 14 | G28: 122 | H28: 14 | I28: 130 | J28: 14 | K28: 170 | L28: 14 | M28: 221 | N28: 14 | O28: 386 | P28: 14 | Q28: 1480 | R28: 14 | S28: 3500 | T28: 14 | U28: 9000 | V28: 14 | W28: 13450 | X28: 14 | Y28: 7300 | Z28: 14 | AA28: 15000 | AB28: 14 | AC28: 21000 | AD28: 14 | AE28: 370 | AF28: 13 | AG28: 800 | AH28: 13 | AI28: 125 | AJ28: 13 | AK28: 190 | AL28: 13 | AM28: 625 | AN28: 13 | AO28: 1800 | AP28: 13 | AQ28: 1800 | AR28: 13 | AS28: 1700 | AT28: 13
A29: 83 | B29: 13 | C29: 98 | D29: 13 | E29: 123 | F29: 13 | G29: 123 | H29: 13 | I29: 131 | J29: 13 | K29: 171 | L29: 13 | M29: 222 | N29: 13 | O29: 389 | P29: 13 | Q29: 1481 | R29: 13 | S29: 3501 | T29: 13 | U29: 9001 | V29: 13 | W29: 13451 | X29: 13 | Y29: 7301 | Z29: 13 | AA29: 15001 | AB29: 13 | AC29: 21001 | AD29: 13
A30: 84 | B30: 13 | C30: 100 | D30: 13 | E30: 125 | F30: 13 | G30: 126 | H30: 13 | I30: 134 | J30: 13 | K30: 175 | L30: 13 | M30: 224 | N30: 13 | O30: 392 | P30: 13 | Q30: 1520 | R30: 13 | S30: 3550 | T30: 13 | U30: 9100 | V30: 13 | W30: 14000 | X30: 13 | Y30: 7450 | Z30: 13 | AA30: 15250 | AB30: 13 | AC30: 21300 | AD30: 13 | AE30: 380 | AF30: 14 | AG30: 820 | AH30: 14 | AJ30: 14 | AL30: 14 | AM30: 650 | AN30: 14 | AO30: 1900 | AP30: 14 | AQ30: 1900 | AR30: 14 | AS30: 1800 | AT30: 14
A31: 85 | B31: 12 | C31: 101 | D31: 12 | E31: 126 | F31: 12 | G31: 127 | H31: 12 | I31: 135 | J31: 12 | K31: 176 | L31: 12 | M31: 225 | N31: 12 | O31: 395 | P31: 12 | Q31: 1521 | R31: 12 | S31: 3551 | T31: 12 | U31: 9101 | V31: 12 | W31: 14001 | X31: 12 | Y31: 7451 | Z31: 12 | AA31: 15251 | AB31: 12 | AC31: 21301 | AD31: 12
A32: 86 | B32: 12 | C32: 103 | D32: 12 | E32: 128 | F32: 12 | G32: 130 | H32: 12 | I32: 138 | J32: 12 | K32: 180 | L32: 12 | M32: 227 | N32: 12 | O32: 398 | P32: 12 | Q32: 1560 | R32: 12 | S32: 4000 | T32: 12 | U32: 9200 | V32: 12 | W32: 14150 | X32: 12 | Y32: 7550 | Z32: 12 | AA32: 15500 | AB32: 12 | AC32: 22000 | AD32: 12 | AE32: 395 | AF32: 15 | AG32: 840 | AH32: 15 | AI32: 130 | AJ32: 15 | AK32: 205 | AL32: 15 | AM32: 675 | AN32: 15 | AO32: 2000 | AP32: 15 | AQ32: 2000 | AR32: 15 | AS32: 1900 | AT32: 15
A33: 87 | B33: 11 | C33: 104 | D33: 11 | E33: 129 | F33: 11 | G33: 131 | H33: 11 | I33: 139 | J33: 11 | K33: 181 | L33: 11 | M33: 228 | N33: 11 | O33: 401 | P33: 11 | Q33: 1561 | R33: 11 | S33: 4001 | T33: 11 | U33: 9201 | V33: 11 | W33: 14151 | X33: 11 | Y33: 7551 | Z33: 11 | AA33: 15501 | AB33: 11 | AC33: 22001 | AD33: 11
A34: 89 | B34: 11 | C34: 106 | D34: 11 | E34: 131 | F34: 11 | G34: 134 | H34: 11 | I34: 142 | J34: 11 | K34: 185 | L34: 11 | M34: 230 | N34: 11 | O34: 404 | P34: 11 | Q34: 2000 | R34: 11 | S34: 4050 | T34: 11 | U34: 9300 | V34: 11 | W34: 14300 | X34: 11 | Y34: 8100 | Z34: 11 | AA34: 16150 | AB34: 11 | AC34: 22300 | AD34: 11 | AE34: 410 | AF34: 16 | AG34: 860 | AH34: 16 | AJ34: 16 | AL34: 16 | AM34: 700 | AN34: 16 | AO34: 2100 | AP34: 16 | AQ34: 2200 | AR34: 16 | AS34: 2000 | AT34: 16
A35: 90 | B35: 10 | C35: 107 | D35: 10 | E35: 132 | F35: 10 | G35: 135 | H35: 10 | I35: 143 | J35: 10 | K35: 186 | L35: 10 | M35: 231 | N35: 10 | O35: 407 | P35: 10 | Q35: 2001 | R35: 10 | S35: 4051 | T35: 10 | U35: 9301 | V35: 10 | W35: 14301 | X35: 10 | Y35: 8101 | Z35: 10 | AA35: 16151 | AB35: 10 | AC35: 22301 | AD35: 10
A36: 92 | B36: 10 | C36: 110 | D36: 10 | E36: 134 | F36: 10 | G36: 138 | H36: 10 | I36: 146 | J36: 10 | K36: 190 | L36: 10 | M36: 233 | N36: 10 | O36: 410 | P36: 10 | Q36: 2040 | R36: 10 | S36: 4100 | T36: 10 | U36: 9400 | V36: 10 | W36: 14450 | X36: 10 | Y36: 8200 | Z36: 10 | AA36: 16400 | AB36: 10 | AC36: 23000 | AD36: 10 | AE36: 425 | AF36: 17 | AG36: 880 | AH36: 17 | AI36: 134 | AJ36: 17 | AK36: 220 | AL36: 17 | AM36: 725 | AN36: 17 | AO36: 2200 | AP36: 17 | AQ36: 2400 | AR36: 17 | AS36: 2100 | AT36: 17
A37: 93 | B37: 9 | C37: 111 | D37: 9 | E37: 135 | F37: 9 | G37: 139 | H37: 9 | I37: 147 | J37: 9 | K37: 191 | L37: 9 | M37: 234 | N37: 9 | O37: 413 | P37: 9 | Q37: 2041 | R37: 9 | S37: 4101 | T37: 9 | U37: 9401 | V37: 9 | W37: 14451 | X37: 9 | Y37: 8201 | Z37: 9 | AA37: 16401 | AB37: 9 | AC37: 23001 | AD37: 9
A38: 95 | B38: 9 | C38: 114 | D38: 9 | E38: 138 | F38: 9 | G38: 142 | H38: 9 | I38: 150 | J38: 9 | K38: 195 | L38: 9 | M38: 236 | N38: 9 | O38: 416 | P38: 9 | Q38: 2080 | R38: 9 | S38: 4150 | T38: 9 | U38: 9500 | V38: 9 | W38: 15000 | X38: 9 | Y38: 8300 | Z38: 9 | AA38: 17050 | AB38: 9 | AC38: 23300 | AD38: 9 | AE38: 440 | AF38: 18 | AG38: 900 | AH38: 18 | AI38: 138 | AJ38: 18 | AK38: 230 | AL38: 18 | AM38: 750 | AN38: 18 | AO38: 2300 | AP38: 18 | AQ38: 2600 | AR38: 18 | AS38: 2300 | AT38: 18
A39: 96 | B39: 8 | C39: 115 | D39: 8 | E39: 139 | F39: 8 | G39: 143 | H39: 8 | I39: 151 | J39: 8 | K39: 196 | L39: 8 | M39: 237 | N39: 8 | O39: 419 | P39: 8 | Q39: 2081 | R39: 8 | S39: 4151 | T39: 8 | U39: 9501 | V39: 8 | W39: 15001 | X39: 8 | Y39: 8301 | Z39: 8 | AA39: 17051 | AB39: 8 | AC39: 23301 | AD39: 8
A40: 98 | B40: 8 | C40: 118 | D40: 8 | E40: 142 | F40: 8 | G40: 146 | H40: 8 | I40: 155 | J40: 8 | K40: 200 | L40: 8 | M40: 239 | N40: 8 | O40: 422 | P40: 8 | Q40: 2120 | R40: 8 | S40: 4200 | T40: 8 | U40: 10000 | V40: 8 | W40: 15150 | X40: 8 | Y40: 8450 | Z40: 8 | AA40: 17300 | AB40: 8 | AC40: 24000 | AD40: 8 | AE40: 455 | AF40: 19 | AG40: 925 | AH40: 19 | AI40: 142 | AJ40: 19 | AK40: 240 | AL40: 19 | AM40: 775 | AN40: 19 | AO40: 2400 | AP40: 19 | AQ40: 2800 | AR40: 19 | AS40: 2500 | AT40: 19
A41: 99 | B41: 7 | C41: 119 | D41: 7 | E41: 143 | F41: 7 | G41: 147 | H41: 7 | I41: 156 | J41: 7 | K41: 201 | L41: 7 | M41: 240 | N41: 7 | O41: 425 | P41: 7 | Q41: 2121 | R41: 7 | S41: 4201 | T41: 7 | U41: 10001 | V41: 7 | W41: 15151 | X41: 7 | Y41: 8451 | Z41: 7 | AA41: 17301 | AB41: 7 | AC41: 24001 | AD41: 7
A42: 102 | B42: 7 | C42: 122 | D42: 7 | E42: 146 | F42: 7 | G42: 150 | H42: 7 | I42: 160 | J42: 7 | K42: 205 | L42: 7 | M42: 242 | N42: 7 | O42: 428 | P42: 7 | Q42: 2160 | R42: 7 | S42: 4250 | T42: 7 | U42: 10100 | V42: 7 | W42: 15300 | X42: 7 | Y42: 9000 | Z42: 7 | AA42: 18000 | AB42: 7 | AC42: 24300 | AD42: 7 | AE42: 470 | AF42: 20 | AG42: 950 | AH42: 20 | AI42: 146 | AJ42: 20 | AK42: 250 | AL42: 20 | AM42: 820 | AN42: 20 | AO42: 2500 | AP42: 20 | AQ42: 3000 | AR42: 20 | AS42: 2700 | AT42: 20
A43: 103 | B43: 6 | C43: 123 | D43: 6 | E43: 147 | F43: 6 | G43: 151 | H43: 6 | I43: 161 | J43: 6 | K43: 206 | L43: 6 | M43: 243 | N43: 6 | O43: 431 | P43: 6 | Q43: 2161 | R43: 6 | S43: 4251 | T43: 6 | U43: 10101 | V43: 6 | W43: 15301 | X43: 6 | Y43: 9001 | Z43: 6 | AA43: 18001 | AB43: 6 | AC43: 24301 | AD43: 6
A44: 106 | B44: 6 | C44: 126 | D44: 6 | E44: 150 | F44: 6 | G44: 155 | H44: 6 | I44: 165 | J44: 6 | K44: 210 | L44: 6 | M44: 246 | N44: 6 | O44: 434 | P44: 6 | Q44: 2200 | R44: 6 | S44: 4300 | T44: 6 | U44: 10200 | V44: 6 | W44: 15450 | X44: 6 | Y44: 9150 | Z44: 6 | AA44: 18300 | AB44: 6 | AC44: 25000 | AD44: 6 | AE44: 480 | AF44: 21 | AG44: 975 | AH44: 21 | AI44: 150 | AJ44: 21 | AK44: 260 | AL44: 21 | AM44: 900 | AN44: 21 | AO44: 2600 | AP44: 21 | AQ44: 3200 | AR44: 21 | AS44: 2900 | AT44: 21
A45: 105 | B45: 5 | C45: 127 | D45: 5 | E45: 151 | F45: 5 | G45: 156 | H45: 5 | I45: 166 | J45: 5 | K45: 211 | L45: 5 | M45: 247 | N45: 5 | O45: 437 | P45: 5 | Q45: 2201 | R45: 5 | S45: 4301 | T45: 5 | U45: 10201 | V45: 5 | W45: 15451 | X45: 5 | Y45: 9151 | Z45: 5 | AA45: 18301 | AB45: 5 | AC45: 25001 | AD45: 5
A46: 110 | B46: 5 | C46: 130 | D46: 5 | E46: 155 | F46: 5 | G46: 160 | H46: 5 | I46: 170 | J46: 5 | K46: 215 | L46: 5 | M46: 250 | N46: 5 | O46: 440 | P46: 5 | Q46: 2250 | R46: 5 | S46: 4350 | T46: 5 | U46: 10300 | V46: 5 | W46: 16000 | X46: 5 | Y46: 9300 | Z46: 5 | AA46: 19000 | AB46: 5 | AC46: 25300 | AD46: 5 | AE46: 490 | AF46: 22 | AG46: 1000 | AH46: 22 | AI46: 154 | AJ46: 22 | AK46: 270 | AL46: 22 | AM46: 1000 | AN46: 22 | AO46: 2800 | AP46: 22 | AQ46: 3400 | AR46: 22 | AS46: 3100 | AT46: 22
A47: 111 | B47: 4 | C47: 131 | D47: 4 | E47: 156 | F47: 4 | G47: 161 | H47: 4 | I47: 171 | J47: 4 | K47: 216 | L47: 4 | M47: 251 | N47: 4 | O47: 443 | P47: 4 | Q47: 2251 | R47: 4 | S47: 4351 | T47: 4 | U47: 10301 | V47: 4 | W47: 16001 | X47: 4 | Y47: 9301 | Z47: 4 | AA47: 19001 | AB47: 4 | AC47: 25301 | AD47: 4
A48: 115 | B48: 4 | C48: 134 | D48: 4 | E48: 160 | F48: 4 | G48: 165 | H48: 4 | I48: 175 | J48: 4 | K48: 220 | L48: 4 | M48: 255 | N48: 4 | O48: 446 | P48: 4 | Q48: 2300 | R48: 4 | S48: 4400 | T48: 4 | U48: 10400 | V48: 4 | W48: 16300 | X48: 4 | Y48: 9450 | Z48: 4 | AA48: 19300 | AB48: 4 | AC48: 26000 | AD48: 4 | AE48: 500 | AF48: 23 | AG48: 1050 | AH48: 23 | AI48: 158 | AJ48: 23 | AK48: 280 | AL48: 23 | AM48: 1100 | AN48: 23 | AO48: 3000 | AP48: 23 | AQ48: 3600 | AR48: 23 | AS48: 3300 | AT48: 23
A49: 116 | B49: 3 | C49: 135 | D49: 3 | E49: 161 | F49: 3 | G49: 166 | H49: 3 | I49: 176 | J49: 3 | K49: 221 | L49: 3 | M49: 256 | N49: 3 | O49: 449 | P49: 3 | Q49: 2301 | R49: 3 | S49: 4401 | T49: 3 | U49: 10401 | V49: 3 | W49: 16301 | X49: 3 | Y49: 9451 | Z49: 3 | AA49: 19301 | AB49: 3 | AC49: 26001 | AD49: 3
A50: 120 | B50: 3 | C50: 138 | D50: 3 | E50: 165 | F50: 3 | G50: 170 | H50: 3 | I50: 180 | J50: 3 | K50: 225 | L50: 3 | M50: 260 | N50: 3 | O50: 452 | P50: 3 | Q50: 2350 | R50: 3 | S50: 4450 | T50: 3 | U50: 10500 | V50: 3 | W50: 17000 | X50: 3 | Y50: 10000 | Z50: 3 | AA50: 20000 | AB50: 3 | AC50: 26300 | AD50: 3 | AE50: 520 | AF50: 24 | AG50: 1100 | AH50: 24 | AI50: 162 | AJ50: 24 | AK50: 310 | AL50: 24 | AM50: 1200 | AN50: 24 | AO50: 3200 | AP50: 24 | AQ50: 3800 | AR50: 24 | AS50: 3500 | AT50: 24
A51: 121 | B51: 2 | C51: 139 | D51: 2 | E51: 166 | F51: 2 | G51: 171 | H51: 2 | I51: 181 | J51: 2 | K51: 226 | L51: 2 | M51: 261 | N51: 2 | O51: 455 | P51: 2 | Q51: 2351 | R51: 2 | S51: 4451 | T51: 2 | U51: 10501 | V51: 2 | W51: 17001 | X51: 2 | Y51: 10001 | Z51: 2 | AA51: 20001 | AB51: 2 | AC51: 26301 | AD51: 2
A52: 125 | B52: 2 | C52: 142 | D52: 2 | E52: 170 | F52: 2 | G52: 175 | H52: 2 | I52: 185 | J52: 2 | K52: 230 | L52: 2 | M52: 265 | N52: 2 | O52: 458 | P52: 2 | Q52: 2400 | R52: 2 | S52: 4500 | T52: 2 | U52: 11000 | V52: 2 | W52: 17300 | X52: 2 | Y52: 10150 | Z52: 2 | AA52: 20300 | AB52: 2 | AC52: 27000 | AD52: 2 | AE52: 540 | AF52: 25 | AG52: 1150 | AH52: 25 | AI52: 166 | AJ52: 25 | AK52: 340 | AL52: 25 | AM52: 1300 | AN52: 25 | AO52: 3400 | AP52: 25 | AQ52: 4000 | AR52: 25 | AS52: 3700 | AT52: 25
A53: 126 | B53: 1 | C53: 143 | D53: 1 | E53: 171 | F53: 1 | G53: 176 | H53: 1 | I53: 186 | J53: 1 | K53: 231 | L53: 1 | M53: 266 | N53: 1 | O53: 461 | P53: 1 | Q53: 2401 | R53: 1 | S53: 4501 | T53: 1 | U53: 11001 | V53: 1 | W53: 17301 | X53: 1 | Y53: 10151 | Z53: 1 | AA53: 20301 | AB53: 1 | AC53: 27001 | AD53: 1
A54: AB | B54: 0 | C54: AB | D54: 0 | E54: AB | F54: 0 | G54: AB | H54: 0 | I54: AB | J54: 0 | K54: AB | L54: 0 | M54: AB | N54: 0 | O54: AB | P54: 0 | Q54: AB | R54: 0 | S54: AB | T54: 0 | U54: AB | V54: 0 | W54: AB | X54: 0 | Y54: AB | Z54: 0 | AA54: AB | AB54: 0 | AC54: AB | AD54: 0 | AE54: AB | AF54: 0 | AG54: AB | AH54: 0 | AI54: AB | AJ54: 0 | AK54: AB | AL54: 0 | AM54: AB | AN54: 0 | AO54: AB | AP54: 0 | AQ54: AB | AR54: 0 | AS54: AB | AT54: 0
A55: NC | B55: 0 | C55: NC | D55: 0 | E55: NC | F55: 0 | G55: NC | H55: 0 | I55: NC | J55: 0 | K55: NC | L55: 0 | M55: NC | N55: 0 | O55: NC | P55: 0 | Q55: NC | R55: 0 | S55: NC | T55: 0 | U55: NC | V55: 0 | W55: NC | X55: 0 | Y55: NC | Z55: 0 | AA55: NC | AB55: 0 | AC55: NC | AD55: 0 | AE55: NC | AF55: 0 | AG55: NC | AH55: 0 | AI55: NC | AJ55: 0 | AK55: NC | AL55: 0 | AM55: NC | AN55: 0 | AO55: NC | AP55: 0 | AQ55: NC | AR55: 0 | AS55: NC | AT55: 0
A56: NP | B56: 0 | C56: NP | D56: 0 | E56: NP | F56: 0 | G56: NP | H56: 0 | I56: NP | J56: 0 | K56: NP | L56: 0 | M56: NP | N56: 0 | O56: NP | P56: 0 | Q56: NP | R56: 0 | S56: NP | T56: 0 | U56: NP | V56: 0 | W56: NP | X56: 0 | Y56: NP | Z56: 0 | AA56: NP | AB56: 0 | AC56: NP | AD56: 0 | AE56: NP | AF56: 0 | AG56: NP | AH56: 0 | AI56: NP | AJ56: 0 | AK56: NP | AL56: 0 | AM56: NP | AN56: 0 | AO56: NP | AP56: 0 | AQ56: NP | AR56: 0 | AS56: NP | AT56: 0
A57: 50 m | B57: PTS | C57: 60 m | D57: PTS | E57: 80 m | F57: PTS | G57: 50 m H. | H57: PTS | I57: 60 m H. | J57: PTS | K57: 80 m H | L57: PTS | M57: 150 m | N57: PTS | O57: 300 m | P57: PTS | Q57: 500 m | R57: PTS | S57: 1000 m | T57: PTS | U57: 2000 m | V57: PTS | W57: 3000 m | X57: PTS | Y57: 1 km marche | Z57: PTS | AA57: 2 km marche | AB57: PTS | AC57: 3 km marche | AD57: PTS | AE57: LONGUEUR | AF57: PTS | AG57: T.S. | AH57: PTS | AI57: HAUTEUR | AJ57: PTS | AK57: PERCHE | AL57: PTS | AM57: POIDS | AN57: PTS | AO57: DISQUE | AP57: PTS | AQ57: JAVELOT | AR57: PTS | AS57: Marteau | AT57: PTS

Sheet Table MiM
A1: 50 m | B1: PTS | C1: 60 m | D1: PTS | E1: 80 m | F1: PTS | G1: 50 m H. | H1: PTS | I1: 60 m H. | J1: PTS | K1: 100 m H. | L1: PTS | M1: 150 m | N1: PTS | O1: 250 m | P1: PTS | Q1: 500 m | R1: PTS | S1: 1000 m | T1: PTS | U1: 2000 m | V1: PTS | W1: 3000 m | X1: PTS | Y1: 1 km marche | Z1: PTS | AA1: 2 km marche | AB1: PTS | AC1: 3 km marche | AD1: PTS | AE1: LONGUEUR | AF1: PTS | AG1: T.S. | AH1: PTS | AI1: HAUTEUR | AJ1: PTS | AK1: PERCHE | AL1: PTS | AM1: POIDS | AN1: PTS | AO1: DISQUE | AP1: PTS | AQ1: JAVELOT | AR1: PTS | AS1: MARTEAU | AT1: PTS
A2: NP | B2: 0 | C2: NP | D2: 0 | E2: NP | F2: 0 | G2: NP | H2: 0 | I2: NP | J2: 0 | K2: NP | L2: 0 | M2: NP | N2: 0 | O2: NP | P2: 0 | Q2: NP | R2: 0 | S2: NP | T2: 0 | U2: NP | V2: 0 | W2: NP | X2: 0 | Y2: NP | Z2: 0 | AA2: NP | AB2: 0 | AC2: NP | AD2: 0 | AE2: NP | AF2: 0 | AG2: NP | AH2: 0 | AI2: NP | AJ2: 0 | AK2: NP | AL2: 0 | AM2: NP | AN2: 0 | AO2: NP | AP2: 0 | AQ2: NP | AR2: 0 | AS2: NP | AT2: 0
A3: NC | B3: 0 | C3: NC | D3: 0 | E3: NC | F3: 0 | G3: NC | H3: 0 | I3: NC | J3: 0 | K3: NC | L3: 0 | M3: NC | N3: 0 | O3: NC | P3: 0 | Q3: NC | R3: 0 | S3: NC | T3: 0 | U3: NC | V3: 0 | W3: NC | X3: 0 | Y3: NC | Z3: 0 | AA3: NC | AB3: 0 | AC3: NC | AD3: 0 | AE3: NC | AF3: 0 | AG3: NC | AH3: 0 | AI3: NC | AJ3: 0 | AK3: NC | AL3: 0 | AM3: NC | AN3: 0 | AO3: NC | AP3: 0 | AQ3: NC | AR3: 0 | AS3: NC | AT3: 0
A4: AB | B4: 0 | C4: AB | D4: 0 | E4: AB | F4: 0 | G4: AB | H4: 0 | I4: AB | J4: 0 | K4: AB | L4: 0 | M4: AB | N4: 0 | O4: AB | P4: 0 | Q4: AB | R4: 0 | S4: AB | T4: 0 | U4: AB | V4: 0 | W4: AB | X4: 0 | Y4: AB | Z4: 0 | AA4: AB | AB4: 0 | AC4: AB | AD4: 0 | AE4: AB | AF4: 0 | AG4: AB | AH4: 0 | AI4: AB | AJ4: 0 | AK4: AB | AL4: 0 | AM4: AB | AN4: 0 | AO4: AB | AP4: 0 | AQ4: AB | AR4: 0 | AS4: AB | AT4: 0
A5: 1 | B5: 25 | C5: 1 | D5: 25 | E5: 1 | F5: 25 | G5: 1 | H5: 25 | I5: 1 | J5: 15 | K5: 1 | L5: 25 | M5: 1 | N5: 25 | O5: 1 | P5: 25 | Q5: 1 | R5: 25 | S5: 1 | T5: 25 | U5: 1 | V5: 25 | W5: 1 | X5: 25 | Y5: 1 | Z5: 25 | AA5: 1 | AB5: 25 | AC5: 1 | AD5: 25 | AE5: 1 | AF5: 1 | AG5: 1 | AH5: 1 | AI5: 1 | AJ5: 1 | AK5: 1 | AL5: 1 | AM5: 1 | AN5: 1 | AO5: 1 | AP5: 1 | AQ5: 1 | AR5: 1 | AS5: 1 | AT5: 1
A6: 62 | B6: 25 | C6: 72 | D6: 25 | E6: 92 | F6: 25 | G6: 77 | H6: 25 | I6: 86 | J6: 25 | K6: 133 | L6: 25 | M6: 170 | N6: 25 | O6: 300 | P6: 25 | Q6: 1100 | R6: 25 | S6: 2450 | T6: 25 | U6: 6250 | V6: 25 | W6: 9300 | X6: 25 | Y6: 5100 | Z6: 25 | AA6: 10200 | AB6: 25 | AC6: 14200 | AD6: 25 | AE6: 330 | AF6: 2 | AG6: 620 | AH6: 2 | AI6: 100 | AJ6: 2 | AK6: 100 | AL6: 2 | AM6: 420 | AN6: 2 | AO6: 800 | AP6: 2 | AQ6: 800 | AR6: 2 | AS6: 800 | AT6: 2
B7: 24 | C7: 73 | D7: 24 | E7: 93 | F7: 24 | G7: 78 | H7: 24 | I7: 87 | J7: 24 | K7: 134 | L7: 24 | M7: 171 | N7: 24 | O7: 303 | P7: 24 | Q7: 1101 | R7: 24 | S7: 2451 | T7: 24 | U7: 6251 | V7: 24 | W7: 9301 | X7: 24 | Y7: 5101 | Z7: 24 | AA7: 10201 | AB7: 24 | AC7: 14201 | AD7: 24
A8: 63 | B8: 24 | C8: 74 | D8: 24 | E8: 94 | F8: 24 | G8: 79 | H8: 24 | I8: 88 | J8: 24 | K8: 136 | L8: 24 | M8: 174 | N8: 24 | O8: 306 | P8: 24 | Q8: 1120 | R8: 24 | S8: 2500 | T8: 24 | U8: 6400 | V8: 24 | W8: 9450 | X8: 24 | Y8: 5200 | Z8: 24 | AA8: 10400 | AB8: 24 | AC8: 15000 | AD8: 24 | AE8: 340 | AF8: 3 | AG8: 640 | AH8: 3 | AJ8: 3 | AL8: 3 | AM8: 440 | AN8: 3 | AO8: 900 | AP8: 3 | AQ8: 900 | AR8: 3 | AS8: 900 | AT8: 3
B9: 23 | C9: 75 | D9: 23 | E9: 95 | F9: 23 | G9: 80 | H9: 23 | I9: 89 | J9: 23 | K9: 137 | L9: 23 | M9: 175 | N9: 23 | O9: 309 | P9: 23 | Q9: 1121 | R9: 23 | S9: 2501 | T9: 23 | U9: 6401 | V9: 23 | W9: 9451 | X9: 23 | Y9: 5201 | Z9: 23 | AA9: 10401 | AB9: 23 | AC9: 15001 | AD9: 23
A10: 64 | B10: 23 | C10: 76 | D10: 23 | E10: 96 | F10: 23 | G10: 81 | H10: 23 | I10: 90 | J10: 23 | K10: 140 | L10: 23 | M10: 178 | N10: 23 | O10: 312 | P10: 23 | Q10: 1140 | R10: 23 | S10: 2550 | T10: 23 | U10: 6550 | V10: 23 | W10: 10000 | X10: 23 | Y10: 5300 | Z10: 23 | AA10: 11000 | AB10: 23 | AC10: 15400 | AD10: 23 | AE10: 350 | AF10: 4 | AG10: 660 | AH10: 4 | AJ10: 4 | AK10: 120 | AL10: 4 | AM10: 460 | AN10: 4 | AO10: 1000 | AP10: 4 | AQ10: 1000 | AR10: 4 | AS10: 1000 | AT10: 4
B11: 22 | C11: 77 | D11: 22 | E11: 97 | F11: 22 | G11: 82 | H11: 22 | I11: 91 | J11: 22 | K11: 141 | L11: 22 | M11: 179 | N11: 22 | O11: 315 | P11: 22 | Q11: 1141 | R11: 22 | S11: 2551 | T11: 22 | U11: 6551 | V11: 22 | W11: 10001 | X11: 22 | Y11: 5301 | Z11: 22 | AA11: 11001 | AB11: 22 | AC11: 15401 | AD11: 22
A12: 65 | B12: 22 | C12: 78 | D12: 22 | E12: 98 | F12: 22 | G12: 84 | H12: 22 | I12: 93 | J12: 22 | K12: 144 | L12: 22 | M12: 182 | N12: 22 | O12: 318 | P12: 22 | Q12: 1160 | R12: 22 | S12: 3000 | T12: 22 | U12: 7100 | V12: 22 | W12: 10150 | X12: 22 | Y12: 5400 | Z12: 22 | AA12: 11200 | AB12: 22 | AC12: 16200 | AD12: 22 | AE12: 360 | AF12: 5 | AG12: 680 | AH12: 5 | AI12: 110 | AJ12: 5 | AL12: 5 | AM12: 480 | AN12: 5 | AO12: 1100 | AP12: 5 | AQ12: 1100 | AR12: 5 | AS12: 1100 | AT12: 5
B13: 21 | C13: 79 | D13: 21 | E13: 99 | F13: 21 | G13: 85 | H13: 21 | I13: 94 | J13: 21 | K13: 145 | L13: 21 | M13: 183 | N13: 21 | O13: 321 | P13: 21 | Q13: 1161 | R13: 21 | S13: 3001 | T13: 21 | U13: 7101 | V13: 21 | W13: 10151 | X13: 21 | Y13: 5401 | Z13: 21 | AA13: 11201 | AB13: 21 | AC13: 16201 | AD13: 21
A14: 66 | B14: 21 | C14: 80 | D14: 21 | E14: 100 | F14: 21 | G14: 87 | H14: 21 | I14: 96 | J14: 21 | K14: 148 | L14: 21 | M14: 186 | N14: 21 | O14: 324 | P14: 21 | Q14: 1180 | R14: 21 | S14: 3050 | T14: 21 | U14: 7200 | V14: 21 | W14: 10300 | X14: 21 | Y14: 5500 | Z14: 21 | AA14: 11400 | AB14: 21 | AC14: 17000 | AD14: 21 | AE14: 370 | AF14: 6 | AG14: 700 | AH14: 6 | AJ14: 6 | AK14: 140 | AL14: 6 | AM14: 500 | AN14: 6 | AO14: 1200 | AP14: 6 | AQ14: 1200 | AR14: 6 | AS14: 1200 | AT14: 6
A15: 67 | B15: 20 | C15: 81 | D15: 20 | E15: 101 | F15: 20 | G15: 88 | H15: 20 | I15: 97 | J15: 20 | K15: 149 | L15: 20 | M15: 187 | N15: 20 | O15: 327 | P15: 20 | Q15: 1181 | R15: 20 | S15: 3051 | T15: 20 | U15: 7201 | V15: 20 | W15: 10301 | X15: 20 | Y15: 5501 | Z15: 20 | AA15: 11401 | AB15: 20 | AC15: 17001 | AD15: 20
A16: 68 | B16: 20 | C16: 82 | D16: 20 | E16: 102 | F16: 20 | G16: 90 | H16: 20 | I16: 99 | J16: 20 | K16: 152 | L16: 20 | M16: 190 | N16: 20 | O16: 330 | P16: 20 | Q16: 1200 | R16: 20 | S16: 3100 | T16: 20 | U16: 7300 | V16: 20 | W16: 10450 | X16: 20 | Y16: 6000 | Z16: 20 | AA16: 12000 | AB16: 20 | AC16: 17400 | AD16: 20 | AE16: 380 | AF16: 7 | AG16: 720 | AH16: 7 | AI16: 120 | AJ16: 7 | AL16: 7 | AM16: 525 | AN16: 7 | AO16: 1300 | AP16: 7 | AQ16: 1300 | AR16: 7 | AS16: 1300 | AT16: 7
A17: 69 | B17: 19 | C17: 83 | D17: 19 | E17: 103 | F17: 19 | G17: 91 | H17: 19 | I17: 100 | J17: 19 | K17: 153 | L17: 19 | M17: 191 | N17: 19 | O17: 333 | P17: 19 | Q17: 1201 | R17: 19 | S17: 3101 | T17: 19 | U17: 7301 | V17: 19 | W17: 10451 | X17: 19 | Y17: 6001 | Z17: 19 | AA17: 12001 | AB17: 19 | AC17: 17401 | AD17: 19
A18: 70 | B18: 19 | C18: 84 | D18: 19 | E18: 104 | F18: 19 | G18: 94 | H18: 19 | I18: 102 | J18: 19 | K18: 156 | L18: 19 | M18: 194 | N18: 19 | O18: 336 | P18: 19 | Q18: 1220 | R18: 19 | S18: 3160 | T18: 19 | U18: 7400 | V18: 19 | W18: 11000 | X18: 19 | Y18: 6100 | Z18: 19 | AA18: 12200 | AB18: 19 | AC18: 18200 | AD18: 19 | AE18: 390 | AF18: 8 | AG18: 740 | AH18: 8 | AJ18: 8 | AK18: 160 | AL18: 8 | AM18: 550 | AN18: 8 | AO18: 1400 | AP18: 8 | AQ18: 1400 | AR18: 8 | AS18: 1400 | AT18: 8
A19: 71 | B19: 18 | C19: 85 | D19: 18 | E19: 105 | F19: 18 | G19: 95 | H19: 18 | I19: 103 | J19: 18 | K19: 157 | L19: 18 | M19: 195 | N19: 18 | O19: 339 | P19: 18 | Q19: 1221 | R19: 18 | S19: 3161 | T19: 18 | U19: 7401 | V19: 18 | W19: 11001 | X19: 18 | Y19: 6101 | Z19: 18 | AA19: 12201 | AB19: 18 | AC19: 18201 | AD19: 18
A20: 72 | B20: 18 | C20: 86 | D20: 18 | E20: 106 | F20: 18 | G20: 98 | H20: 18 | I20: 106 | J20: 18 | K20: 161 | L20: 18 | M20: 198 | N20: 18 | O20: 342 | P20: 18 | Q20: 1240 | R20: 18 | S20: 3220 | T20: 18 | U20: 7500 | V20: 18 | W20: 11150 | X20: 18 | Y20: 6200 | Z20: 18 | AA20: 12400 | AB20: 18 | AC20: 19000 | AD20: 18 | AE20: 400 | AF20: 9 | AG20: 760 | AH20: 9 | AI20: 125 | AJ20: 9 | AL20: 9 | AM20: 575 | AN20: 9 | AO20: 1500 | AP20: 9 | AQ20: 1500 | AR20: 9 | AS20: 1500 | AT20: 9
A21: 73 | B21: 17 | C21: 87 | D21: 17 | E21: 107 | F21: 17 | G21: 99 | H21: 17 | I21: 107 | J21: 17 | K21: 162 | L21: 17 | M21: 199 | N21: 17 | O21: 345 | P21: 17 | Q21: 1241 | R21: 17 | S21: 3221 | T21: 17 | U21: 7501 | V21: 17 | W21: 11151 | X21: 17 | Y21: 6200 | Z21: 17 | AA21: 12401 | AB21: 17 | AC21: 19001 | AD21: 17
A22: 74 | B22: 17 | C22: 88 | D22: 17 | E22: 109 | F22: 17 | G22: 102 | H22: 17 | I22: 110 | J22: 17 | K22: 166 | L22: 17 | M22: 202 | N22: 17 | O22: 348 | P22: 17 | Q22: 1260 | R22: 17 | S22: 3300 | T22: 17 | U22: 8000 | V22: 17 | W22: 11300 | X22: 17 | Y22: 6300 | Z22: 17 | AA22: 13000 | AB22: 17 | AC22: 19500 | AD22: 17 | AE22: 410 | AF22: 10 | AG22: 780 | AH22: 10 | AI22: 130 | AJ22: 10 | AK22: 175 | AL22: 10 | AM22: 600 | AN22: 10 | AO22: 1600 | AP22: 10 | AQ22: 1600 | AR22: 10 | AS22: 1600 | AT22: 10
A23: 75 | B23: 16 | C23: 89 | D23: 16 | E23: 110 | F23: 16 | G23: 103 | H23: 16 | I23: 111 | J23: 16 | K23: 167 | L23: 16 | M23: 203 | N23: 16 | O23: 351 | P23: 16 | Q23: 1261 | R23: 16 | S23: 3301 | T23: 16 | U23: 8001 | V23: 16 | W23: 11301 | X23: 16 | Y23: 6301 | Z23: 16 | AA23: 13001 | AB23: 16 | AC23: 19501 | AD23: 16
A24: 76 | B24: 16 | C24: 90 | D24: 16 | E24: 112 | F24: 16 | G24: 106 | H24: 16 | I24: 115 | J24: 16 | K24: 171 | L24: 16 | M24: 207 | N24: 16 | O24: 354 | P24: 16 | Q24: 1280 | R24: 16 | S24: 3380 | T24: 16 | U24: 8100 | V24: 16 | W24: 11450 | X24: 16 | Y24: 6400 | Z24: 16 | AA24: 13250 | AB24: 16 | AC24: 20400 | AD24: 16 | AE24: 420 | AF24: 11 | AG24: 800 | AH24: 11 | AI24: 135 | AJ24: 11 | AL24: 11 | AM24: 625 | AN24: 11 | AO24: 1700 | AP24: 11 | AQ24: 1700 | AR24: 11 | AS24: 1700 | AT24: 11
A25: 77 | B25: 15 | C25: 91 | D25: 15 | E25: 113 | F25: 15 | G25: 107 | H25: 15 | I25: 116 | J25: 15 | K25: 172 | L25: 15 | M25: 208 | N25: 15 | O25: 357 | P25: 15 | Q25: 1281 | R25: 15 | S25: 3381 | T25: 15 | U25: 8101 | V25: 15 | W25: 11451 | X25: 15 | Y25: 6401 | Z25: 15 | AA25: 13251 | AB25: 15 | AC25: 20401 | AD25: 15
A26: 78 | B26: 15 | C26: 93 | D26: 15 | E26: 115 | F26: 15 | G26: 110 | H26: 15 | I26: 120 | J26: 15 | K26: 177 | L26: 15 | M26: 212 | N26: 15 | O26: 360 | P26: 15 | Q26: 1320 | R26: 15 | S26: 3460 | T26: 15 | U26: 8200 | V26: 15 | W26: 12000 | X26: 15 | Y26: 6550 | Z26: 15 | AA26: 13500 | AB26: 15 | AC26: 21300 | AD26: 15 | AE26: 430 | AF26: 12 | AG26: 825 | AH26: 12 | AJ26: 12 | AK26: 190 | AL26: 12 | AM26: 650 | AN26: 12 | AO26: 1800 | AP26: 12 | AQ26: 1800 | AR26: 12 | AS26: 1800 | AT26: 12
A27: 79 | B27: 14 | C27: 94 | D27: 14 | E27: 116 | F27: 14 | G27: 111 | H27: 14 | I27: 121 | J27: 14 | K27: 178 | L27: 14 | M27: 213 | N27: 14 | O27: 363 | P27: 14 | Q27: 1321 | R27: 14 | S27: 3461 | T27: 14 | U27: 8201 | V27: 14 | W27: 12001 | X27: 14 | Y27: 6551 | Z27: 14 | AA27: 13501 | AB27: 14 | AC27: 21301 | AD27: 14
A28: 80 | B28: 14 | C28: 96 | D28: 14 | E28: 118 | F28: 14 | G28: 115 | H28: 14 | I28: 125 | J28: 14 | K28: 183 | L28: 14 | M28: 218 | N28: 14 | O28: 366 | P28: 14 | Q28: 1360 | R28: 14 | S28: 3550 | T28: 14 | U28: 8300 | V28: 14 | W28: 12150 | X28: 14 | Y28: 7100 | Z28: 14 | AA28: 14200 | AB28: 14 | AC28: 22200 | AD28: 14 | AE28: 440 | AF28: 13 | AG28: 850 | AH28: 13 | AI28: 140 | AJ28: 13 | AL28: 13 | AM28: 675 | AN28: 13 | AO28: 1900 | AP28: 13 | AQ28: 1900 | AR28: 13 | AS28: 1900 | AT28: 13
A29: 81 | B29: 13 | C29: 97 | D29: 13 | E29: 119 | F29: 13 | G29: 116 | H29: 13 | I29: 126 | J29: 13 | K29: 184 | L29: 13 | M29: 219 | N29: 13 | O29: 369 | P29: 13 | Q29: 1361 | R29: 13 | S29: 3551 | T29: 13 | U29: 8301 | V29: 13 | W29: 12151 | X29: 13 | Y29: 7101 | Z29: 13 | AA29: 14201 | AB29: 13 | AC29: 22201 | AD29: 13
A30: 83 | B30: 13 | C30: 99 | D30: 13 | E30: 121 | F30: 13 | G30: 120 | H30: 13 | I30: 130 | J30: 13 | K30: 190 | L30: 13 | M30: 224 | N30: 13 | O30: 372 | P30: 13 | Q30: 1400 | R30: 13 | S30: 4040 | T30: 13 | U30: 8400 | V30: 13 | W30: 12300 | X30: 13 | Y30: 7250 | Z30: 13 | AA30: 14500 | AB30: 13 | AC30: 23100 | AD30: 13 | AE30: 450 | AF30: 14 | AG30: 875 | AH30: 14 | AI30: 144 | AJ30: 14 | AK30: 220 | AL30: 14 | AM30: 700 | AN30: 14 | AO30: 2000 | AP30: 14 | AQ30: 2000 | AR30: 14 | AS30: 2000 | AT30: 14
A31: 84 | B31: 12 | C31: 100 | D31: 12 | E31: 122 | F31: 12 | G31: 121 | H31: 12 | I31: 131 | J31: 12 | K31: 191 | L31: 12 | M31: 225 | N31: 12 | O31: 375 | P31: 12 | Q31: 1401 | R31: 12 | S31: 4041 | T31: 12 | U31: 8401 | V31: 12 | W31: 12301 | X31: 12 | Y31: 7251 | Z31: 12 | AA31: 14501 | AB31: 12 | AC31: 23101 | AD31: 12
A32: 86 | B32: 12 | C32: 102 | D32: 12 | E32: 125 | F32: 12 | G32: 125 | H32: 12 | I32: 135 | J32: 12 | K32: 197 | L32: 12 | M32: 230 | N32: 12 | O32: 378 | P32: 12 | Q32: 1450 | R32: 12 | S32: 4130 | T32: 12 | U32: 8500 | V32: 12 | W32: 12450 | X32: 12 | Y32: 7400 | Z32: 12 | AA32: 15200 | AB32: 12 | AC32: 24000 | AD32: 12 | AE32: 460 | AF32: 15 | AG32: 900 | AH32: 15 | AJ32: 15 | AK32: 230 | AL32: 15 | AM32: 725 | AN32: 15 | AO32: 2100 | AP32: 15 | AQ32: 2200 | AR32: 15 | AS32: 2200 | AT32: 15
A33: 87 | B33: 11 | C33: 103 | D33: 11 | E33: 126 | F33: 11 | G33: 126 | H33: 11 | I33: 136 | J33: 11 | K33: 198 | L33: 11 | M33: 231 | N33: 11 | O33: 381 | P33: 11 | Q33: 1451 | R33: 11 | S33: 4131 | T33: 11 | U33: 8501 | V33: 11 | W33: 12451 | X33: 11 | Y33: 7401 | Z33: 11 | AA33: 15201 | AB33: 11 | AC33: 24001 | AD33: 11
A34: 89 | B34: 11 | C34: 105 | D34: 11 | E34: 129 | F34: 11 | G34: 130 | H34: 11 | I34: 140 | J34: 11 | K34: 204 | L34: 11 | M34: 237 | N34: 11 | O34: 384 | P34: 11 | Q34: 1500 | R34: 11 | S34: 4220 | T34: 11 | U34: 9000 | V34: 11 | W34: 13000 | X34: 11 | Y34: 7550 | Z34: 11 | AA34: 15500 | AB34: 11 | AC34: 24500 | AD34: 11 | AE34: 470 | AF34: 16 | AG34: 925 | AH34: 16 | AI34: 148 | AJ34: 16 | AK34: 240 | AL34: 16 | AM34: 750 | AN34: 16 | AO34: 2200 | AP34: 16 | AQ34: 2400 | AR34: 16 | AS34: 2400 | AT34: 16
A35: 90 | B35: 10 | C35: 106 | D35: 10 | E35: 130 | F35: 10 | G35: 131 | H35: 10 | I35: 141 | J35: 10 | K35: 205 | L35: 10 | M35: 238 | N35: 10 | O35: 387 | P35: 10 | Q35: 1501 | R35: 10 | S35: 4221 | T35: 10 | U35: 9001 | V35: 10 | W35: 13001 | X35: 10 | Y35: 7551 | Z35: 10 | AA35: 15501 | AB35: 10 | AC35: 24501 | AD35: 10
A36: 92 | B36: 10 | C36: 108 | D36: 10 | E36: 133 | F36: 10 | G36: 135 | H36: 10 | I36: 145 | J36: 10 | K36: 211 | L36: 10 | M36: 244 | N36: 10 | O36: 390 | P36: 10 | Q36: 1550 | R36: 10 | S36: 4310 | T36: 10 | U36: 9200 | V36: 10 | W36: 13150 | X36: 10 | Y36: 8100 | Z36: 10 | AA36: 16200 | AB36: 10 | AC36: 25400 | AD36: 10 | AE36: 480 | AF36: 17 | AG36: 950 | AH36: 17 | AI36: 152 | AJ36: 17 | AK36: 260 | AL36: 17 | AM36: 775 | AN36: 17 | AO36: 2300 | AP36: 17 | AQ36: 2600 | AR36: 17 | AS36: 2600 | AT36: 17
A37: 93 | B37: 9 | C37: 109 | D37: 9 | E37: 134 | F37: 9 | G37: 136 | H37: 9 | I37: 146 | J37: 9 | K37: 212 | L37: 9 | M37: 245 | N37: 9 | O37: 393 | P37: 9 | Q37: 1551 | R37: 9 | S37: 4311 | T37: 9 | U37: 9201 | V37: 9 | W37: 13151 | X37: 9 | Y37: 8101 | Z37: 9 | AA37: 16201 | AB37: 9 | AC37: 25401 | AD37: 9
A38: 95 | B38: 9 | C38: 112 | D38: 9 | E38: 137 | F38: 9 | G38: 140 | H38: 9 | I38: 150 | J38: 9 | K38: 218 | L38: 9 | M38: 251 | N38: 9 | O38: 396 | P38: 9 | Q38: 2000 | R38: 9 | S38: 4400 | T38: 9 | U38: 9400 | V38: 9 | W38: 13300 | X38: 9 | Y38: 8250 | Z38: 9 | AA38: 16500 | AB38: 9 | AC38: 26300 | AD38: 9 | AE38: 490 | AF38: 18 | AG38: 975 | AH38: 18 | AI38: 156 | AJ38: 18 | AK38: 280 | AL38: 18 | AM38: 800 | AN38: 18 | AO38: 2400 | AP38: 18 | AQ38: 2800 | AR38: 18 | AS38: 2800 | AT38: 18
A39: 96 | B39: 8 | C39: 113 | D39: 8 | E39: 138 | F39: 8 | G39: 141 | H39: 8 | I39: 151 | J39: 8 | K39: 219 | L39: 8 | M39: 252 | N39: 8 | O39: 399 | P39: 8 | Q39: 2001 | R39: 8 | S39: 4401 | T39: 8 | U39: 9401 | V39: 8 | W39: 13301 | X39: 8 | Y39: 8251 | Z39: 8 | AA39: 16501 | AB39: 8 | AC39: 26301 | AD39: 8
A40: 98 | B40: 8 | C40: 116 | D40: 8 | E40: 141 | F40: 8 | G40: 145 | H40: 8 | I40: 155 | J40: 8 | K40: 225 | L40: 8 | M40: 258 | N40: 8 | O40: 402 | P40: 8 | Q40: 2060 | R40: 8 | S40: 4500 | T40: 8 | U40: 10000 | V40: 8 | W40: 13450 | X40: 8 | Y40: 8400 | Z40: 8 | AA40: 17200 | AB40: 8 | AC40: 27200 | AD40: 8 | AE40: 500 | AF40: 19 | AG40: 1000 | AH40: 19 | AI40: 160 | AJ40: 19 | AK40: 300 | AL40: 19 | AM40: 850 | AN40: 19 | AO40: 2500 | AP40: 19 | AQ40: 3000 | AR40: 19 | AS40: 3000 | AT40: 19
A41: 99 | B41: 7 | C41: 117 | D41: 7 | E41: 142 | F41: 7 | G41: 146 | H41: 7 | I41: 156 | J41: 7 | K41: 226 | L41: 7 | M41: 259 | N41: 7 | O41: 405 | P41: 7 | Q41: 2061 | R41: 7 | S41: 4501 | T41: 7 | U41: 10001 | V41: 7 | W41: 13451 | X41: 7 | Y41: 8401 | Z41: 7 | AA41: 17201 | AB41: 7 | AC41: 27201 | AD41: 7
A42: 102 | B42: 7 | C42: 120 | D42: 7 | E42: 145 | F42: 7 | G42: 150 | H42: 7 | I42: 160 | J42: 7 | K42: 232 | L42: 7 | M42: 265 | N42: 7 | O42: 408 | P42: 7 | Q42: 2120 | R42: 7 | S42: 5000 | T42: 7 | U42: 10200 | V42: 7 | W42: 14000 | X42: 7 | Y42: 8550 | Z42: 7 | AA42: 17500 | AB42: 7 | AC42: 28100 | AD42: 7 | AE42: 520 | AF42: 20 | AG42: 1050 | AH42: 20 | AI42: 164 | AJ42: 20 | AK42: 320 | AL42: 20 | AM42: 900 | AN42: 20 | AO42: 2600 | AP42: 20 | AQ42: 3500 | AR42: 20 | AS42: 3200 | AT42: 20
A43: 103 | B43: 6 | C43: 121 | D43: 6 | E43: 146 | F43: 6 | G43: 151 | H43: 6 | I43: 161 | J43: 6 | K43: 233 | L43: 6 | M43: 266 | N43: 6 | O43: 411 | P43: 6 | Q43: 2121 | R43: 6 | S43: 5001 | T43: 6 | U43: 10201 | V43: 6 | W43: 14001 | X43: 6 | Y43: 8551 | Z43: 6 | AA43: 17501 | AB43: 6 | AC43: 28101 | AD43: 6
A44: 106 | B44: 6 | C44: 125 | D44: 6 | E44: 149 | F44: 6 | G44: 155 | H44: 6 | I44: 165 | J44: 6 | K44: 239 | L44: 6 | M44: 272 | N44: 6 | O44: 414 | P44: 6 | Q44: 2180 | R44: 6 | S44: 5100 | T44: 6 | U44: 10400 | V44: 6 | W44: 14150 | X44: 6 | Y44: 9100 | Z44: 6 | AA44: 18200 | AB44: 6 | AC44: 29000 | AD44: 6 | AE44: 540 | AF44: 21 | AG44: 1100 | AH44: 21 | AI44: 168 | AJ44: 21 | AK44: 340 | AL44: 21 | AM44: 1000 | AN44: 21 | AO44: 2800 | AP44: 21 | AQ44: 3800 | AR44: 21 | AS44: 3400 | AT44: 21
A45: 107 | B45: 5 | C45: 126 | D45: 5 | E45: 150 | F45: 5 | G45: 156 | H45: 5 | I45: 166 | J45: 5 | K45: 240 | L45: 5 | M45: 273 | N45: 5 | O45: 417 | P45: 5 | Q45: 2181 | R45: 5 | S45: 5101 | T45: 5 | U45: 10401 | V45: 5 | W45: 14151 | X45: 5 | Y45: 9101 | Z45: 5 | AA45: 18201 | AB45: 5 | AC45: 29001 | AD45: 5
A46: 110 | B46: 5 | C46: 130 | D46: 5 | E46: 153 | F46: 5 | G46: 160 | H46: 5 | I46: 170 | J46: 5 | K46: 246 | L46: 5 | M46: 280 | N46: 5 | O46: 420 | P46: 5 | Q46: 2250 | R46: 5 | S46: 5200 | T46: 5 | U46: 11000 | V46: 5 | W46: 14300 | X46: 5 | Y46: 9250 | Z46: 5 | AA46: 18500 | AB46: 5 | AC46: 29500 | AD46: 5 | AE46: 560 | AF46: 22 | AG46: 1150 | AH46: 22 | AI46: 172 | AJ46: 22 | AK46: 360 | AL46: 22 | AM46: 1100 | AN46: 22 | AO46: 3100 | AP46: 22 | AQ46: 4100 | AR46: 22 | AS46: 3700 | AT46: 22
A47: 111 | B47: 4 | C47: 131 | D47: 4 | E47: 154 | F47: 4 | G47: 161 | H47: 4 | I47: 171 | J47: 4 | K47: 247 | L47: 4 | M47: 281 | N47: 4 | O47: 423 | P47: 4 | Q47: 2251 | R47: 4 | S47: 5201 | T47: 4 | U47: 11001 | V47: 4 | W47: 14301 | X47: 4 | Y47: 9251 | Z47: 4 | AA47: 18501 | AB47: 4 | AC47: 29501 | AD47: 4
A48: 115 | B48: 4 | C48: 135 | D48: 4 | E48: 157 | F48: 4 | G48: 165 | H48: 4 | I48: 175 | J48: 4 | K48: 253 | L48: 4 | M48: 288 | N48: 4 | O48: 426 | P48: 4 | Q48: 2330 | R48: 4 | S48: 5300 | T48: 4 | U48: 11200 | V48: 4 | W48: 14450 | X48: 4 | Y48: 9400 | Z48: 4 | AA48: 19200 | AB48: 4 | AC48: 30400 | AD48: 4 | AE48: 580 | AF48: 23 | AG48: 1200 | AH48: 23 | AI48: 176 | AJ48: 23 | AK48: 380 | AL48: 23 | AM48: 1200 | AN48: 23 | AO48: 3400 | AP48: 23 | AQ48: 4400 | AR48: 23 | AS48: 4000 | AT48: 23
A49: 116 | B49: 3 | C49: 136 | D49: 3 | E49: 158 | F49: 3 | G49: 166 | H49: 3 | I49: 176 | J49: 3 | K49: 254 | L49: 3 | M49: 289 | N49: 3 | O49: 429 | P49: 3 | Q49: 2331 | R49: 3 | S49: 5301 | T49: 3 | U49: 11201 | V49: 3 | W49: 14451 | X49: 3 | Y49: 9401 | Z49: 3 | AA49: 19201 | AB49: 3 | AC49: 30401 | AD49: 3
A50: 120 | B50: 3 | C50: 140 | D50: 3 | E50: 161 | F50: 3 | G50: 170 | H50: 3 | I50: 180 | J50: 3 | K50: 260 | L50: 3 | M50: 296 | N50: 3 | O50: 432 | P50: 3 | Q50: 2410 | R50: 3 | S50: 5400 | T50: 3 | U50: 11400 | V50: 3 | W50: 15000 | X50: 3 | Y50: 9550 | Z50: 3 | AA50: 19500 | AB50: 3 | AC50: 31300 | AD50: 3 | AE50: 600 | AF50: 24 | AG50: 1300 | AH50: 24 | AI50: 180 | AJ50: 24 | AK50: 400 | AL50: 24 | AM50: 1300 | AN50: 24 | AO50: 3700 | AP50: 24 | AQ50: 4700 | AR50: 24 | AS50: 4300 | AT50: 24
A51: 121 | B51: 2 | C51: 141 | D51: 2 | E51: 162 | F51: 2 | G51: 171 | H51: 2 | I51: 181 | J51: 2 | K51: 261 | L51: 2 | M51: 297 | N51: 2 | O51: 435 | P51: 2 | Q51: 2411 | R51: 2 | S51: 5401 | T51: 2 | U51: 11401 | V51: 2 | W51: 15001 | X51: 2 | Y51: 9551 | Z51: 2 | AA51: 19501 | AB51: 2 | AC51: 31301 | AD51: 2
A52: 125 | B52: 2 | C52: 145 | D52: 2 | E52: 165 | F52: 2 | G52: 175 | H52: 2 | I52: 185 | J52: 2 | K52: 270 | L52: 2 | M52: 304 | N52: 2 | O52: 438 | P52: 2 | Q52: 2490 | R52: 2 | S52: 5500 | T52: 2 | U52: 12000 | V52: 2 | W52: 15150 | X52: 2 | Y52: 10100 | Z52: 2 | AA52: 20200 | AB52: 2 | AC52: 32200 | AD52: 2 | AE52: 620 | AF52: 25 | AG52: 1400 | AH52: 25 | AI52: 184 | AJ52: 25 | AK52: 420 | AL52: 25 | AM52: 1400 | AN52: 25 | AO52: 4000 | AP52: 25 | AQ52: 5000 | AR52: 25 | AS52: 4600 | AT52: 25
A53: 126 | B53: 1 | C53: 146 | D53: 1 | E53: 166 | F53: 1 | G53: 176 | H53: 1 | I53: 186 | J53: 1 | K53: 271 | L53: 1 | M53: 305 | N53: 1 | O53: 441 | P53: 1 | Q53: 2491 | R53: 1 | S53: 5501 | T53: 1 | U53: 12001 | V53: 1 | W53: 15151 | X53: 1 | Y53: 10101 | Z53: 1 | AA53: 20201 | AB53: 1 | AC53: 32201 | AD53: 1 | AE53: NC | AF53: 0 | AG53: NC | AH53: 0 | AI53: NC | AJ53: 0 | AK53: NC | AL53: 0 | AM53: NC | AN53: 0 | AO53: NC | AP53: 0 | AQ53: NC | AR53: 0 | AS53: NC | AT53: 0
A54: AB | B54: 0 | C54: AB | D54: 0 | E54: AB | F54: 0 | G54: AB | H54: 0 | I54: AB | J54: 0 | K54: AB | L54: 0 | M54: AB | N54: 0 | O54: AB | P54: 0 | Q54: AB | R54: 0 | S54: AB | T54: 0 | U54: AB | V54: 0 | W54: AB | X54: 0 | Y54: AB | Z54: 0 | AA54: AB | AB54: 0 | AC54: AB | AD54: 0 | AE54: AB | AF54: 0 | AG54: AB | AH54: 0 | AI54: AB | AJ54: 0 | AK54: AB | AL54: 0 | AM54: AB | AN54: 0 | AO54: AB | AP54: 0 | AQ54: AB | AR54: 0 | AS54: AB | AT54: 0
A55: NC | B55: 0 | C55: NC | D55: 0 | E55: NC | F55: 0 | G55: NC | H55: 0 | I55: NC | J55: 0 | K55: NC | L55: 0 | M55: NC | N55: 0 | O55: NC | P55: 0 | Q55: NC | R55: 0 | S55: NC | T55: 0 | U55: NC | V55: 0 | W55: NC | X55: 0 | Y55: NC | Z55: 0 | AA55: NC | AB55: 0 | AC55: NC | AD55: 0 | AE55: NC | AF55: 0 | AG55: NC | AH55: 0 | AI55: NC | AJ55: 0 | AK55: NC | AL55: 0 | AM55: NC | AN55: 0 | AO55: NC | AP55: 0 | AQ55: NC | AR55: 0 | AS55: NC | AT55: 0
A56: NP | B56: 0 | C56: NP | D56: 0 | E56: NP | F56: 0 | G56: NP | H56: 0 | I56: NP | J56: 0 | K56: NP | L56: 0 | M56: NP | N56: 0 | O56: NP | P56: 0 | Q56: NP | R56: 0 | S56: NP | T56: 0 | U56: NP | V56: 0 | W56: NP | X56: 0 | Y56: NP | Z56: 0 | AA56: NP | AB56: 0 | AC56: NP | AD56: 0 | AE56: NP | AF56: 0 | AG56: NP | AH56: 0 | AI56: NP | AJ56: 0 | AK56: NP | AL56: 0 | AM56: NP | AN56: 0 | AO56: NP | AP56: 0 | AQ56: NP | AR56: 0 | AS56: NP | AT56: 0
A57: 50 m | B57: PTS | C57: 60 m | D57: PTS | E57: 80 m | F57: PTS | G57: 50 m H. | H57: PTS | I57: 60 m H. | J57: PTS | K57: 100 m H. | L57: PTS | M57: 150 m | N57: PTS | O57: 250m | P57: PTS | Q57: 500 m | R57: PTS | S57: 1000 m | T57: PTS | U57: 2000 m | V57: PTS | W57: 3000 m | X57: PTS | Y57: 1 km marche | Z57: PTS | AA57: 2 km marche | AB57: PTS | AC57: 3 km marche | AD57: PTS | AE57: LONGUEUR | AF57: PTS | AG57: T.S. | AH57: PTS | AI57: HAUTEUR | AJ57: PTS | AK57: PERCHE | AL57: PTS | AM57: POIDS | AN57: PTS | AO57: DISQUE | AP57: PTS | AQ57: JAVELOT | AR57: PTS | AS57: Marteau | AT57: PTS

Sheet Table Femmes
A1: 50 m | B1: PTS | C1: 60 m | D1: PTS | E1: 100 m | F1: PTS | G1: 50 m H. | H1: PTS | I1: 60 m H. | J1: PTS | K1: 100 m H. | L1: PTS | M1: 200 m | N1: PTS | O1: 300 m | P1: PTS | Q1: 320 m H | R1: PTS | S1: 400 m | T1: PTS | U1: 400 m H | V1: PTS | W1: 500 m | X1: PTS | Y1: 800 m | Z1: PTS | AA1: 1000 m | AB1: PTS | AC1: 1500 m | AD1: PTS | AE1: 2000 m | AF1: PTS | AG1: 3000 m | AH1: PTS | AI1: 5000 m | AJ1: PTS | AK1: 1500 steeple | AL1: PTS | AM1: 3000 steeple | AN1: PTS | AO1: 3 km marche | AP1: PTS | AQ1: 5 km marche | AR1: PTS | AS1: LONGUEUR | AT1: PTS | AU1: T.S. | AV1: PTS | AW1: HAUTEUR | AX1: PTS | AY1: PERCHE | AZ1: PTS | BA1: POIDS | BB1: PTS | BC1: DISQUE | BD1: PTS | BE1: JAVELOT | BF1: PTS | BG1: MARTEAU | BH1: PTS
A2: NP | B2: 0 | C2: NP | D2: 0 | E2: NP | F2: 0 | G2: NP | H2: 0 | I2: NP | J2: 0 | K2: NP | L2: 0 | M2: NP | N2: 0 | O2: NP | P2: 0 | Q2: NP | R2: 0 | S2: NP | T2: 0 | U2: NP | V2: 0 | W2: NP | X2: 0 | Y2: NP | Z2: 0 | AA2: NP | AB2: 0 | AC2: NP | AD2: 0 | AE2: NP | AF2: 0 | AG2: NP | AH2: 0 | AI2: NP | AJ2: 0 | AK2: NP | AL2: 0 | AM2: NP | AN2: 0 | AO2: NP | AP2: 0 | AQ2: NP | AR2: 0 | AS2: NP | AT2: 0 | AU2: NP | AV2: 0 | AW2: NP | AX2: 0 | AY2: NP | AZ2: 0 | BA2: NP | BB2: 0 | BC2: NP | BD2: 0 | BE2: NP | BF2: 0 | BG2: NP | BH2: 0
A3: NC | B3: 0 | C3: NC | D3: 0 | E3: NC | F3: 0 | G3: NC | H3: 0 | I3: NC | J3: 0 | K3: NC | L3: 0 | M3: NC | N3: 0 | O3: NC | P3: 0 | Q3: NC | R3: 0 | S3: NC | T3: 0 | U3: NC | V3: 0 | W3: NC | X3: 0 | Y3: NC | Z3: 0 | AA3: NC | AB3: 0 | AC3: NC | AD3: 0 | AE3: NC | AF3: 0 | AG3: NC | AH3: 0 | AI3: NC | AJ3: 0 | AK3: NC | AL3: 0 | AM3: NC | AN3: 0 | AO3: NC | AP3: 0 | AQ3: NC | AR3: 0 | AS3: NC | AT3: 0 | AU3: NC | AV3: 0 | AW3: NC | AX3: 0 | AY3: NC | AZ3: 0 | BA3: NC | BB3: 0 | BC3: NC | BD3: 0 | BE3: NC | BF3: 0 | BG3: NC | BH3: 0
A4: AB | B4: 0 | C4: AB | D4: 0 | E4: AB | F4: 0 | G4: AB | H4: 0 | I4: AB | J4: 0 | K4: AB | L4: 0 | M4: AB | N4: 0 | O4: AB | P4: 0 | Q4: AB | R4: 0 | S4: AB | T4: 0 | U4: AB | V4: 0 | W4: AB | X4: 0 | Y4: AB | Z4: 0 | AA4: AB | AB4: 0 | AC4: AB | AD4: 0 | AE4: AB | AF4: 0 | AG4: AB | AH4: 0 | AI4: AB | AJ4: 0 | AK4: AB | AL4: 0 | AM4: AB | AN4: 0 | AO4: AB | AP4: 0 | AQ4: AB | AR4: 0 | AS4: AB | AT4: 0 | AU4: AB | AV4: 0 | AW4: AB | AX4: 0 | AY4: AB | AZ4: 0 | BA4: AB | BB4: 0 | BC4: AB | BD4: 0 | BE4: AB | BF4: 0 | BG4: AB | BH4: 0
A5: 0 | B5: 25 | C5: 0 | D5: 25 | E5: 0 | F5: 25 | G5: 0 | H5: 25 | I5: 0 | J5: 15 | K5: 0 | L5: 25 | M5: 0 | N5: 25 | O5: 0 | P5: 25 | Q5: 0 | R5: 25 | S5: 0 | T5: 25 | U5: 0 | V5: 25 | W5: 0 | X5: 25 | Y5: 0 | Z5: 25 | AA5: 0 | AB5: 25 | AC5: 0 | AD5: 25 | AE5: 0 | AF5: 25 | AG5: 0 | AH5: 25 | AI5: 0 | AJ5: 25 | AK5: 0 | AL5: 25 | AM5: 0 | AN5: 25 | AO5: 0 | AP5: 25 | AQ5: 0 | AR5: 25 | AS5: 0 | AT5: 1 | AU5: 0 | AV5: 1 | AW5: 0 | AX5: 1 | AY5: 0 | AZ5: 1 | BA5: 0 | BB5: 1 | BC5: 0 | BD5: 1 | BE5: 0 | BF5: 1 | BG5: 0 | BH5: 1
A6: 64 | B6: 25 | C6: 73 | D6: 25 | E6: 115 | F6: 25 | G6: 73 | H6: 25 | I6: 84 | J6: 25 | K6: 132 | L6: 25 | M6: 237 | N6: 25 | O6: 400 | P6: 25 | Q6: 475 | R6: 25 | S6: 550 | T6: 25 | U6: 595 | V6: 25 | W6: 1100 | X6: 25 | Y6: 1580 | Z6: 25 | AA6: 2420 | AB6: 25 | AC6: 4170 | AD6: 25 | AE6: 5500 | AF6: 25 | AG6: 9250 | AH6: 25 | AI6: 1100 | AJ6: 25 | AK6: 6300 | AL6: 25 | AM6: 11200 | AN6: 25 | AO6: 15300 | AP6: 25 | AQ6: 24300 | AR6: 25 | AS6: 200 | AT6: 2 | AU6: 380 | AV6: 2 | AW6: 80 | AX6: 2 | AY6: 100 | AZ6: 2 | BA6: 250 | BB6: 2 | BC6: 500 | BD6: 2 | BE6: 600 | BF6: 2 | BG6: 500 | BH6: 2
B7: 24 | D7: 24 | E7: 116 | F7: 24 | G7: 74 | H7: 24 | I7: 85 | J7: 24 | K7: 133 | L7: 24 | M7: 238 | N7: 24 | O7: 201 | P7: 24 | Q7: 476 | R7: 24 | S7: 551 | T7: 24 | U7: 596 | V7: 24 | W7: 1101 | X7: 24 | Y7: 1581 | Z7: 24 | AA7: 2421 | AB7: 24 | AC7: 4171 | AD7: 24 | AE7: 5501 | AF7: 24 | AG7: 9251 | AH7: 24 | AI7: 1101 | AJ7: 24 | AK7: 6301 | AL7: 24 | AM7: 11201 | AN7: 24 | AO7: 15301 | AP7: 24 | AQ7: 24301 | AR7: 24
A8: 65 | B8: 24 | C8: 74 | D8: 24 | E8: 118 | F8: 24 | G8: 76 | H8: 24 | I8: 87 | J8: 24 | K8: 136 | L8: 24 | M8: 242 | N8: 24 | O8: 410 | P8: 24 | Q8: 490 | R8: 24 | S8: 560 | T8: 24 | U8: 610 | V8: 24 | W8: 1130 | X8: 24 | Y8: 2020 | Z8: 24 | AA8: 2470 | AB8: 24 | AC8: 4270 | AD8: 24 | AE8: 6000 | AF8: 24 | AG8: 9400 | AH8: 24 | AI8: 1130 | AJ8: 24 | AK8: 6400 | AL8: 24 | AM8: 11400 | AN8: 24 | AO8: 16300 | AP8: 24 | AQ8: 26300 | AR8: 24 | AS8: 210 | AT8: 3 | AU8: 400 | AV8: 3 | AX8: 3 | AZ8: 3 | BA8: 275 | BB8: 3 | BC8: 600 | BD8: 3 | BE8: 700 | BF8: 3 | BG8: 600 | BH8: 3
B9: 23 | D9: 23 | E9: 119 | F9: 23 | G9: 77 | H9: 23 | I9: 88 | J9: 23 | K9: 137 | L9: 23 | M9: 243 | N9: 23 | O9: 411 | P9: 23 | Q9: 491 | R9: 23 | S9: 561 | T9: 23 | U9: 611 | V9: 23 | W9: 1131 | X9: 23 | Y9: 2021 | Z9: 23 | AA9: 2471 | AB9: 23 | AC9: 4271 | AD9: 23 | AE9: 6001 | AF9: 23 | AG9: 9401 | AH9: 23 | AI9: 1131 | AJ9: 23 | AK9: 6401 | AL9: 23 | AM9: 11401 | AN9: 23 | AO9: 16301 | AP9: 23 | AQ9: 26301 | AR9: 23
A10: 66 | B10: 23 | C10: 75 | D10: 23 | E10: 120 | F10: 23 | G10: 79 | H10: 23 | I10: 90 | J10: 23 | K10: 140 | L10: 23 | M10: 246 | N10: 23 | O10: 420 | P10: 23 | Q10: 505 | R10: 23 | S10: 570 | T10: 23 | U10: 635 | V10: 23 | W10: 1150 | X10: 23 | Y10: 2060 | Z10: 23 | AA10: 2500 | AB10: 23 | AC10: 4320 | AD10: 23 | AE10: 6100 | AF10: 23 | AG10: 9550 | AH10: 23 | AI10: 1150 | AJ10: 23 | AK10: 6500 | AL10: 23 | AM10: 12000 | AN10: 23 | AO10: 17300 | AP10: 23 | AQ10: 28300 | AR10: 23 | AS10: 220 | AT10: 4 | AU10: 420 | AV10: 4 | AW10: 85 | AX10: 4 | AY10: 110 | AZ10: 4 | BA10: 300 | BB10: 4 | BC10: 700 | BD10: 4 | BE10: 800 | BF10: 4 | BG10: 700 | BH10: 4
B11: 22 | D11: 22 | E11: 121 | F11: 22 | G11: 80 | H11: 22 | I11: 91 | J11: 22 | K11: 141 | L11: 22 | M11: 247 | N11: 22 | O11: 421 | P11: 22 | Q11: 506 | R11: 22 | S11: 571 | T11: 22 | U11: 636 | V11: 22 | W11: 1151 | X11: 22 | Y11: 2061 | Z11: 22 | AA11: 2501 | AB11: 22 | AC11: 4321 | AD11: 22 | AE11: 6101 | AF11: 22 | AG11: 9551 | AH11: 22 | AI11: 1151 | AJ11: 22 | AK11: 6501 | AL11: 22 | AM11: 12001 | AN11: 22 | AO11: 17301 | AP11: 22 | AQ11: 28301 | AR11: 22
A12: 67 | B12: 22 | C12: 76 | D12: 22 | E12: 122 | F12: 22 | G12: 82 | H12: 22 | I12: 93 | J12: 22 | K12: 145 | L12: 22 | M12: 250 | N12: 22 | O12: 430 | P12: 22 | Q12: 520 | R12: 22 | S12: 580 | T12: 22 | U12: 650 | V12: 22 | W12: 1170 | X12: 22 | Y12: 2080 | Z12: 22 | AA12: 2530 | AB12: 22 | AC12: 4370 | AD12: 22 | AE12: 6200 | AF12: 22 | AG12: 10100 | AH12: 22 | AI12: 1170 | AJ12: 22 | AK12: 7000 | AL12: 22 | AM12: 12200 | AN12: 22 | AO12: 18300 | AP12: 22 | AQ12: 29300 | AR12: 22 | AS12: 230 | AT12: 5 | AU12: 440 | AV12: 5 | AX12: 5 | AZ12: 5 | BA12: 325 | BB12: 5 | BC12: 800 | BD12: 5 | BE12: 900 | BF12: 5 | BG12: 800 | BH12: 5
B13: 21 | D13: 21 | E13: 123 | F13: 21 | G13: 83 | H13: 21 | I13: 94 | J13: 21 | K13: 146 | L13: 21 | M13: 251 | N13: 21 | O13: 431 | P13: 21 | Q13: 521 | R13: 21 | S13: 581 | T13: 21 | U13: 651 | V13: 21 | W13: 1171 | X13: 21 | Y13: 2081 | Z13: 21 | AA13: 2531 | AB13: 21 | AC13: 4371 | AD13: 21 | AE13: 6201 | AF13: 21 | AG13: 10101 | AH13: 21 | AI13: 1171 | AJ13: 21 | AK13: 7001 | AL13: 21 | AM13: 12201 | AN13: 21 | AO13: 18301 | AP13: 21 | AQ13: 29301 | AR13: 21
A14: 68 | B14: 21 | C14: 77 | D14: 21 | E14: 124 | F14: 21 | G14: 85 | H14: 21 | I14: 96 | J14: 21 | K14: 150 | L14: 21 | M14: 252 | N14: 21 | O14: 437 | P14: 21 | Q14: 535 | R14: 21 | S14: 590 | T14: 21 | U14: 660 | V14: 21 | W14: 1190 | X14: 21 | Y14: 2100 | Z14: 21 | AA14: 2560 | AB14: 21 | AC14: 4420 | AD14: 21 | AE14: 6300 | AF14: 21 | AG14: 10250 | AH14: 21 | AI14: 1190 | AJ14: 21 | AK14: 7100 | AL14: 21 | AM14: 12400 | AN14: 21 | AO14: 19000 | AP14: 21 | AQ14: 30300 | AR14: 21 | AS14: 240 | AT14: 6 | AU14: 460 | AV14: 6 | AW14: 90 | AX14: 6 | AY14: 120 | AZ14: 6 | BA14: 350 | BB14: 6 | BC14: 900 | BD14: 6 | BE14: 1000 | BF14: 6 | BG14: 900 | BH14: 6
B15: 20 | D15: 20 | E15: 125 | F15: 20 | G15: 86 | H15: 20 | I15: 97 | J15: 20 | K15: 151 | L15: 20 | M15: 253 | N15: 20 | O15: 438 | P15: 20 | Q15: 536 | R15: 20 | S15: 591 | T15: 20 | U15: 661 | V15: 20 | W15: 1191 | X15: 20 | Y15: 2101 | Z15: 20 | AA15: 2561 | AB15: 20 | AC15: 4421 | AD15: 20 | AE15: 6301 | AF15: 20 | AG15: 10251 | AH15: 20 | AI15: 1191 | AJ15: 20 | AK15: 7101 | AL15: 20 | AM15: 12401 | AN15: 20 | AO15: 19001 | AP15: 20 | AQ15: 30301 | AR15: 20
A16: 69 | B16: 20 | C16: 78 | D16: 20 | E16: 126 | F16: 20 | G16: 88 | H16: 20 | I16: 99 | J16: 20 | K16: 155 | L16: 20 | M16: 258 | N16: 20 | O16: 444 | P16: 20 | Q16: 545 | R16: 20 | S16: 600 | T16: 20 | U16: 670 | V16: 20 | W16: 1210 | X16: 20 | Y16: 2120 | Z16: 20 | AA16: 2590 | AB16: 20 | AC16: 4470 | AD16: 20 | AE16: 6400 | AF16: 20 | AG16: 10400 | AH16: 20 | AI16: 1210 | AJ16: 20 | AK16: 7200 | AL16: 20 | AM16: 13000 | AN16: 20 | AO16: 19300 | AP16: 20 | AQ16: 31300 | AR16: 20 | AS16: 250 | AT16: 7 | AU16: 480 | AV16: 7 | AW16: 95 | AX16: 7 | AZ16: 7 | BA16: 375 | BB16: 7 | BC16: 1000 | BD16: 7 | BE16: 1100 | BF16: 7 | BG16: 1000 | BH16: 7
B17: 19 | D17: 19 | E17: 127 | F17: 19 | G17: 89 | H17: 19 | I17: 100 | J17: 19 | K17: 156 | L17: 19 | M17: 358 | N17: 19 | O17: 445 | P17: 19 | Q17: 546 | R17: 19 | S17: 601 | T17: 19 | U17: 671 | V17: 19 | W17: 1211 | X17: 19 | Y17: 2121 | Z17: 19 | AA17: 2591 | AB17: 19 | AC17: 4471 | AD17: 19 | AE17: 6401 | AF17: 19 | AG17: 10401 | AH17: 19 | AI17: 1211 | AJ17: 19 | AK17: 7201 | AL17: 19 | AM17: 13001 | AN17: 19 | AO17: 19301 | AP17: 19 | AQ17: 31301 | AR17: 19
A18: 70 | B18: 19 | C18: 79 | D18: 19 | E18: 128 | F18: 19 | G18: 91 | H18: 19 | I18: 102 | J18: 19 | K18: 160 | L18: 19 | M18: 262 | N18: 19 | O18: 452 | P18: 19 | Q18: 555 | R18: 19 | S18: 610 | T18: 19 | U18: 680 | V18: 19 | W18: 1230 | X18: 19 | Y18: 2150 | Z18: 19 | AA18: 3030 | AB18: 19 | AC18: 4520 | AD18: 19 | AE18: 6500 | AF18: 19 | AG18: 11000 | AH18: 19 | AI18: 1230 | AJ18: 19 | AK18: 7300 | AL18: 19 | AM18: 13200 | AN18: 19 | AO18: 20000 | AP18: 19 | AQ18: 32300 | AR18: 19 | AS18: 260 | AT18: 8 | AU18: 500 | AV18: 8 | AW18: 100 | AX18: 8 | AY18: 130 | AZ18: 8 | BA18: 400 | BB18: 8 | BC18: 1100 | BD18: 8 | BE18: 1200 | BF18: 8 | BG18: 1100 | BH18: 8
B19: 18 | D19: 18 | E19: 129 | F19: 18 | G19: 92 | H19: 18 | I19: 101 | J19: 18 | K19: 161 | L19: 18 | M19: 261 | N19: 18 | O19: 453 | P19: 18 | Q19: 556 | R19: 18 | S19: 611 | T19: 18 | U19: 681 | V19: 18 | W19: 1231 | X19: 18 | Y19: 2151 | Z19: 18 | AA19: 3031 | AB19: 18 | AC19: 4521 | AD19: 18 | AE19: 6501 | AF19: 18 | AG19: 11001 | AH19: 18 | AI19: 1231 | AJ19: 18 | AK19: 7301 | AL19: 18 | AM19: 13201 | AN19: 18 | AO19: 20001 | AP19: 18 | AQ19: 32301 | AR19: 18
A20: 71 | B20: 18 | C20: 80 | D20: 18 | E20: 130 | F20: 18 | G20: 94 | H20: 18 | I20: 105 | J20: 18 | K20: 165 | L20: 18 | M20: 267 | N20: 18 | O20: 460 | P20: 18 | Q20: 565 | R20: 18 | S20: 620 | T20: 18 | U20: 690 | V20: 18 | W20: 1260 | X20: 18 | Y20: 2180 | Z20: 18 | AA20: 3070 | AB20: 18 | AC20: 4570 | AD20: 18 | AE20: 7000 | AF20: 18 | AG20: 11200 | AH20: 18 | AI20: 1260 | AJ20: 18 | AK20: 7450 | AL20: 18 | AM20: 13400 | AN20: 18 | AO20: 20300 | AP20: 18 | AQ20: 33300 | AR20: 18 | AS20: 270 | AT20: 9 | AU20: 520 | AV20: 9 | AW20: 105 | AX20: 9 | AZ20: 9 | BA20: 425 | BB20: 9 | BC20: 1200 | BD20: 9 | BE20: 1300 | BF20: 9 | BG20: 1200 | BH20: 9
B21: 17 | D21: 17 | E21: 131 | F21: 17 | G21: 95 | H21: 17 | I21: 104 | J21: 17 | K21: 166 | L21: 17 | M21: 268 | N21: 17 | O21: 461 | P21: 17 | Q21: 566 | R21: 17 | S21: 621 | T21: 17 | U21: 691 | V21: 17 | W21: 1261 | X21: 17 | Y21: 2181 | Z21: 17 | AA21: 3071 | AB21: 17 | AC21: 4571 | AD21: 17 | AE21: 7001 | AF21: 17 | AG21: 11201 | AH21: 17 | AI21: 1261 | AJ21: 17 | AK21: 7451 | AL21: 17 | AM21: 13401 | AN21: 17 | AO21: 20301 | AP21: 17 | AQ21: 33301 | AR21: 17
A22: 72 | B22: 17 | C22: 81 | D22: 17 | E22: 132 | F22: 17 | G22: 98 | H22: 17 | I22: 109 | J22: 17 | K22: 170 | L22: 17 | M22: 272 | N22: 17 | O22: 468 | P22: 17 | Q22: 580 | R22: 17 | S22: 630 | T22: 17 | U22: 700 | V22: 17 | W22: 1290 | X22: 17 | Y22: 2210 | Z22: 17 | AA22: 3150 | AB22: 17 | AC22: 5060 | AD22: 17 | AE22: 7100 | AF22: 17 | AG22: 11400 | AH22: 17 | AI22: 1290 | AJ22: 17 | AK22: 8000 | AL22: 17 | AM22: 14000 | AN22: 17 | AO22: 21000 | AP22: 17 | AQ22: 34300 | AR22: 17 | AS22: 280 | AT22: 10 | AU22: 550 | AV22: 10 | AW22: 110 | AX22: 10 | AY22: 150 | AZ22: 10 | BA22: 450 | BB22: 10 | BC22: 1300 | BD22: 10 | BE22: 1400 | BF22: 10 | BG22: 1300 | BH22: 10
A23: 73 | B23: 16 | C23: 82 | D23: 16 | E23: 133 | F23: 16 | G23: 99 | H23: 16 | I23: 110 | J23: 16 | K23: 171 | L23: 16 | M23: 273 | N23: 16 | O23: 469 | P23: 16 | Q23: 581 | R23: 16 | S23: 631 | T23: 16 | U23: 701 | V23: 16 | W23: 1291 | X23: 16 | Y23: 2211 | Z23: 16 | AA23: 3151 | AB23: 16 | AC23: 5061 | AD23: 16 | AE23: 7101 | AF23: 16 | AG23: 11401 | AH23: 16 | AI23: 1291 | AJ23: 16 | AK23: 8001 | AL23: 16 | AM23: 14001 | AN23: 16 | AO23: 21001 | AP23: 16 | AQ23: 34301 | AR23: 16
A24: 74 | B24: 16 | C24: 83 | D24: 16 | E24: 134 | F24: 16 | G24: 102 | H24: 16 | I24: 113 | J24: 16 | K24: 175 | L24: 16 | M24: 277 | N24: 16 | O24: 476 | P24: 16 | Q24: 595 | R24: 16 | S24: 640 | T24: 16 | U24: 710 | V24: 16 | W24: 1330 | X24: 16 | Y24: 2260 | Z24: 16 | AA24: 3230 | AB24: 16 | AC24: 5150 | AD24: 16 | AE24: 7250 | AF24: 16 | AG24: 12000 | AH24: 16 | AI24: 1330 | AJ24: 16 | AK24: 8150 | AL24: 16 | AM24: 14200 | AN24: 16 | AO24: 21300 | AP24: 16 | AQ24: 35300 | AR24: 16 | AS24: 290 | AT24: 11 | AU24: 580 | AV24: 11 | AW24: 115 | AX24: 11 | AY24: 170 | AZ24: 11 | BA24: 475 | BB24: 11 | BC24: 1400 | BD24: 11 | BE24: 1500 | BF24: 11 | BG24: 1400 | BH24: 11
A25: 75 | B25: 15 | C25: 84 | D25: 15 | E25: 135 | F25: 15 | G25: 103 | H25: 15 | I25: 114 | J25: 15 | K25: 176 | L25: 15 | M25: 278 | N25: 15 | O25: 477 | P25: 15 | Q25: 596 | R25: 15 | S25: 641 | T25: 15 | U25: 711 | V25: 15 | W25: 1331 | X25: 15 | Y25: 2261 | Z25: 15 | AA25: 3231 | AB25: 15 | AC25: 5151 | AD25: 15 | AE25: 7251 | AF25: 15 | AG25: 12001 | AH25: 15 | AI25: 1331 | AJ25: 15 | AK25: 8151 | AL25: 15 | AM25: 14201 | AN25: 15 | AO25: 21301 | AP25: 15 | AQ25: 35301 | AR25: 15
A26: 76 | B26: 15 | C26: 85 | D26: 15 | E26: 137 | F26: 15 | G26: 106 | H26: 15 | I26: 117 | J26: 15 | K26: 180 | L26: 15 | M26: 282 | N26: 15 | O26: 482 | P26: 15 | Q26: 610 | R26: 15 | S26: 655 | T26: 15 | U26: 740 | V26: 15 | W26: 1370 | X26: 15 | Y26: 2310 | Z26: 15 | AA26: 3310 | AB26: 15 | AC26: 5300 | AD26: 15 | AE26: 7400 | AF26: 15 | AG26: 12200 | AH26: 15 | AI26: 1370 | AJ26: 15 | AK26: 8300 | AL26: 15 | AM26: 14400 | AN26: 15 | AO26: 22000 | AP26: 15 | AQ26: 36300 | AR26: 15 | AS26: 300 | AT26: 12 | AU26: 610 | AV26: 12 | AW26: 120 | AX26: 12 | AY26: 190 | AZ26: 12 | BA26: 500 | BB26: 12 | BC26: 1500 | BD26: 12 | BE26: 1600 | BF26: 12 | BG26: 1500 | BH26: 12
A27: 77 | B27: 14 | C27: 86 | D27: 14 | E27: 138 | F27: 14 | G27: 107 | H27: 14 | I27: 118 | J27: 14 | K27: 181 | L27: 14 | M27: 283 | N27: 14 | O27: 483 | P27: 14 | Q27: 611 | R27: 14 | S27: 656 | T27: 14 | U27: 741 | V27: 14 | W27: 1371 | X27: 14 | Y27: 2311 | Z27: 14 | AA27: 3311 | AB27: 14 | AC27: 5301 | AD27: 14 | AE27: 7401 | AF27: 14 | AG27: 12201 | AH27: 14 | AI27: 1371 | AJ27: 14 | AK27: 8301 | AL27: 14 | AM27: 14401 | AN27: 14 | AO27: 22001 | AP27: 14 | AQ27: 36301 | AR27: 14
A28: 78 | B28: 14 | C28: 87 | D28: 14 | E28: 140 | F28: 14 | G28: 110 | H28: 14 | I28: 121 | J28: 14 | K28: 185 | L28: 14 | M28: 287 | N28: 14 | O28: 492 | P28: 14 | Q28: 625 | R28: 14 | S28: 670 | T28: 14 | U28: 770 | V28: 14 | W28: 1410 | X28: 14 | Y28: 2360 | Z28: 14 | AA28: 3390 | AB28: 14 | AC28: 5450 | AD28: 14 | AE28: 8000 | AF28: 14 | AG28: 12400 | AH28: 14 | AI28: 1410 | AJ28: 14 | AK28: 8450 | AL28: 14 | AM28: 15000 | AN28: 14 | AO28: 22300 | AP28: 14 | AQ28: 37300 | AR28: 14 | AS28: 310 | AT28: 13 | AU28: 640 | AV28: 13 | AW28: 125 | AX28: 13 | AY28: 200 | AZ28: 13 | BA28: 525 | BB28: 13 | BC28: 1600 | BD28: 13 | BE28: 1700 | BF28: 13 | BG28: 1600 | BH28: 13
A29: 79 | B29: 13 | C29: 88 | D29: 13 | E29: 141 | F29: 13 | G29: 111 | H29: 13 | I29: 212 | J29: 13 | K29: 186 | L29: 13 | M29: 288 | N29: 13 | O29: 493 | P29: 13 | Q29: 626 | R29: 13 | S29: 671 | T29: 13 | U29: 771 | V29: 13 | W29: 1411 | X29: 13 | Y29: 2361 | Z29: 13 | AA29: 3391 | AB29: 13 | AC29: 5451 | AD29: 13 | AE29: 8001 | AF29: 13 | AG29: 12401 | AH29: 13 | AI29: 1411 | AJ29: 13 | AK29: 8451 | AL29: 13 | AM29: 15001 | AN29: 13 | AO29: 22301 | AP29: 13 | AQ29: 37301 | AR29: 13
A30: 80 | B30: 13 | C30: 89 | D30: 13 | E30: 143 | F30: 13 | G30: 114 | H30: 13 | I30: 125 | J30: 13 | K30: 190 | L30: 13 | M30: 292 | N30: 13 | O30: 500 | P30: 13 | Q30: 640 | R30: 13 | S30: 685 | T30: 13 | U30: 800 | V30: 13 | W30: 1450 | X30: 13 | Y30: 2410 | Z30: 13 | AA30: 3470 | AB30: 13 | AC30: 6000 | AD30: 13 | AE30: 8200 | AF30: 13 | AG30: 13000 | AH30: 13 | AI30: 1450 | AJ30: 13 | AK30: 9000 | AL30: 13 | AM30: 15300 | AN30: 13 | AO30: 23000 | AP30: 13 | AQ30: 38300 | AR30: 13 | AS30: 320 | AT30: 14 | AU30: 670 | AV30: 14 | AW30: 130 | AX30: 14 | AY30: 210 | AZ30: 14 | BA30: 550 | BB30: 14 | BC30: 1700 | BD30: 14 | BE30: 1800 | BF30: 14 | BG30: 1700 | BH30: 14
A31: 81 | B31: 12 | C31: 90 | D31: 12 | E31: 144 | F31: 12 | G31: 115 | H31: 12 | I31: 126 | J31: 12 | K31: 191 | L31: 12 | M31: 293 | N31: 12 | O31: 501 | P31: 12 | Q31: 641 | R31: 12 | S31: 686 | T31: 12 | U31: 801 | V31: 12 | W31: 1451 | X31: 12 | Y31: 2411 | Z31: 12 | AA31: 3471 | AB31: 12 | AC31: 6001 | AD31: 12 | AE31: 8201 | AF31: 12 | AG31: 13001 | AH31: 12 | AI31: 1451 | AJ31: 12 | AK31: 9001 | AL31: 12 | AM31: 15301 | AN31: 12 | AO31: 23001 | AP31: 12 | AQ31: 38301 | AR31: 12
A32: 82 | B32: 12 | C32: 91 | D32: 12 | E32: 146 | F32: 12 | G32: 118 | H32: 12 | I32: 129 | J32: 12 | K32: 195 | L32: 12 | M32: 302 | N32: 12 | O32: 510 | P32: 12 | Q32: 655 | R32: 12 | S32: 700 | T32: 12 | U32: 830 | V32: 12 | W32: 1490 | X32: 12 | Y32: 2460 | Z32: 12 | AA32: 3570 | AB32: 12 | AC32: 6150 | AD32: 12 | AE32: 8400 | AF32: 12 | AG32: 13200 | AH32: 12 | AI32: 1490 | AJ32: 12 | AK32: 9200 | AL32: 12 | AM32: 16000 | AN32: 12 | AO32: 23300 | AP32: 12 | AQ32: 39300 | AR32: 12 | AS32: 330 | AT32: 15 | AU32: 700 | AV32: 15 | AW32: 134 | AX32: 15 | AY32: 220 | AZ32: 15 | BA32: 600 | BB32: 15 | BC32: 1800 | BD32: 15 | BE32: 1900 | BF32: 15 | BG32: 1800 | BH32: 15
A33: 83 | B33: 11 | C33: 92 | D33: 11 | E33: 147 | F33: 11 | G33: 119 | H33: 11 | I33: 130 | J33: 11 | K33: 196 | L33: 11 | M33: 303 | N33: 11 | O33: 511 | P33: 11 | Q33: 656 | R33: 11 | S33: 700 | T33: 11 | U33: 831 | V33: 11 | W33: 1491 | X33: 11 | Y33: 2461 | Z33: 11 | AA33: 3571 | AB33: 11 | AC33: 6151 | AD33: 11 | AE33: 8401 | AF33: 11 | AG33: 13201 | AH33: 11 | AI33: 1491 | AJ33: 11 | AK33: 9201 | AL33: 11 | AM33: 16001 | AN33: 11 | AO33: 23301 | AP33: 11 | AQ33: 39301 | AR33: 11
A34: 84 | B34: 11 | C34: 93 | D34: 11 | E34: 150 | F34: 11 | G34: 122 | H34: 11 | I34: 133 | J34: 11 | K34: 200 | L34: 11 | M34: 312 | N34: 11 | O34: 520 | P34: 11 | Q34: 670 | R34: 11 | S34: 720 | T34: 11 | U34: 860 | V34: 11 | W34: 1550 | X34: 11 | Y34: 2560 | Z34: 11 | AA34: 4070 | AB34: 11 | AC34: 6300 | AD34: 11 | AE34: 9000 | AF34: 11 | AG34: 13400 | AH34: 11 | AI34: 1550 | AJ34: 11 | AK34: 9400 | AL34: 11 | AM34: 16300 | AN34: 11 | AO34: 24000 | AP34: 11 | AQ34: 40300 | AR34: 11 | AS34: 350 | AT34: 16 | AU34: 740 | AV34: 16 | AW34: 138 | AX34: 16 | AY34: 230 | AZ34: 16 | BA34: 650 | BB34: 16 | BC34: 1900 | BD34: 16 | BE34: 2000 | BF34: 16 | BG34: 1900 | BH34: 16
A35: 85 | B35: 10 | C35: 94 | D35: 10 | E35: 151 | F35: 10 | G35: 123 | H35: 10 | I35: 134 | J35: 10 | K35: 201 | L35: 10 | M35: 313 | N35: 10 | O35: 521 | P35: 10 | Q35: 671 | R35: 10 | S35: 721 | T35: 10 | U35: 861 | V35: 10 | W35: 1551 | X35: 10 | Y35: 2561 | Z35: 10 | AA35: 4071 | AB35: 10 | AC35: 6301 | AD35: 10 | AE35: 9001 | AF35: 10 | AG35: 13401 | AH35: 10 | AI35: 1551 | AJ35: 10 | AK35: 9401 | AL35: 10 | AM35: 16301 | AN35: 10 | AO35: 24001 | AP35: 10 | AQ35: 40301 | AR35: 10
A36: 87 | B36: 10 | C36: 96 | D36: 10 | E36: 154 | F36: 10 | G36: 126 | H36: 10 | I36: 137 | J36: 10 | K36: 205 | L36: 10 | M36: 322 | N36: 10 | O36: 530 | P36: 10 | Q36: 685 | R36: 10 | S36: 740 | T36: 10 | U36: 890 | V36: 10 | W36: 2000 | X36: 10 | Y36: 3060 | Z36: 10 | AA36: 4170 | AB36: 10 | AC36: 6450 | AD36: 10 | AE36: 9200 | AF36: 10 | AG36: 14000 | AH36: 10 | AI36: 2000 | AJ36: 10 | AK36: 10000 | AL36: 10 | AM36: 17000 | AN36: 10 | AO36: 24300 | AP36: 10 | AQ36: 41300 | AR36: 10 | AS36: 370 | AT36: 17 | AU36: 780 | AV36: 17 | AW36: 142 | AX36: 17 | AY36: 240 | AZ36: 17 | BA36: 700 | BB36: 17 | BC36: 2000 | BD36: 17 | BE36: 2200 | BF36: 17 | BG36: 2000 | BH36: 17
A37: 88 | B37: 9 | C37: 97 | D37: 9 | E37: 155 | F37: 9 | G37: 127 | H37: 9 | I37: 138 | J37: 9 | K37: 206 | L37: 9 | M37: 323 | N37: 9 | O37: 531 | P37: 9 | Q37: 686 | R37: 9 | S37: 741 | T37: 9 | U37: 891 | V37: 9 | W37: 2001 | X37: 9 | Y37: 3060 | Z37: 9 | AA37: 4171 | AB37: 9 | AC37: 6451 | AD37: 9 | AE37: 9201 | AF37: 9 | AG37: 14001 | AH37: 9 | AI37: 2001 | AJ37: 9 | AK37: 10001 | AL37: 9 | AM37: 17001 | AN37: 9 | AO37: 24301 | AP37: 9 | AQ37: 41301 | AR37: 9
A38: 90 | B38: 9 | C38: 99 | D38: 9 | E38: 158 | F38: 9 | G38: 130 | H38: 9 | I38: 141 | J38: 9 | K38: 210 | L38: 9 | M38: 332 | N38: 9 | O38: 540 | P38: 9 | Q38: 705 | R38: 9 | S38: 760 | T38: 9 | U38: 920 | V38: 9 | W38: 2050 | X38: 9 | Y38: 3160 | Z38: 9 | AA38: 4270 | AB38: 9 | AC38: 7000 | AD38: 9 | AE38: 9400 | AF38: 9 | AG38: 14200 | AH38: 9 | AI38: 2050 | AJ38: 9 | AK38: 10200 | AL38: 9 | AM38: 17300 | AN38: 9 | AO38: 25000 | AP38: 9 | AQ38: 42300 | AR38: 9 | AS38: 390 | AT38: 18 | AU38: 820 | AV38: 18 | AW38: 146 | AX38: 18 | AY38: 260 | AZ38: 18 | BA38: 800 | BB38: 18 | BC38: 2200 | BD38: 18 | BE38: 2400 | BF38: 18 | BG38: 2200 | BH38: 18
A39: 91 | B39: 8 | C39: 100 | D39: 8 | E39: 159 | F39: 8 | G39: 131 | H39: 8 | I39: 142 | J39: 8 | K39: 211 | L39: 8 | M39: 333 | N39: 8 | O39: 541 | P39: 8 | Q39: 706 | R39: 8 | S39: 761 | T39: 8 | U39: 921 | V39: 8 | W39: 1051 | X39: 8 | Y39: 3160 | Z39: 8 | AA39: 4271 | AB39: 8 | AC39: 7001 | AD39: 8 | AE39: 9401 | AF39: 8 | AG39: 14201 | AH39: 8 | AI39: 2051 | AJ39: 8 | AK39: 10201 | AL39: 8 | AM39: 17301 | AN39: 8 | AO39: 25001 | AP39: 8 | AQ39: 42301 | AR39: 8
A40: 93 | B40: 8 | C40: 102 | D40: 8 | E40: 162 | F40: 8 | G40: 134 | H40: 8 | I40: 145 | J40: 8 | K40: 215 | L40: 8 | M40: 342 | N40: 8 | O40: 550 | P40: 8 | Q40: 725 | R40: 8 | S40: 780 | T40: 8 | U40: 950 | V40: 8 | W40: 2100 | X40: 8 | Y40: 3260 | Z40: 8 | AA40: 4370 | AB40: 8 | AC40: 7150 | AD40: 8 | AE40: 10000 | AF40: 8 | AG40: 15000 | AH40: 8 | AI40: 2100 | AJ40: 8 | AK40: 10400 | AL40: 8 | AM40: 18000 | AN40: 8 | AO40: 25300 | AP40: 8 | AQ40: 43300 | AR40: 8 | AS40: 420 | AT40: 19 | AU40: 880 | AV40: 19 | AW40: 150 | AX40: 19 | AY40: 280 | AZ40: 19 | BA40: 900 | BB40: 19 | BC40: 2400 | BD40: 19 | BE40: 2600 | BF40: 19 | BG40: 2400 | BH40: 19
A41: 94 | B41: 7 | C41: 103 | D41: 7 | E41: 163 | F41: 7 | G41: 135 | H41: 7 | I41: 146 | J41: 7 | K41: 216 | L41: 7 | M41: 343 | N41: 7 | O41: 551 | P41: 7 | Q41: 726 | R41: 7 | S41: 781 | T41: 7 | U41: 951 | V41: 7 | W41: 2101 | X41: 7 | Y41: 3261 | Z41: 7 | AA41: 4371 | AB41: 7 | AC41: 7151 | AD41: 7 | AE41: 10001 | AF41: 7 | AG41: 15001 | AH41: 7 | AI41: 2101 | AJ41: 7 | AK41: 10401 | AL41: 7 | AM41: 18001 | AN41: 7 | AO41: 25301 | AP41: 7 | AQ41: 43301 | AR41: 7
A42: 97 | B42: 7 | C42: 106 | D42: 7 | E42: 166 | F42: 7 | G42: 138 | H42: 7 | I42: 149 | J42: 7 | K42: 220 | L42: 7 | M42: 352 | N42: 7 | O42: 560 | P42: 7 | Q42: 745 | R42: 7 | S42: 800 | T42: 7 | U42: 980 | V42: 7 | W42: 2150 | X42: 7 | Y42: 3360 | Z42: 7 | AA42: 4470 | AB42: 7 | AC42: 7300 | AD42: 7 | AE42: 10200 | AF42: 7 | AG42: 15300 | AH42: 7 | AI42: 2150 | AJ42: 7 | AK42: 11000 | AL42: 7 | AM42: 18300 | AN42: 7 | AO42: 26000 | AP42: 7 | AQ42: 44300 | AR42: 7 | AS42: 450 | AT42: 20 | AU42: 940 | AV42: 20 | AW42: 154 | AX42: 20 | AY42: 300 | AZ42: 20 | BA42: 1000 | BB42: 20 | BC42: 2600 | BD42: 20 | BE42: 2800 | BF42: 20 | BG42: 2600 | BH42: 20
A43: 98 | B43: 6 | C43: 107 | D43: 6 | E43: 167 | F43: 6 | G43: 139 | H43: 6 | I43: 150 | J43: 6 | K43: 221 | L43: 6 | M43: 353 | N43: 6 | O43: 561 | P43: 6 | Q43: 746 | R43: 6 | S43: 801 | T43: 6 | U43: 981 | V43: 6 | W43: 2151 | X43: 6 | Y43: 3361 | Z43: 6 | AA43: 4471 | AB43: 6 | AC43: 7301 | AD43: 6 | AE43: 10201 | AF43: 6 | AG43: 15301 | AH43: 6 | AI43: 2151 | AJ43: 6 | AK43: 11001 | AL43: 6 | AM43: 18301 | AN43: 6 | AO43: 26001 | AP43: 6 | AQ43: 44301 | AR43: 6
A44: 101 | B44: 6 | C44: 110 | D44: 6 | E44: 170 | F44: 6 | G44: 142 | H44: 6 | I44: 153 | J44: 6 | K44: 225 | L44: 6 | M44: 362 | N44: 6 | O44: 570 | P44: 6 | Q44: 765 | R44: 6 | S44: 820 | T44: 6 | U44: 1010 | V44: 6 | W44: 2200 | X44: 6 | Y44: 3510 | Z44: 6 | AA44: 5020 | AB44: 6 | AC44: 7450 | AD44: 6 | AE44: 10500 | AF44: 6 | AG44: 16000 | AH44: 6 | AI44: 2200 | AJ44: 6 | AK44: 11200 | AL44: 6 | AM44: 19000 | AN44: 6 | AO44: 26300 | AP44: 6 | AQ44: 45300 | AR44: 6 | AS44: 480 | AT44: 21 | AU44: 1020 | AV44: 21 | AW44: 158 | AX44: 21 | AY44: 320 | AZ44: 21 | BA44: 1100 | BB44: 21 | BC44: 2800 | BD44: 21 | BE44: 3000 | BF44: 21 | BG44: 2800 | BH44: 21
A45: 102 | B45: 5 | C45: 111 | D45: 5 | E45: 171 | F45: 5 | G45: 143 | H45: 5 | I45: 154 | J45: 5 | K45: 226 | L45: 5 | M45: 363 | N45: 5 | O45: 571 | P45: 5 | Q45: 766 | R45: 5 | S45: 821 | T45: 5 | U45: 1011 | V45: 5 | W45: 2201 | X45: 5 | Y45: 3511 | Z45: 5 | AA45: 5021 | AB45: 5 | AC45: 7451 | AD45: 5 | AE45: 10501 | AF45: 5 | AG45: 16001 | AH45: 5 | AI45: 2201 | AJ45: 5 | AK45: 11201 | AL45: 5 | AM45: 19001 | AN45: 5 | AO45: 26301 | AP45: 5 | AQ45: 45301 | AR45: 5
A46: 105 | B46: 5 | C46: 114 | D46: 5 | E46: 175 | F46: 5 | G46: 146 | H46: 5 | I46: 157 | J46: 5 | K46: 230 | L46: 5 | M46: 372 | N46: 5 | O46: 580 | P46: 5 | Q46: 795 | R46: 5 | S46: 840 | T46: 5 | U46: 1040 | V46: 5 | W46: 2250 | X46: 5 | Y46: 4060 | Z46: 5 | AA46: 5170 | AB46: 5 | AC46: 8000 | AD46: 5 | AE46: 11200 | AF46: 5 | AG46: 16300 | AH46: 5 | AI46: 2250 | AJ46: 5 | AK46: 11400 | AL46: 5 | AM46: 19300 | AN46: 5 | AO46: 27000 | AP46: 5 | AQ46: 46300 | AR46: 5 | AS46: 520 | AT46: 22 | AU46: 1100 | AV46: 22 | AW46: 162 | AX46: 22 | AY46: 340 | AZ46: 22 | BA46: 1200 | BB46: 22 | BC46: 3000 | BD46: 22 | BE46: 3200 | BF46: 22 | BG46: 3000 | BH46: 22
A47: 106 | B47: 4 | C47: 115 | D47: 4 | E47: 176 | F47: 4 | G47: 147 | H47: 4 | I47: 158 | J47: 4 | K47: 231 | L47: 4 | M47: 373 | N47: 4 | O47: 501 | P47: 4 | Q47: 796 | R47: 4 | S47: 841 | T47: 4 | U47: 1041 | V47: 4 | W47: 2251 | X47: 4 | Y47: 4061 | Z47: 4 | AA47: 5171 | AB47: 4 | AC47: 8001 | AD47: 4 | AE47: 11201 | AF47: 4 | AG47: 16301 | AH47: 4 | AI47: 2251 | AJ47: 4 | AK47: 11401 | AL47: 4 | AM47: 19301 | AN47: 4 | AO47: 27001 | AP47: 4 | AQ47: 46301 | AR47: 4
A48: 109 | B48: 4 | C48: 118 | D48: 4 | E48: 180 | F48: 4 | G48: 150 | H48: 4 | I48: 161 | J48: 4 | K48: 235 | L48: 4 | M48: 382 | N48: 4 | O48: 590 | P48: 4 | Q48: 825 | R48: 4 | S48: 860 | T48: 4 | U48: 1070 | V48: 4 | W48: 2300 | X48: 4 | Y48: 4210 | Z48: 4 | AA48: 5320 | AB48: 4 | AC48: 8150 | AD48: 4 | AE48: 11500 | AF48: 4 | AG48: 17000 | AH48: 4 | AI48: 2300 | AJ48: 4 | AK48: 12000 | AL48: 4 | AM48: 20000 | AN48: 4 | AO48: 27300 | AP48: 4 | AQ48: 47300 | AR48: 4 | AS48: 570 | AT48: 23 | AU48: 1200 | AV48: 23 | AW48: 174 | AX48: 23 | AY48: 360 | AZ48: 23 | BA48: 1400 | BB48: 23 | BC48: 3500 | BD48: 23 | BE48: 3500 | BF48: 23 | BG48: 3500 | BH48: 23
A49: 110 | B49: 3 | C49: 119 | D49: 3 | E49: 181 | F49: 3 | G49: 151 | H49: 3 | I49: 162 | J49: 3 | K49: 236 | L49: 3 | M49: 383 | N49: 3 | O49: 591 | P49: 3 | Q49: 826 | R49: 3 | S49: 861 | T49: 3 | U49: 1071 | V49: 3 | W49: 2301 | X49: 3 | Y49: 4211 | Z49: 3 | AA49: 5321 | AB49: 3 | AC49: 8151 | AD49: 3 | AE49: 11501 | AF49: 3 | AG49: 17001 | AH49: 3 | AI49: 2301 | AJ49: 3 | AK49: 12001 | AL49: 3 | AM49: 20001 | AN49: 3 | AO49: 27301 | AP49: 3 | AQ49: 47301 | AR49: 3
A50: 113 | B50: 3 | C50: 122 | D50: 3 | E50: 185 | F50: 3 | G50: 154 | H50: 3 | I50: 165 | J50: 3 | K50: 240 | L50: 3 | M50: 392 | N50: 3 | O50: 600 | P50: 3 | Q50: 855 | R50: 3 | S50: 880 | T50: 3 | U50: 1100 | V50: 3 | W50: 2350 | X50: 3 | Y50: 4360 | Z50: 3 | AA50: 5470 | AB50: 3 | AC50: 8300 | AD50: 3 | AE50: 12200 | AF50: 3 | AG50: 17300 | AH50: 3 | AI50: 2350 | AJ50: 3 | AK50: 12200 | AL50: 3 | AM50: 20300 | AN50: 3 | AO50: 28000 | AP50: 3 | AQ50: 48300 | AR50: 3 | AS50: 620 | AT50: 24 | AU50: 1300 | AV50: 24 | AW50: 182 | AX50: 24 | AY50: 390 | AZ50: 24 | BA50: 1600 | BB50: 24 | BC50: 4000 | BD50: 24 | BE50: 4500 | BF50: 24 | BG50: 4000 | BH50: 24
A51: 112 | B51: 2 | C51: 123 | D51: 2 | E51: 186 | F51: 2 | G51: 155 | H51: 2 | I51: 166 | J51: 2 | K51: 241 | L51: 2 | M51: 393 | N51: 2 | O51: 601 | P51: 2 | Q51: 856 | R51: 2 | S51: 881 | T51: 2 | U51: 1101 | V51: 2 | W51: 2351 | X51: 2 | Y51: 4361 | Z51: 2 | AA51: 5471 | AB51: 2 | AC51: 8301 | AD51: 2 | AE51: 12201 | AF51: 2 | AG51: 17301 | AH51: 2 | AI51: 2351 | AJ51: 2 | AK51: 12201 | AL51: 2 | AM51: 20301 | AN51: 2 | AO51: 28001 | AP51: 2 | AQ51: 48301 | AR51: 2
A52: 117 | B52: 2 | C52: 126 | D52: 2 | E52: 190 | F52: 2 | G52: 158 | H52: 2 | I52: 169 | J52: 2 | K52: 245 | L52: 2 | M52: 402 | N52: 2 | O52: 610 | P52: 2 | Q52: 885 | R52: 2 | S52: 900 | T52: 2 | U52: 1130 | V52: 2 | W52: 2400 | X52: 2 | Y52: 4510 | Z52: 2 | AA52: 6020 | AB52: 2 | AC52: 8450 | AD52: 2 | AE52: 12500 | AF52: 2 | AG52: 18000 | AH52: 2 | AI52: 2400 | AJ52: 2 | AK52: 12400 | AL52: 2 | AM52: 21000 | AN52: 2 | AO52: 28300 | AP52: 2 | AQ52: 49300 | AR52: 2 | AS52: 680 | AT52: 25 | AU52: 1400 | AV52: 25 | AW52: 200 | AX52: 25 | AY52: 420 | AZ52: 25 | BA52: 1800 | BB52: 25 | BC52: 5000 | BD52: 25 | BE52: 5500 | BF52: 25 | BG52: 5000 | BH52: 25
A53: 118 | B53: 1 | C53: 127 | D53: 1 | E53: 191 | F53: 1 | G53: 159 | H53: 1 | I53: 170 | J53: 1 | K53: 246 | L53: 1 | M53: 403 | N53: 1 | O53: 611 | P53: 1 | Q53: 886 | R53: 1 | S53: 901 | T53: 1 | U53: 1131 | V53: 1 | W53: 2401 | X53: 1 | Y53: 4511 | Z53: 1 | AA53: 6021 | AB53: 1 | AC53: 8451 | AD53: 1 | AE53: 12501 | AF53: 1 | AG53: 18001 | AH53: 1 | AI53: 2401 | AJ53: 1 | AK53: 12401 | AL53: 1 | AM53: 21001 | AN53: 1 | AO53: 28301 | AP53: 1 | AQ53: 49301 | AR53: 1 | AS53: NC | AT53: 0 | AU53: NC | AV53: 0 | AW53: NC | AX53: 0 | AY53: NC | AZ53: 0 | BA53: NC | BB53: 0 | BC53: NC | BD53: 0 | BE53: NC | BF53: 0 | BG53: NC | BH53: 0
A54: AB | B54: 0 | C54: AB | D54: 0 | E54: AB | F54: 0 | G54: AB | H54: 0 | I54: AB | J54: 0 | K54: AB | L54: 0 | M54: AB | N54: 0 | O54: AB | P54: 0 | Q54: AB | R54: 0 | S54: AB | T54: 0 | U54: AB | V54: 0 | W54: AB | X54: 0 | Y54: AB | Z54: 0 | AA54: AB | AB54: 0 | AC54: AB | AD54: 0 | AE54: AB | AF54: 0 | AG54: AB | AH54: 0 | AI54: AB | AJ54: 0 | AK54: AB | AL54: 0 | AM54: AB | AN54: 0 | AO54: AB | AP54: 0 | AQ54: AB | AR54: 0 | AS54: AB | AT54: 0 | AU54: AB | AV54: 0 | AW54: AB | AX54: 0 | AY54: AB | AZ54: 0 | BA54: AB | BB54: 0 | BC54: AB | BD54: 0 | BE54: AB | BF54: 0 | BG54: AB | BH54: 0
A55: NC | B55: 0 | C55: NC | D55: 0 | E55: NC | F55: 0 | G55: NC | H55: 0 | I55: NC | J55: 0 | K55: NC | L55: 0 | M55: NC | N55: 0 | O55: NC | P55: 0 | Q55: NC | R55: 0 | S55: NC | T55: 0 | U55: NC | V55: 0 | W55: NC | X55: 0 | Y55: NC | Z55: 0 | AA55: NC | AB55: 0 | AC55: NC | AD55: 0 | AE55: NC | AF55: 0 | AG55: NC | AH55: 0 | AI55: NC | AJ55: 0 | AK55: NC | AL55: 0 | AM55: NC | AN55: 0 | AO55: NC | AP55: 0 | AQ55: NC | AR55: 0 | AS55: NC | AT55: 0 | AU55: NC | AV55: 0 | AW55: NC | AX55: 0 | AY55: NC | AZ55: 0 | BA55: NC | BB55: 0 | BC55: NC | BD55: 0 | BE55: NC | BF55: 0 | BG55: NC | BH55: 0
A56: NP | B56: 0 | C56: NP | D56: 0 | E56: NP | F56: 0 | G56: NP | H56: 0 | I56: NP | J56: 0 | K56: NP | L56: 0 | M56: NP | N56: 0 | O56: NP | P56: 0 | Q56: NP | R56: 0 | S56: NP | T56: 0 | U56: NP | V56: 0 | W56: NP | X56: 0 | Y56: NP | Z56: 0 | AA56: NP | AB56: 0 | AC56: NP | AD56: 0 | AE56: NP | AF56: 0 | AG56: NP | AH56: 0 | AI56: NP | AJ56: 0 | AK56: NP | AL56: 0 | AM56: NP | AN56: 0 | AO56: NP | AP56: 0 | AQ56: NP | AR56: 0 | AS56: NP | AT56: 0 | AU56: NP | AV56: 0 | AW56: NP | AX56: 0 | AY56: NP | AZ56: 0 | BA56: NP | BB56: 0 | BC56: NP | BD56: 0 | BE56: NP | BF56: 0 | BG56: NP | BH56: 0
A57: 50 m | B57: PTS | C57: 60 m | D57: PTS | E57: 100 m | F57: PTS | G57: 50 m H. | H57: PTS | I57: 60 m H. | J57: PTS | K57: 100 m H. | L57: PTS | M57: 120 m | N57: PTS | O57: 300 m | P57: PTS | Q57: 320 m H | R57: PTS | S57: 400 m | T57: PTS | U57: 400 m H | V57: PTS | W57: 500 m | X57: PTS | Y57: 1000 m | Z57: PTS | AA57: 1000 m | AB57: PTS | AC57: 1500 m | AD57: PTS | AE57: 2000 m | AF57: PTS | AG57: 3000 m | AH57: PTS | AI57: 5000 m | AJ57: PTS | AK57: 1500 steeple | AL57: PTS | AM57: 3000 steeple | AN57: PTS | AO57: 3 km marche | AP57: PTS | AQ57: 3 km marche | AR57: PTS | AS57: LONGUEUR | AT57: PTS | AU57: T.S. | AV57: PTS | AW57: HAUTEUR | AX57: PTS | AY57: PERCHE | AZ57: PTS | BA57: POIDS | BB57: PTS | BC57: DISQUE | BD57: PTS | BE57: JAVELOT | BF57: PTS | BG57: Marteau | BH57: PTS

Sheet Table Hommes
A1: 50 m | B1: PTS | C1: 60 m | D1: PTS | E1: 100 m | F1: PTS | G1: 50 m H. | H1: PTS | I1: 60 m H. | J1: PTS | K1: 110 m H. | L1: PTS | M1: 200 m | N1: PTS | O1: 300 m | P1: PTS | Q1: 320 m H | R1: PTS | S1: 400 m | T1: PTS | U1: 400 m H | V1: PTS | W1: 500 m | X1: PTS | Y1: 800 m | Z1: PTS | AA1: 1000 m | AB1: PTS | AC1: 1500 m | AD1: PTS | AE1: 2000 m | AF1: PTS | AG1: 3000 m | AH1: PTS | AI1: 5000 m | AJ1: PTS | AK1: 1500 steeple | AL1: PTS | AM1: 3000 steeple | AN1: PTS | AO1: 3 km marche | AP1: PTS | AQ1: 5 km marche | AR1: PTS | AS1: LONGUEUR | AT1: PTS | AU1: T.S. | AV1: PTS | AW1: HAUTEUR | AX1: PTS | AY1: PERCHE | AZ1: PTS | BA1: POIDS | BB1: PTS | BC1: DISQUE | BD1: PTS | BE1: JAVELOT | BF1: PTS | BG1: MARTEAU | BH1: PTS
A2: NP | B2: 0 | C2: NP | D2: 0 | E2: NP | F2: 0 | G2: NP | H2: 0 | I2: NP | J2: 0 | K2: NP | L2: 0 | M2: NP | N2: 0 | O2: NP | P2: 0 | Q2: NP | R2: 0 | S2: NP | T2: 0 | U2: NP | V2: 0 | W2: NP | X2: 0 | Y2: NP | Z2: 0 | AA2: NP | AB2: 0 | AC2: NP | AD2: 0 | AE2: NP | AF2: 0 | AG2: NP | AH2: 0 | AI2: NP | AJ2: 0 | AK2: NP | AL2: 0 | AM2: NP | AN2: 0 | AO2: NP | AP2: 0 | AQ2: NP | AR2: 0 | AS2: NP | AT2: 0 | AU2: NP | AV2: 0 | AW2: NP | AX2: 0 | AY2: NP | AZ2: 0 | BA2: NP | BB2: 0 | BC2: NP | BD2: 0 | BE2: NP | BF2: 0 | BG2: NP | BH2: 0
A3: NC | B3: 0 | C3: NC | D3: 0 | E3: NC | F3: 0 | G3: NC | H3: 0 | I3: NC | J3: 0 | K3: NC | L3: 0 | M3: NC | N3: 0 | O3: NC | P3: 0 | Q3: NC | R3: 0 | S3: NC | T3: 0 | U3: NC | V3: 0 | W3: NC | X3: 0 | Y3: NC | Z3: 0 | AA3: NC | AB3: 0 | AC3: NC | AD3: 0 | AE3: NC | AF3: 0 | AG3: NC | AH3: 0 | AI3: NC | AJ3: 0 | AK3: NC | AL3: 0 | AM3: NC | AN3: 0 | AO3: NC | AP3: 0 | AQ3: NC | AR3: 0 | AS3: NC | AT3: 0 | AU3: NC | AV3: 0 | AW3: NC | AX3: 0 | AY3: NC | AZ3: 0 | BA3: NC | BB3: 0 | BC3: NC | BD3: 0 | BE3: NC | BF3: 0 | BG3: NC | BH3: 0
A4: AB | B4: 0 | C4: AB | D4: 0 | E4: AB | F4: 0 | G4: AB | H4: 0 | I4: AB | J4: 0 | K4: AB | L4: 0 | M4: AB | N4: 0 | O4: AB | P4: 0 | Q4: AB | R4: 0 | S4: AB | T4: 0 | U4: AB | V4: 0 | W4: AB | X4: 0 | Y4: AB | Z4: 0 | AA4: AB | AB4: 0 | AC4: AB | AD4: 0 | AE4: AB | AF4: 0 | AG4: AB | AH4: 0 | AI4: AB | AJ4: 0 | AK4: AB | AL4: 0 | AM4: AB | AN4: 0 | AO4: AB | AP4: 0 | AQ4: AB | AR4: 0 | AS4: AB | AT4: 0 | AU4: AB | AV4: 0 | AW4: AB | AX4: 0 | AY4: AB | AZ4: 0 | BA4: AB | BB4: 0 | BC4: AB | BD4: 0 | BE4: AB | BF4: 0 | BG4: AB | BH4: 0
A5: 0 | B5: 25 | C5: 0 | D5: 25 | E5: 0 | F5: 25 | G5: 0 | H5: 25 | I5: 0 | J5: 15 | K5: 0 | L5: 25 | M5: 0 | N5: 25 | O5: 0 | P5: 25 | Q5: 0 | R5: 25 | S5: 0 | T5: 25 | U5: 0 | V5: 25 | W5: 0 | X5: 25 | Y5: 0 | Z5: 25 | AA5: 0 | AB5: 25 | AC5: 0 | AD5: 25 | AE5: 0 | AF5: 25 | AG5: 0 | AH5: 25 | AI5: 0 | AJ5: 25 | AK5: 0 | AL5: 25 | AM5: 0 | AN5: 25 | AO5: 0 | AP5: 25 | AQ5: 0 | AR5: 25 | AS5: 0 | AT5: 1 | AU5: 0 | AV5: 1 | AW5: 0 | AX5: 1 | AY5: 0 | AZ5: 1 | BA5: 0 | BB5: 1 | BC5: 0 | BD5: 1 | BE5: 0 | BF5: 1 | BG5: 0 | BH5: 1
A6: 56 | B6: 25 | C6: 65 | D6: 25 | E6: 102 | F6: 25 | G6: 66 | H6: 25 | I6: 77 | J6: 25 | K6: 133 | L6: 25 | M6: 210 | N6: 25 | O6: 340 | P6: 25 | Q6: 390 | R6: 25 | S6: 470 | T6: 25 | U6: 520 | V6: 25 | W6: 1020 | X6: 25 | Y6: 1480 | Z6: 25 | AA6: 2200 | AB6: 25 | AC6: 3400 | AD6: 25 | AE6: 5000 | AF6: 25 | AG6: 8100 | AH6: 25 | AI6: 14000 | AJ6: 25 | AK6: 4200 | AL6: 25 | AM6: 9000 | AN6: 25 | AO6: 12000 | AP6: 25 | AQ6: 20000 | AR6: 25 | AS6: 200 | AT6: 2 | AU6: 550 | AV6: 2 | AW6: 80 | AX6: 2 | AY6: 100 | AZ6: 2 | BA6: 325 | BB6: 2 | BC6: 1000 | BD6: 2 | BE6: 1300 | BF6: 2 | BG6: 1200 | BH6: 2
A7: 57 | B7: 24 | C7: 66 | D7: 24 | E7: 103 | F7: 24 | G7: 67 | H7: 24 | I7: 78 | J7: 24 | K7: 134 | L7: 24 | M7: 211 | N7: 24 | O7: 341 | P7: 24 | Q7: 391 | R7: 24 | S7: 471 | T7: 24 | U7: 521 | V7: 24 | W7: 1021 | X7: 24 | Y7: 1481 | Z7: 24 | AA7: 2201 | AB7: 24 | AC7: 3401 | AD7: 24 | AE7: 5001 | AF7: 24 | AG7: 8101 | AH7: 24 | AI7: 14001 | AJ7: 24 | AK7: 4201 | AL7: 24 | AM7: 9001 | AN7: 24 | AO7: 12001 | AP7: 24 | AQ7: 20001 | AR7: 24
A8: 58 | B8: 24 | C8: 67 | D8: 24 | E8: 105 | F8: 24 | G8: 69 | H8: 24 | I8: 80 | J8: 24 | K8: 137 | L8: 24 | M8: 215 | N8: 24 | O8: 350 | P8: 24 | Q8: 410 | R8: 24 | S8: 490 | T8: 24 | U8: 535 | V8: 24 | W8: 1050 | X8: 24 | Y8: 1520 | Z8: 24 | AA8: 2250 | AB8: 24 | AC8: 3500 | AD8: 24 | AE8: 5100 | AF8: 24 | AG8: 8250 | AH8: 24 | AI8: 14300 | AJ8: 24 | AK8: 4300 | AL8: 24 | AM8: 9200 | AN8: 24 | AO8: 13000 | AP8: 24 | AQ8: 22000 | AR8: 24 | AS8: 220 | AT8: 3 | AU8: 600 | AV8: 3 | AW8: 85 | AX8: 3 | AY8: 120 | AZ8: 3 | BA8: 350 | BB8: 3 | BC8: 1100 | BD8: 3 | BE8: 1400 | BF8: 3 | BG8: 1300 | BH8: 3
B9: 23 | D9: 23 | E9: 106 | F9: 23 | G9: 70 | H9: 23 | I9: 81 | J9: 23 | K9: 138 | L9: 23 | M9: 216 | N9: 23 | O9: 351 | P9: 23 | Q9: 411 | R9: 23 | S9: 491 | T9: 23 | U9: 536 | V9: 23 | W9: 1051 | X9: 23 | Y9: 1521 | Z9: 23 | AA9: 2251 | AB9: 23 | AC9: 3501 | AD9: 23 | AE9: 5101 | AF9: 23 | AG9: 8251 | AH9: 23 | AI9: 14301 | AJ9: 23 | AK9: 4301 | AL9: 23 | AM9: 9201 | AN9: 23 | AO9: 13001 | AP9: 23 | AQ9: 22001 | AR9: 23
A10: 59 | B10: 23 | C10: 68 | D10: 23 | E10: 108 | F10: 23 | G10: 72 | H10: 23 | I10: 83 | J10: 23 | K10: 141 | L10: 23 | M10: 220 | N10: 23 | O10: 360 | P10: 23 | Q10: 425 | R10: 23 | S10: 500 | T10: 23 | U10: 550 | V10: 23 | W10: 1080 | X10: 23 | Y10: 1560 | Z10: 23 | AA10: 2300 | AB10: 23 | AC10: 4000 | AD10: 23 | AE10: 5200 | AF10: 23 | AG10: 8400 | AH10: 23 | AI10: 15000 | AJ10: 23 | AK10: 4400 | AL10: 23 | AM10: 9400 | AN10: 23 | AO10: 14000 | AP10: 23 | AQ10: 24000 | AR10: 23 | AS10: 240 | AT10: 4 | AU10: 640 | AV10: 4 | AW10: 90 | AX10: 4 | AY10: 130 | AZ10: 4 | BA10: 375 | BB10: 4 | BC10: 1200 | BD10: 4 | BE10: 1500 | BF10: 4 | BG10: 1400 | BH10: 4
B11: 22 | D11: 22 | E11: 109 | F11: 22 | G11: 73 | H11: 22 | I11: 84 | J11: 22 | K11: 142 | L11: 22 | M11: 221 | N11: 22 | O11: 361 | P11: 22 | Q11: 426 | R11: 22 | S11: 501 | T11: 22 | U11: 551 | V11: 22 | W11: 1081 | X11: 22 | Y11: 1561 | Z11: 22 | AA11: 2301 | AB11: 22 | AC11: 4001 | AD11: 22 | AE11: 5201 | AF11: 22 | AG11: 8401 | AH11: 22 | AI11: 15001 | AJ11: 22 | AK11: 4401 | AL11: 22 | AM11: 9401 | AN11: 22 | AO11: 14001 | AP11: 22 | AQ11: 24001 | AR11: 22
A12: 60 | B12: 22 | C12: 69 | D12: 22 | E12: 110 | F12: 22 | G12: 75 | H12: 22 | I12: 86 | J12: 22 | K12: 145 | L12: 22 | M12: 224 | N12: 22 | O12: 370 | P12: 22 | Q12: 440 | R12: 22 | S12: 510 | T12: 22 | U12: 575 | V12: 22 | W12: 1100 | X12: 22 | Y12: 2000 | Z12: 22 | AA12: 2330 | AB12: 22 | AC12: 4050 | AD12: 22 | AE12: 5300 | AF12: 22 | AG12: 8550 | AH12: 22 | AI12: 15300 | AJ12: 22 | AK12: 4500 | AL12: 22 | AM12: 10000 | AN12: 22 | AO12: 15000 | AP12: 22 | AQ12: 26000 | AR12: 22 | AS12: 260 | AT12: 5 | AU12: 670 | AV12: 5 | AW12: 95 | AX12: 5 | AY12: 140 | AZ12: 5 | BA12: 400 | BB12: 5 | BC12: 1300 | BD12: 5 | BE12: 1600 | BF12: 5 | BG12: 1500 | BH12: 5
B13: 21 | D13: 21 | E13: 111 | F13: 21 | G13: 76 | H13: 21 | I13: 87 | J13: 21 | K13: 146 | L13: 21 | M13: 225 | N13: 21 | O13: 371 | P13: 21 | Q13: 441 | R13: 21 | S13: 511 | T13: 21 | U13: 576 | V13: 21 | W13: 1101 | X13: 21 | Y13: 2001 | Z13: 21 | AA13: 2331 | AB13: 21 | AC13: 4051 | AD13: 21 | AE13: 5301 | AF13: 21 | AG13: 8551 | AH13: 21 | AI13: 15301 | AJ13: 21 | AK13: 4501 | AL13: 21 | AM13: 10001 | AN13: 21 | AO13: 15001 | AP13: 21 | AQ13: 26001 | AR13: 21
A14: 61 | B14: 21 | C14: 70 | D14: 21 | E14: 112 | F14: 21 | G14: 78 | H14: 21 | I14: 89 | J14: 21 | K14: 150 | L14: 21 | M14: 228 | N14: 21 | O14: 380 | P14: 21 | Q14: 455 | R14: 21 | S14: 520 | T14: 21 | U14: 590 | V14: 21 | W14: 1120 | X14: 21 | Y14: 2020 | Z14: 21 | AA14: 2360 | AB14: 21 | AC14: 4100 | AD14: 21 | AE14: 5400 | AF14: 21 | AG14: 9100 | AH14: 21 | AI14: 16000 | AJ14: 21 | AK14: 5000 | AL14: 21 | AM14: 10200 | AN14: 21 | AO14: 16000 | AP14: 21 | AQ14: 27000 | AR14: 21 | AS14: 280 | AT14: 6 | AU14: 700 | AV14: 6 | AW14: 100 | AX14: 6 | AY14: 150 | AZ14: 6 | BA14: 425 | BB14: 6 | BC14: 1400 | BD14: 6 | BE14: 1700 | BF14: 6 | BG14: 1600 | BH14: 6
B15: 20 | D15: 20 | E15: 113 | F15: 20 | G15: 79 | H15: 20 | I15: 90 | J15: 20 | K15: 151 | L15: 20 | M15: 229 | N15: 20 | O15: 381 | P15: 20 | Q15: 456 | R15: 20 | S15: 521 | T15: 20 | U15: 591 | V15: 20 | W15: 1121 | X15: 20 | Y15: 2021 | Z15: 20 | AA15: 2361 | AB15: 20 | AC15: 4101 | AD15: 20 | AE15: 5401 | AF15: 20 | AG15: 9101 | AH15: 20 | AI15: 16001 | AJ15: 20 | AK15: 5001 | AL15: 20 | AM15: 10201 | AN15: 20 | AO15: 16001 | AP15: 20 | AQ15: 27001 | AR15: 20
A16: 62 | B16: 20 | C16: 71 | D16: 20 | E16: 114 | F16: 20 | G16: 81 | H16: 20 | I16: 92 | J16: 20 | K16: 155 | L16: 20 | M16: 232 | N16: 20 | O16: 387 | P16: 20 | Q16: 470 | R16: 20 | S16: 530 | T16: 20 | U16: 600 | V16: 20 | W16: 1140 | X16: 20 | Y16: 2040 | Z16: 20 | AA16: 2390 | AB16: 20 | AC16: 4150 | AD16: 20 | AE16: 5500 | AF16: 20 | AG16: 9250 | AH16: 20 | AI16: 16300 | AJ16: 20 | AK16: 5100 | AL16: 20 | AM16: 10400 | AN16: 20 | AO16: 16300 | AP16: 20 | AQ16: 28000 | AR16: 20 | AS16: 300 | AT16: 7 | AU16: 730 | AV16: 7 | AW16: 105 | AX16: 7 | AY16: 160 | AZ16: 7 | BA16: 450 | BB16: 7 | BC16: 1500 | BD16: 7 | BE16: 1800 | BF16: 7 | BG16: 1700 | BH16: 7
B17: 19 | D17: 19 | E17: 115 | F17: 19 | G17: 82 | H17: 19 | I17: 93 | J17: 19 | K17: 156 | L17: 19 | M17: 233 | N17: 19 | O17: 388 | P17: 19 | Q17: 471 | R17: 19 | S17: 531 | T17: 19 | U17: 601 | V17: 19 | W17: 1141 | X17: 19 | Y17: 2041 | Z17: 19 | AA17: 2391 | AB17: 19 | AC17: 4151 | AD17: 19 | AE17: 5501 | AF17: 19 | AG17: 9251 | AH17: 19 | AI17: 16301 | AJ17: 19 | AK17: 5101 | AL17: 19 | AM17: 10401 | AN17: 19 | AO17: 16301 | AP17: 19 | AQ17: 28001 | AR17: 19
A18: 63 | B18: 19 | C18: 72 | D18: 19 | E18: 116 | F18: 19 | G18: 84 | H18: 19 | I18: 95 | J18: 19 | K18: 160 | L18: 19 | M18: 236 | N18: 19 | O18: 394 | P18: 19 | Q18: 480 | R18: 19 | S18: 540 | T18: 19 | U18: 610 | V18: 19 | W18: 1160 | X18: 19 | Y18: 2060 | Z18: 19 | AA18: 2420 | AB18: 19 | AC18: 4200 | AD18: 19 | AE18: 6000 | AF18: 19 | AG18: 9400 | AH18: 19 | AI18: 17000 | AJ18: 19 | AK18: 5200 | AL18: 19 | AM18: 11000 | AN18: 19 | AO18: 17000 | AP18: 19 | AQ18: 29000 | AR18: 19 | AS18: 320 | AT18: 8 | AU18: 760 | AV18: 8 | AW18: 110 | AX18: 8 | AY18: 180 | AZ18: 8 | BA18: 475 | BB18: 8 | BC18: 1600 | BD18: 8 | BE18: 1900 | BF18: 8 | BG18: 1800 | BH18: 8
B19: 18 | D19: 18 | E19: 117 | F19: 18 | G19: 85 | H19: 18 | I19: 94 | J19: 18 | K19: 161 | L19: 18 | M19: 237 | N19: 18 | O19: 395 | P19: 18 | Q19: 481 | R19: 18 | S19: 541 | T19: 18 | U19: 611 | V19: 18 | W19: 1161 | X19: 18 | Y19: 2061 | Z19: 18 | AA19: 2421 | AB19: 18 | AC19: 4201 | AD19: 18 | AE19: 6001 | AF19: 18 | AG19: 9401 | AH19: 18 | AI19: 17001 | AJ19: 18 | AK19: 5201 | AL19: 18 | AM19: 11001 | AN19: 18 | AO19: 17001 | AP19: 18 | AQ19: 29001 | AR19: 18
A20: 64 | B20: 18 | C20: 73 | D20: 18 | E20: 118 | F20: 18 | G20: 87 | H20: 18 | I20: 98 | J20: 18 | K20: 165 | L20: 18 | M20: 240 | N20: 18 | O20: 402 | P20: 18 | Q20: 490 | R20: 18 | S20: 550 | T20: 18 | U20: 620 | V20: 18 | W20: 1180 | X20: 18 | Y20: 2090 | Z20: 18 | AA20: 2460 | AB20: 18 | AC20: 4250 | AD20: 18 | AE20: 6100 | AF20: 18 | AG20: 10000 | AH20: 18 | AI20: 17300 | AJ20: 18 | AK20: 5300 | AL20: 18 | AM20: 11200 | AN20: 18 | AO20: 17300 | AP20: 18 | AQ20: 30000 | AR20: 18 | AS20: 340 | AT20: 9 | AU20: 790 | AV20: 9 | AW20: 115 | AX20: 9 | AY20: 200 | AZ20: 9 | BA20: 500 | BB20: 9 | BC20: 1700 | BD20: 9 | BE20: 2000 | BF20: 9 | BG20: 1900 | BH20: 9
B21: 17 | D21: 17 | E21: 119 | F21: 17 | G21: 88 | H21: 17 | I21: 99 | J21: 17 | K21: 166 | L21: 17 | M21: 241 | N21: 17 | O21: 403 | P21: 17 | Q21: 491 | R21: 17 | S21: 551 | T21: 17 | U21: 621 | V21: 17 | W21: 1181 | X21: 17 | Y21: 2091 | Z21: 17 | AA21: 2461 | AB21: 17 | AC21: 4251 | AD21: 17 | AE21: 6101 | AF21: 17 | AG21: 10001 | AH21: 17 | AI21: 17301 | AJ21: 17 | AK21: 5301 | AL21: 17 | AM21: 11201 | AN21: 17 | AO21: 17301 | AP21: 17 | AQ21: 30001 | AR21: 17
A22: 65 | B22: 17 | C22: 74 | D22: 17 | E22: 120 | F22: 17 | G22: 90 | H22: 17 | I22: 101 | J22: 17 | K22: 170 | L22: 17 | M22: 245 | N22: 17 | O22: 410 | P22: 17 | Q22: 500 | R22: 17 | S22: 560 | T22: 17 | U22: 630 | V22: 17 | W22: 1210 | X22: 17 | Y22: 2120 | Z22: 17 | AA22: 2500 | AB22: 17 | AC22: 4300 | AD22: 17 | AE22: 6200 | AF22: 17 | AG22: 10200 | AH22: 17 | AI22: 18000 | AJ22: 17 | AK22: 5450 | AL22: 17 | AM22: 11400 | AN22: 17 | AO22: 18000 | AP22: 17 | AQ22: 31000 | AR22: 17 | AS22: 360 | AT22: 10 | AU22: 820 | AV22: 10 | AW22: 120 | AX22: 10 | AY22: 220 | AZ22: 10 | BA22: 525 | BB22: 10 | BC22: 1800 | BD22: 10 | BE22: 2100 | BF22: 10 | BG22: 2000 | BH22: 10
B23: 16 | D23: 16 | E23: 121 | F23: 16 | G23: 91 | H23: 16 | I23: 102 | J23: 16 | K23: 171 | L23: 16 | M23: 246 | N23: 16 | O23: 411 | P23: 16 | Q23: 501 | R23: 16 | S23: 561 | T23: 16 | U23: 631 | V23: 16 | W23: 1211 | X23: 16 | Y23: 2121 | Z23: 16 | AA23: 2501 | AB23: 16 | AC23: 4301 | AD23: 16 | AE23: 6201 | AF23: 16 | AG23: 10201 | AH23: 16 | AI23: 18001 | AJ23: 16 | AK23: 5451 | AL23: 16 | AM23: 11401 | AN23: 16 | AO23: 18001 | AP23: 16 | AQ23: 31001 | AR23: 16
A24: 66 | B24: 16 | C24: 75 | D24: 16 | E24: 122 | F24: 16 | G24: 94 | H24: 16 | I24: 105 | J24: 16 | K24: 175 | L24: 16 | M24: 250 | N24: 16 | O24: 418 | P24: 16 | Q24: 515 | R24: 16 | S24: 570 | T24: 16 | U24: 640 | V24: 16 | W24: 1240 | X24: 16 | Y24: 2150 | Z24: 16 | AA24: 2580 | AB24: 16 | AC24: 4400 | AD24: 16 | AE24: 6350 | AF24: 16 | AG24: 10400 | AH24: 16 | AI24: 18300 | AJ24: 16 | AK24: 6000 | AL24: 16 | AM24: 12000 | AN24: 16 | AO24: 18300 | AP24: 16 | AQ24: 32000 | AR24: 16 | AS24: 380 | AT24: 11 | AU24: 850 | AV24: 11 | AW24: 125 | AX24: 11 | AY24: 240 | AZ24: 11 | BA24: 550 | BB24: 11 | BC24: 1900 | BD24: 11 | BE24: 2200 | BF24: 11 | BG24: 2100 | BH24: 11
A25: 67 | B25: 15 | C25: 76 | D25: 15 | E25: 123 | F25: 15 | G25: 95 | H25: 15 | I25: 106 | J25: 15 | K25: 176 | L25: 15 | M25: 251 | N25: 15 | O25: 419 | P25: 15 | Q25: 516 | R25: 15 | S25: 571 | T25: 15 | U25: 641 | V25: 15 | W25: 1241 | X25: 15 | Y25: 2151 | Z25: 15 | AA25: 2581 | AB25: 15 | AC25: 4401 | AD25: 15 | AE25: 6351 | AF25: 15 | AG25: 10401 | AH25: 15 | AI25: 18301 | AJ25: 15 | AK25: 6001 | AL25: 15 | AM25: 12001 | AN25: 15 | AO25: 18301 | AP25: 15 | AQ25: 32001 | AR25: 15
A26: 68 | B26: 15 | C26: 77 | D26: 15 | E26: 124 | F26: 15 | G26: 98 | H26: 15 | I26: 109 | J26: 15 | K26: 180 | L26: 15 | M26: 255 | N26: 15 | O26: 426 | P26: 15 | Q26: 530 | R26: 15 | S26: 580 | T26: 15 | U26: 650 | V26: 15 | W26: 1280 | X26: 15 | Y26: 2200 | Z26: 15 | AA26: 3060 | AB26: 15 | AC26: 4500 | AD26: 15 | AE26: 6500 | AF26: 15 | AG26: 11000 | AH26: 15 | AI26: 19000 | AJ26: 15 | AK26: 6150 | AL26: 15 | AM26: 12200 | AN26: 15 | AO26: 19000 | AP26: 15 | AQ26: 33000 | AR26: 15 | AS26: 400 | AT26: 12 | AU26: 880 | AV26: 12 | AW26: 130 | AX26: 12 | AY26: 260 | AZ26: 12 | BA26: 575 | BB26: 12 | BC26: 2000 | BD26: 12 | BE26: 2300 | BF26: 12 | BG26: 2200 | BH26: 12
A27: 69 | B27: 14 | C27: 78 | D27: 14 | E27: 125 | F27: 14 | G27: 99 | H27: 14 | I27: 110 | J27: 14 | K27: 181 | L27: 14 | M27: 256 | N27: 14 | O27: 427 | P27: 14 | Q27: 531 | R27: 14 | S27: 581 | T27: 14 | U27: 651 | V27: 14 | W27: 1281 | X27: 14 | Y27: 2201 | Z27: 14 | AA27: 30611 | AB27: 14 | AC27: 4501 | AD27: 14 | AE27: 6501 | AF27: 14 | AG27: 11001 | AH27: 14 | AI27: 19001 | AJ27: 14 | AK27: 6151 | AL27: 14 | AM27: 12201 | AN27: 14 | AO27: 19001 | AP27: 14 | AQ27: 33001 | AR27: 14
A28: 70 | B28: 14 | C28: 79 | D28: 14 | E28: 127 | F28: 14 | G28: 102 | H28: 14 | I28: 113 | J28: 14 | K28: 185 | L28: 14 | M28: 260 | N28: 14 | O28: 434 | P28: 14 | Q28: 545 | R28: 14 | S28: 595 | T28: 14 | U28: 680 | V28: 14 | W28: 1320 | X28: 14 | Y28: 2250 | Z28: 14 | AA28: 3140 | AB28: 14 | AC28: 5000 | AD28: 14 | AE28: 7100 | AF28: 14 | AG28: 11200 | AH28: 14 | AI28: 19300 | AJ28: 14 | AK28: 6300 | AL28: 14 | AM28: 12400 | AN28: 14 | AO28: 19300 | AP28: 14 | AQ28: 34000 | AR28: 14 | AS28: 420 | AT28: 13 | AU28: 910 | AV28: 13 | AW28: 140 | AX28: 13 | AY28: 280 | AZ28: 13 | BA28: 600 | BB28: 13 | BC28: 2100 | BD28: 13 | BE28: 2400 | BF28: 13 | BG28: 2300 | BH28: 13
A29: 71 | B29: 13 | C29: 80 | D29: 13 | E29: 128 | F29: 13 | G29: 103 | H29: 13 | I29: 114 | J29: 13 | K29: 186 | L29: 13 | M29: 261 | N29: 13 | O29: 435 | P29: 13 | Q29: 546 | R29: 13 | S29: 597 | T29: 13 | U29: 681 | V29: 13 | W29: 1321 | X29: 13 | Y29: 2251 | Z29: 13 | AA29: 2141 | AB29: 13 | AC29: 5001 | AD29: 13 | AE29: 7101 | AF29: 13 | AG29: 11201 | AH29: 13 | AI29: 19301 | AJ29: 13 | AK29: 6301 | AL29: 13 | AM29: 12401 | AN29: 13 | AO29: 19301 | AP29: 13 | AQ29: 34001 | AR29: 13
A30: 72 | B30: 13 | C30: 81 | D30: 13 | E30: 130 | F30: 13 | G30: 106 | H30: 13 | I30: 117 | J30: 13 | K30: 190 | L30: 13 | M30: 265 | N30: 13 | O30: 442 | P30: 13 | Q30: 560 | R30: 13 | S30: 610 | T30: 13 | U30: 710 | V30: 13 | W30: 1360 | X30: 13 | Y30: 2300 | Z30: 13 | AA30: 3220 | AB30: 13 | AC30: 5150 | AD30: 13 | AE30: 7300 | AF30: 13 | AG30: 11400 | AH30: 13 | AI30: 20000 | AJ30: 13 | AK30: 6450 | AL30: 13 | AM30: 13000 | AN30: 13 | AO30: 20000 | AP30: 13 | AQ30: 35000 | AR30: 13 | AS30: 440 | AT30: 14 | AU30: 950 | AV30: 14 | AW30: 150 | AX30: 14 | AY30: 300 | AZ30: 14 | BA30: 650 | BB30: 14 | BC30: 2200 | BD30: 14 | BE30: 2500 | BF30: 14 | BG30: 2400 | BH30: 14
A31: 73 | B31: 12 | C31: 82 | D31: 12 | E31: 131 | F31: 12 | G31: 107 | H31: 12 | I31: 118 | J31: 12 | K31: 191 | L31: 12 | M31: 266 | N31: 12 | O31: 443 | P31: 12 | Q31: 561 | R31: 12 | S31: 611 | T31: 12 | U31: 711 | V31: 12 | W31: 1361 | X31: 12 | Y31: 2301 | Z31: 12 | AA31: 3221 | AB31: 12 | AC31: 6151 | AD31: 12 | AE31: 7301 | AF31: 12 | AG31: 11401 | AH31: 12 | AI31: 20001 | AJ31: 12 | AK31: 6451 | AL31: 12 | AM31: 13001 | AN31: 12 | AO31: 20001 | AP31: 12 | AQ31: 35001 | AR31: 12
A32: 74 | B32: 12 | C32: 83 | D32: 12 | E32: 133 | F32: 12 | G32: 110 | H32: 12 | I32: 121 | J32: 12 | K32: 195 | L32: 12 | M32: 270 | N32: 12 | O32: 450 | P32: 12 | Q32: 575 | R32: 12 | S32: 625 | T32: 12 | U32: 740 | V32: 12 | W32: 1400 | X32: 12 | Y32: 2350 | Z32: 12 | AA32: 3300 | AB32: 12 | AC32: 5300 | AD32: 12 | AE32: 7500 | AF32: 12 | AG32: 12000 | AH32: 12 | AI32: 20300 | AJ32: 12 | AK32: 7000 | AL32: 12 | AM32: 13300 | AN32: 12 | AO32: 20300 | AP32: 12 | AQ32: 36000 | AR32: 12 | AS32: 460 | AT32: 15 | AU32: 1000 | AV32: 15 | AW32: 160 | AX32: 15 | AY32: 320 | AZ32: 15 | BA32: 700 | BB32: 15 | BC32: 2300 | BD32: 15 | BE32: 2700 | BF32: 15 | BG32: 2500 | BH32: 15
A33: 75 | B33: 11 | C33: 84 | D33: 11 | E33: 134 | F33: 11 | G33: 111 | H33: 11 | I33: 122 | J33: 11 | K33: 196 | L33: 11 | M33: 271 | N33: 11 | O33: 451 | P33: 11 | Q33: 576 | R33: 11 | S33: 626 | T33: 11 | U33: 741 | V33: 11 | W33: 1401 | X33: 11 | Y33: 2351 | Z33: 11 | AA33: 3301 | AB33: 11 | AC33: 6301 | AD33: 11 | AE33: 7501 | AF33: 11 | AG33: 12001 | AH33: 11 | AI33: 20301 | AJ33: 11 | AK33: 7001 | AL33: 11 | AM33: 13301 | AN33: 11 | AO33: 20301 | AP33: 11 | AQ33: 36001 | AR33: 11
A34: 76 | B34: 11 | C34: 85 | D34: 11 | E34: 136 | F34: 11 | G34: 114 | H34: 11 | I34: 125 | J34: 11 | K34: 200 | L34: 11 | M34: 280 | N34: 11 | O34: 460 | P34: 11 | Q34: 590 | R34: 11 | S34: 640 | T34: 11 | U34: 770 | V34: 11 | W34: 1450 | X34: 11 | Y34: 2400 | Z34: 11 | AA34: 3400 | AB34: 11 | AC34: 5450 | AD34: 11 | AE34: 8100 | AF34: 11 | AG34: 12200 | AH34: 11 | AI34: 21000 | AJ34: 11 | AK34: 7200 | AL34: 11 | AM34: 14000 | AN34: 11 | AO34: 21000 | AP34: 11 | AQ34: 37000 | AR34: 11 | AS34: 480 | AT34: 16 | AU34: 1050 | AV34: 16 | AW34: 165 | AX34: 16 | AY34: 340 | AZ34: 16 | BA34: 750 | BB34: 16 | BC34: 2400 | BD34: 16 | BE34: 2900 | BF34: 16 | BG34: 2600 | BH34: 16
A35: 77 | B35: 10 | C35: 86 | D35: 10 | E35: 137 | F35: 10 | G35: 115 | H35: 10 | I35: 126 | J35: 10 | K35: 201 | L35: 10 | M35: 281 | N35: 10 | O35: 461 | P35: 10 | Q35: 591 | R35: 10 | S35: 641 | T35: 10 | U35: 771 | V35: 10 | W35: 1451 | X35: 10 | Y35: 2401 | Z35: 10 | AA35: 3401 | AB35: 10 | AC35: 6451 | AD35: 10 | AE35: 8101 | AF35: 10 | AG35: 12201 | AH35: 10 | AI35: 21001 | AJ35: 10 | AK35: 7201 | AL35: 10 | AM35: 14001 | AN35: 10 | AO35: 21001 | AP35: 10 | AQ35: 37001 | AR35: 10
A36: 78 | B36: 10 | C36: 87 | D36: 10 | E36: 140 | F36: 10 | G36: 118 | H36: 10 | I36: 129 | J36: 10 | K36: 205 | L36: 10 | M36: 290 | N36: 10 | O36: 470 | P36: 10 | Q36: 605 | R36: 10 | S36: 660 | T36: 10 | U36: 800 | V36: 10 | W36: 1500 | X36: 10 | Y36: 2500 | Z36: 10 | AA36: 3500 | AB36: 10 | AC36: 6000 | AD36: 10 | AE36: 8300 | AF36: 10 | AG36: 12400 | AH36: 10 | AI36: 22300 | AJ36: 10 | AK36: 7400 | AL36: 10 | AM36: 14300 | AN36: 10 | AO36: 21300 | AP36: 10 | AQ36: 38000 | AR36: 10 | AS36: 500 | AT36: 17 | AU36: 1100 | AV36: 17 | AW36: 170 | AX36: 17 | AY36: 370 | AZ36: 17 | BA36: 800 | BB36: 17 | BC36: 2500 | BD36: 17 | BE36: 3200 | BF36: 17 | BG36: 2800 | BH36: 17
A37: 79 | B37: 9 | C37: 88 | D37: 9 | E37: 141 | F37: 9 | G37: 119 | H37: 9 | I37: 130 | J37: 9 | K37: 206 | L37: 9 | M37: 291 | N37: 9 | O37: 471 | P37: 9 | Q37: 606 | R37: 9 | S37: 661 | T37: 9 | U37: 801 | V37: 9 | W37: 1501 | X37: 9 | Y37: 2501 | Z37: 9 | AA37: 3501 | AB37: 9 | AC37: 6001 | AD37: 9 | AE37: 8301 | AF37: 9 | AG37: 12401 | AH37: 9 | AI37: 22301 | AJ37: 9 | AK37: 7401 | AL37: 9 | AM37: 14301 | AN37: 9 | AO37: 21301 | AP37: 9 | AQ37: 38001 | AR37: 9
A38: 81 | B38: 9 | C38: 90 | D38: 9 | E38: 144 | F38: 9 | G38: 122 | H38: 9 | I38: 133 | J38: 9 | K38: 210 | L38: 9 | M38: 300 | N38: 9 | O38: 480 | P38: 9 | Q38: 620 | R38: 9 | S38: 680 | T38: 9 | U38: 830 | V38: 9 | W38: 1550 | X38: 9 | Y38: 3000 | Z38: 9 | AA38: 4000 | AB38: 9 | AC38: 6150 | AD38: 9 | AE38: 8500 | AF38: 9 | AG38: 13000 | AH38: 9 | AI38: 23000 | AJ38: 9 | AK38: 8000 | AL38: 9 | AM38: 15000 | AN38: 9 | AO38: 22000 | AP38: 9 | AQ38: 39000 | AR38: 9 | AS38: 520 | AT38: 18 | AU38: 1150 | AV38: 18 | AW38: 175 | AX38: 18 | AY38: 400 | AZ38: 18 | BA38: 900 | BB38: 18 | BC38: 2700 | BD38: 18 | BE38: 3500 | BF38: 18 | BG38: 3000 | BH38: 18
A39: 82 | B39: 8 | C39: 91 | D39: 8 | E39: 145 | F39: 8 | G39: 123 | H39: 8 | I39: 134 | J39: 8 | K39: 211 | L39: 8 | M39: 301 | N39: 8 | O39: 481 | P39: 8 | Q39: 621 | R39: 8 | S39: 681 | T39: 8 | U39: 831 | V39: 8 | W39: 1551 | X39: 8 | Y39: 3001 | Z39: 8 | AA39: 4001 | AB39: 8 | AC39: 6151 | AD39: 8 | AE39: 8501 | AF39: 8 | AG39: 13001 | AH39: 8 | AI39: 23001 | AJ39: 8 | AK39: 8001 | AL39: 8 | AM39: 15001 | AN39: 8 | AO39: 22001 | AP39: 8 | AQ39: 39001 | AR39: 8
A40: 84 | B40: 8 | C40: 93 | D40: 8 | E40: 148 | F40: 8 | G40: 126 | H40: 8 | I40: 137 | J40: 8 | K40: 215 | L40: 8 | M40: 310 | N40: 8 | O40: 490 | P40: 8 | Q40: 640 | R40: 8 | S40: 700 | T40: 8 | U40: 860 | V40: 8 | W40: 2000 | X40: 8 | Y40: 3100 | Z40: 8 | AA40: 4100 | AB40: 8 | AC40: 6300 | AD40: 8 | AE40: 9100 | AF40: 8 | AG40: 13300 | AH40: 8 | AI40: 23300 | AJ40: 8 | AK40: 8200 | AL40: 8 | AM40: 15300 | AN40: 8 | AO40: 22300 | AP40: 8 | AQ40: 40000 | AR40: 8 | AS40: 550 | AT40: 19 | AU40: 1200 | AV40: 19 | AW40: 180 | AX40: 19 | AY40: 420 | AZ40: 19 | BA40: 1000 | BB40: 19 | BC40: 2900 | BD40: 19 | BE40: 3800 | BF40: 19 | BG40: 3200 | BH40: 19
A41: 85 | B41: 7 | C41: 94 | D41: 7 | E41: 149 | F41: 7 | G41: 127 | H41: 7 | I41: 138 | J41: 7 | K41: 216 | L41: 7 | M41: 311 | N41: 7 | O41: 491 | P41: 7 | Q41: 641 | R41: 7 | S41: 701 | T41: 7 | U41: 861 | V41: 7 | W41: 2001 | X41: 7 | Y41: 3101 | Z41: 7 | AA41: 4101 | AB41: 7 | AC41: 6301 | AD41: 7 | AE41: 9101 | AF41: 7 | AG41: 13301 | AH41: 7 | AI41: 23301 | AJ41: 7 | AK41: 8201 | AL41: 7 | AM41: 15301 | AN41: 7 | AO41: 22301 | AP41: 7 | AQ41: 40001 | AR41: 7
A42: 87 | B42: 7 | C42: 96 | D42: 7 | E42: 152 | F42: 7 | G42: 130 | H42: 7 | I42: 141 | J42: 7 | K42: 220 | L42: 7 | M42: 320 | N42: 7 | O42: 500 | P42: 7 | Q42: 660 | R42: 7 | S42: 720 | T42: 7 | U42: 890 | V42: 7 | W42: 2050 | X42: 7 | Y42: 3200 | Z42: 7 | AA42: 4200 | AB42: 7 | AC42: 6450 | AD42: 7 | AE42: 9300 | AF42: 7 | AG42: 14000 | AH42: 7 | AI42: 24000 | AJ42: 7 | AK42: 8400 | AL42: 7 | AM42: 16000 | AN42: 7 | AO42: 23000 | AP42: 7 | AQ42: 41000 | AR42: 7 | AS42: 580 | AT42: 20 | AU42: 1250 | AV42: 20 | AW42: 185 | AX42: 20 | AY42: 440 | AZ42: 20 | BA42: 1100 | BB42: 20 | BC42: 3200 | BD42: 20 | BE42: 4100 | BF42: 20 | BG42: 3600 | BH42: 20
A43: 88 | B43: 6 | C43: 97 | D43: 6 | E43: 153 | F43: 6 | G43: 131 | H43: 6 | I43: 142 | J43: 6 | K43: 221 | L43: 6 | M43: 321 | N43: 6 | O43: 501 | P43: 6 | Q43: 661 | R43: 6 | S43: 721 | T43: 6 | U43: 891 | V43: 6 | W43: 2051 | X43: 6 | Y43: 3201 | Z43: 6 | AA43: 4201 | AB43: 6 | AC43: 6451 | AD43: 6 | AE43: 9301 | AF43: 6 | AG43: 14001 | AH43: 6 | AI43: 24001 | AJ43: 6 | AK43: 8401 | AL43: 6 | AM43: 16001 | AN43: 6 | AO43: 23001 | AP43: 6 | AQ43: 41001 | AR43: 6
A44: 91 | B44: 6 | C44: 100 | D44: 6 | E44: 156 | F44: 6 | G44: 134 | H44: 6 | I44: 145 | J44: 6 | K44: 225 | L44: 6 | M44: 330 | N44: 6 | O44: 510 | P44: 6 | Q44: 680 | R44: 6 | S44: 740 | T44: 6 | U44: 920 | V44: 6 | W44: 2100 | X44: 6 | Y44: 3300 | Z44: 6 | AA44: 4300 | AB44: 6 | AC44: 7000 | AD44: 6 | AE44: 10000 | AF44: 6 | AG44: 14300 | AH44: 6 | AI44: 24300 | AJ44: 6 | AK44: 9000 | AL44: 6 | AM44: 16300 | AN44: 6 | AO44: 23300 | AP44: 6 | AQ44: 42000 | AR44: 6 | AS44: 620 | AT44: 21 | AU44: 1320 | AV44: 21 | AW44: 190 | AX44: 21 | AY44: 460 | AZ44: 21 | BA44: 1200 | BB44: 21 | BC44: 3500 | BD44: 21 | BE44: 4500 | BF44: 21 | BG44: 4000 | BH44: 21
A45: 92 | B45: 5 | C45: 101 | D45: 5 | E45: 157 | F45: 5 | G45: 135 | H45: 5 | I45: 146 | J45: 5 | K45: 226 | L45: 5 | M45: 331 | N45: 5 | O45: 511 | P45: 5 | Q45: 681 | R45: 5 | S45: 741 | T45: 5 | U45: 921 | V45: 5 | W45: 2101 | X45: 5 | Y45: 3301 | Z45: 5 | AA45: 4301 | AB45: 5 | AC45: 7001 | AD45: 5 | AE45: 10001 | AF45: 5 | AG45: 14301 | AH45: 5 | AI45: 24301 | AJ45: 5 | AK45: 9001 | AL45: 5 | AM45: 16301 | AN45: 5 | AO45: 23301 | AP45: 5 | AQ45: 42001 | AR45: 5
A46: 95 | B46: 5 | C46: 104 | D46: 5 | E46: 160 | F46: 5 | G46: 138 | H46: 5 | I46: 149 | J46: 5 | K46: 230 | L46: 5 | M46: 340 | N46: 5 | O46: 520 | P46: 5 | Q46: 700 | R46: 5 | S46: 760 | T46: 5 | U46: 950 | V46: 5 | W46: 2150 | X46: 5 | Y46: 3450 | Z46: 5 | AA46: 4450 | AB46: 5 | AC46: 7150 | AD46: 5 | AE46: 10300 | AF46: 5 | AG46: 15000 | AH46: 5 | AI46: 25000 | AJ46: 5 | AK46: 9200 | AL46: 5 | AM46: 17000 | AN46: 5 | AO46: 24000 | AP46: 5 | AQ46: 43000 | AR46: 5 | AS46: 660 | AT46: 22 | AU46: 1400 | AV46: 22 | AW46: 195 | AX46: 22 | AY46: 480 | AZ46: 22 | BA46: 1300 | BB46: 22 | BC46: 4000 | BD46: 22 | BE46: 5000 | BF46: 22 | BG46: 4500 | BH46: 22
A47: 96 | B47: 4 | C47: 105 | D47: 4 | E47: 161 | F47: 4 | G47: 139 | H47: 4 | I47: 150 | J47: 4 | K47: 231 | L47: 4 | M47: 341 | N47: 4 | O47: 521 | P47: 4 | Q47: 701 | R47: 4 | S47: 761 | T47: 4 | U47: 951 | V47: 4 | W47: 2151 | X47: 4 | Y47: 3451 | Z47: 4 | AA47: 4451 | AB47: 4 | AC47: 7151 | AD47: 4 | AE47: 10301 | AF47: 4 | AG47: 15001 | AH47: 4 | AI47: 25001 | AJ47: 4 | AK47: 9201 | AL47: 4 | AM47: 17001 | AN47: 4 | AO47: 24001 | AP47: 4 | AQ47: 43001 | AR47: 4
