Workbook
Name _ACC93: 'RELAIS T1'!$L$3
Name AB: 'RELAIS T1'!$J$3
Name ABDO: 'RELAIS T1'!$I$3
Name ACB: 'RELAIS T1'!$K$3
Name ACB_4: POINTS!#REF!
Name ACB_4: POINTS!#REF!
Name ACB_4: POINTS!#REF!
Name ACB_4_10: POINTS!#REF!
Name ACB_4_10: POINTS!#REF!
Name ACB_4_10: POINTS!#REF!
Name ACB_4_12: POINTS!#REF!
Name ACB_4_12: POINTS!#REF!
Name ACB_4_12: POINTS!#REF!
Name ACB_4_14: POINTS!#REF!
Name ACB_4_14: POINTS!#REF!
Name ACB_4_14: POINTS!#REF!
Name ACB_4_16: POINTS!#REF!
Name ACB_4_16: POINTS!#REF!
Name ACB_4_16: POINTS!#REF!
Name ACB_4_2: POINTS!#REF!
Name ACB_4_2: POINTS!#REF!
Name ACB_4_2: POINTS!#REF!
Name ACB_4_22: POINTS!#REF!
Name ACB_4_22: POINTS!#REF!
Name ACB_4_22: POINTS!#REF!
Name ACB_4_3: 'Total Points T1 T2'!#REF!
Name ACB_4_3: 'Total Points T1 T2'!#REF!
Name ACB_4_3: 'Total Points T1 T2'!#REF!
Name ACB_4_5: 'POINTS T2'!#REF!
Name ACB_4_5: 'POINTS T2'!#REF!
Name ACB_4_5: 'POINTS T2'!#REF!
Name ACB_4_8: POINTS!#REF!
Name ACB_4_8: POINTS!#REF!
Name ACB_4_8: POINTS!#REF!
Name ACB_5: #REF!
Name ACB_5: #REF!
Name ACB_5: #REF!
Name ASGB: 'RELAIS T1'!$M$3
Name AUVERS: 'RELAIS T1'!$H$4
Name BF_1_km_marche: 'Table BeF'!$Q:$R
Name BF_1000_m: 'Table BeF'!$M:$N
Name BF_120_m: 'Table BeF'!$G:$H
Name BF_2_km_marche: 'Table BeF'!$S:$T
Name BF_2000_m: 'Table BeF'!$O:$P
Name BF_300_m: 'Table BeF'!$I:$J
Name BF_50_m: 'Table BeF'!$A:$B
Name BF_50_m_H_: 'Table BeF'!$E:$F
Name BF_500_m: 'Table BeF'!$K:$L
Name BF_60_m: 'Table BeF'!$C:$D
Name BF_DISQUE: 'Table BeF'!$AE:$AF
Name BF_HAUTEUR: 'Table BeF'!$Y:$Z
Name BF_JAVELOT: 'Table BeF'!$AG:$AH
Name BF_LONGUEUR: 'Table BeF'!$U:$V
Name BF_MARTEAU: 'Table BeF'!$AI:$AJ
Name BF_PERCHE: 'Table BeF'!$AA:$AB
Name BF_POIDS: 'Table BeF'!$AC:$AD
Name BF_T_S_: 'Table BeF'!$W:$X
Name BM_1_km_marche: 'Table BeM'!$S:$T
Name BM_1000_m: 'Table BeM'!$O:$P
Name BM_120_m: 'Table BeM'!$I:$J

Sheet Jury
A1: MEETING DE BRETIGNY ADULTES DU 01/06/19
A3: OFFICIELS
A5: DIRECTEUR DE REUNION | B5: RONCIN PASCAL - CSB
A6: JUGE ARBITRE | B6: COLOMBI BRUNO - SDUS
A8: STARTER | B8: DUVAL MARIE COLOMBE - COMA
A9: PHOTO FINISH | B9: COLOMBI BRUNO - SDUS
A10: CHRONOMETREUR | B10: GOURDON ALAIN - ESV
A11: ANEMOMETRE | B11: KISUNGO CEDRIC - SDUS
A12: JUGE D'ARRIVEE | B12: BOLLINGER VINCENT - NLSA
A13: JUGE D'ARRIVEE | B13: FERRAILLE CHRISTIAN - ESV
A14: JUGE D'ARRIVEE | B14: SENTUBERY PHILIPPE - CSB
A16: LONGUEUR | B16: PELTAN CHRISTOPHE - CSB
A17: LONGUEUR | B17: PELTAN ESTER - CSB
A18: LONGUEUR | B18: RABET FOURNIER LAETITIA - CSB
... A38: HAUTEUR | B38: DIABY CISSE - ASGB

Sheet Total Points T1 T2
A1: CLASSEMENT GENERAL
B3: ABDO | C3: ACB | D3: ASGB | E3: BMSA | F3: CAR | G3: CMA | H3: ACMA | I3: COMA | J3: CSB | K3: ESV | L3: ESCXV | M3: ESS | N3: NLSA | O3: SDUS | P3: TAC | Q3: MASC | R3: USI | S3: USMA | T3: US MERY
A4: 1er Tour | H4: =(POINTS!H16) -> #REF! | I4: =(POINTS!I16) -> #REF! | M4: =(POINTS!M16) -> #REF! | P4: =(POINTS!P16) -> #REF! | R4: =(POINTS!R16) -> #REF! | S4: =(POINTS!S16) -> #REF! | T4: =(POINTS!T16) -> #REF!
A5: 2ème Tour | C5: =('POINTS T2'!C15) -> #REF! | F5: =('POINTS T2'!F15) -> #REF! | G5: =('POINTS T2'!G15) -> #REF! | H5: =('POINTS T2'!H15) -> #REF! | I5: =('POINTS T2'!I15) -> #REF! | J5: =('POINTS T2'!J15) -> #REF! | L5: =('POINTS T2'!L15) -> #REF! | N5: =('POINTS T2'!N15) -> #REF! | Q5: =('POINTS T2'!Q15) -> #REF! | S5: =('POINTS T2'!S15) -> #REF! | T5: =('POINTS T2'!T15) -> #REF!
A6: Total | B6: =SUM(B4:B5) -> 0 | C6: =SUM(C4:C5) -> #REF! | D6: =SUM(D4:D5) -> 0 | E6: =SUM(E4:E5) -> 0 | F6: =SUM(F4:F5) -> #REF! | G6: =SUM(G4:G5) -> #REF! | H6: =SUM(H4:H5) -> #REF! | I6: =SUM(I4:I5) -> #REF! | ... T6: =SUM(T4:T5) -> #REF!
A7: Place | B7: 1 | C7: 9 | D7: 4 | E7: 2 | F7: 7 | G7: 14 | H7: 13 | I7: 16 | J7: 11 | K7: 5 | L7: 15 | M7: 12 | N7: 6 | O7: 3 | P7: 8 | Q7: 19 | R7: 10 | S7: 17 | T7: 18
A11: NOMBRE DE PARTICIPANTS SUR LES DEUX TOURS
A13: =A3 -> 0 | B13: =B3 -> ABDO | C13: =C3 -> ACB | D13: =D3 -> ASGB | E13: =E3 -> BMSA | F13: CAR | G13: CMA | H13: =H3 -> ACMA | I13: =I3 -> COMA | J13: CSB | K13: =K3 -> ESV | L13: =L3 -> ESCXV | M13: =M3 -> ESS | N13: =N3 -> NLSA | O13: =O3 -> SDUS | P13: =P3 -> TAC | Q13: =Q3 -> MASC | R13: USI | S13: =S3 -> USMA | T13: =T3 -> US MERY | U13: TOTAL
A14: Minimes F | U14: =SUM(B14:T14) -> 0
A15: Minimes M | U15: =SUM(B15:T15) -> 0
A16: Cadettes | U16: =SUM(B16:T16) -> 0
A17: Cadets | U17: =SUM(B17:T17) -> 0
A18: Femmes | U18: =SUM(B18:T18) -> 0
A19: Hommes | U19: =SUM(B19:T19) -> 0
A20: TOTAL | B20: =SUM(B14:B19) -> 0 | C20: =SUM(C14:C19) -> 0 | D20: =SUM(D14:D19) -> 0 | E20: =SUM(E14:E19) -> 0 | F20: =SUM(F14:F19) -> 0 | G20: =SUM(G14:G19) -> 0 | H20: =SUM(H14:H19) -> 0 | I20: =SUM(I14:I19) -> 0 | ... T20: =SUM(T14:T19) -> 0 | U20: =SUM(B20:T20) -> 0

Sheet POINTS
A1: CLASSEMENT 1er TOUR
B3: ABDO | C3: MASC | D3: ASGB | E3: BMSA | F3: VMA | G3: CMA | H3: ACMA | I3: COMA | J3: CSB | K3: ESV | L3: ESCXV | M3: ESS | N3: NLSA | O3: SDUS | P3: TAC | Q3: MASC | R3: USI | S3: USMA | T3: n
A4: Relais | B4: ='RELAIS T1'!I30 -> 0 | C4: ='RELAIS T1'!J30 -> 0 | D4: ='RELAIS T1'!K30 -> 0 | E4: ='RELAIS T1'!L30 -> 0 | F4: ='RELAIS T1'!M30 -> 0 | G4: ='RELAIS T1'!N30 -> 0 | H4: ='RELAIS T1'!O30 -> 0 | I4: ='RELAIS T1'!P30 -> 0 | ... T4: ='RELAIS T1'!AA30 -> 0
A6: Minimes F | B6: =MiF!AY22 -> 0 | C6: =MiF!AZ22 | D6: =MiF!BA22 | E6: =MiF!BB22 | F6: =MiF!BC22 -> 0 | G6: =MiF!BD22 | H6: =MiF!BE22 | I6: =MiF!BF22 | ... T6: =MiF!BQ22 -> 0
A7: Minimes M | B7: =#REF! -> #REF! | C7: =#REF! -> #REF! | D7: =#REF! -> #REF! | E7: =#REF! -> #REF! | F7: =#REF! -> #REF! | G7: =#REF! -> #REF! | H7: =#REF! -> #REF! | I7: =#REF! -> #REF! | ... T7: =#REF! -> #REF!
A8: Cadettes | B8: =#REF! -> #REF! | C8: =#REF! -> #REF! | D8: =#REF! -> #REF! | E8: =#REF! -> #REF! | F8: =#REF! -> #REF! | G8: =#REF! -> #REF! | H8: =#REF! -> #REF! | I8: =#REF! -> #REF! | ... T8: =#REF! -> #REF!
A9: Cadets | B9: =CAM!BO17 -> 0 | C9: =CAM!BP17 -> #REF! | D9: =CAM!BQ17 -> 1 | E9: =CAM!BR17 -> 0 | F9: =CAM!BS17 -> 0 | G9: =CAM!BT17 -> 0 | H9: =CAM!BU17 -> 0 | I9: =CAM!BV17 -> 0 | ... T9: =CAM!CG17 -> 0
A10: S/Total | B10: =SUM(B6:B9) -> #REF! | C10: =SUM(C6:C9) -> #REF! | D10: =SUM(D6:D9) -> #REF! | E10: =SUM(E6:E9) -> #REF! | F10: =SUM(F6:F9) -> #REF! | G10: =SUM(G6:G9) -> #REF! | H10: =SUM(H6:H9) -> #REF! | I10: =SUM(I6:I9) -> #REF! | ... T10: =SUM(T6:T9) -> #REF!
A12: Femmes | B12: =Femmes!#REF! -> #REF! | C12: =Femmes!#REF! -> #REF! | D12: =Femmes!#REF! -> #REF! | E12: =Femmes!#REF! -> #REF! | F12: =Femmes!#REF! -> #REF! | G12: =Femmes!#REF! -> #REF! | H12: =Femmes!#REF! -> #REF! | I12: =Femmes!#REF! -> #REF! | ... T12: =Femmes!#REF! -> #REF!
A13: Hommes | B13: =Hommes!BT35 -> 47 | C13: =Hommes!BU35 -> 0 | D13: =Hommes!BV35 -> 0 | E13: =Hommes!BW35 -> 0 | F13: =Hommes!BX35 -> 0 | G13: =Hommes!BY35 -> 0 | H13: =Hommes!BZ35 -> 0 | I13: =Hommes!CA35 -> 0 | ... T13: =Hommes!CL35 -> 0
A14: S/Total | B14: =SUM(B12:B13) -> #REF! | C14: =SUM(C12:C13) -> #REF! | D14: =SUM(D12:D13) -> #REF! | E14: =SUM(E12:E13) -> #REF! | F14: =SUM(F12:F13) -> #REF! | G14: =SUM(G12:G13) -> #REF! | H14: =SUM(H12:H13) -> #REF! | I14: =SUM(I12:I13) -> #REF! | ... T14: =SUM(T12:T13) -> #REF!
A16: total 1er tour | B16: =SUM(B10,B14,B4) -> #REF! | C16: =SUM(C10,C14,C4) -> #REF! | D16: =SUM(D10,D14,D4) -> #REF! | E16: =SUM(E10,E14,E4) -> #REF! | F16: =SUM(F10,F14,F4) -> #REF! | G16: =SUM(G10,G14,G4) -> #REF! | H16: =SUM(H10,H14,H4) -> #REF! | I16: =SUM(I10,I14,I4) -> #REF! | ... T16: =SUM(T10,T14,T4) -> #REF!
A17: PLACES | B17: 8 | D17: 5 | E17: 2 | F17: 13 | G17: 14 | H17: 9 | I17: 17 | J17: 7 | K17: 3 | L17: 4 | M17: 12 | N17: 11 | O17: 1 | P17: 6 | Q17: 16 | S17: 10 | T17: 15
A20: NOMBRE DE PARTICIPANTS
A22: =A3 -> 0 | B22: =B3 -> ABDO | C22: =C3 -> MASC | D22: =D3 -> ASGB | E22: =E3 -> BMSA | F22: CAR | G22: =G3 -> CMA | H22: ACMA | I22: =I3 -> COMA | J22: CSB | K22: =K3 -> ESV | L22: =L3 -> ESCXV | M22: =M3 -> ESS | N22: =N3 -> NLSA | O22: =O3 -> SDUS | P22: =P3 -> TAC | Q22: =Q3 -> MASC | R22: USI | S22: =S3 -> USMA | T22: =T3 -> n | U22: TOTAL
A23: Minimes F | B23: =MiF!AY24 -> 0 | C23: =MiF!AZ24 -> 0 | D23: =MiF!BA24 -> 2 | E23: =MiF!BB24 -> 0 | F23: =MiF!BC24 -> 0 | G23: =MiF!BD24 -> 0 | H23: =MiF!BE24 -> 0 | I23: =MiF!BF24 -> 2 | ... T23: =MiF!BQ24 -> 0 | U23: =SUM(B23:T23) -> 12
A24: Minimes M | B24: =#REF! -> #REF! | C24: =#REF! -> #REF! | D24: =#REF! -> #REF! | E24: =#REF! -> #REF! | F24: =#REF! -> #REF! | G24: =#REF! -> #REF! | H24: =#REF! -> #REF! | I24: =#REF! -> #REF! | ... T24: =#REF! -> #REF! | U24: =SUM(B24:T24) -> #REF!
A25: Cadettes | B25: =#REF! -> #REF! | C25: =#REF! -> #REF! | D25: =#REF! -> #REF! | E25: =#REF! -> #REF! | F25: =#REF! -> #REF! | G25: =#REF! -> #REF! | H25: =#REF! -> #REF! | I25: =#REF! -> #REF! | ... T25: =#REF! -> #REF! | U25: =SUM(B25:T25) -> #REF!
A26: Cadets | B26: =CAM!BO19 -> 0 | C26: =CAM!BP19 -> 0 | D26: =CAM!BQ19 -> 1 | E26: =CAM!BR19 -> 0 | F26: =CAM!BS19 -> 0 | G26: =CAM!BT19 -> 0 | H26: =CAM!BU19 -> 0 | I26: =CAM!BV19 -> 0 | ... T26: =CAM!CG19 -> 0 | U26: =SUM(B26:T26) -> 11
A27: Femmes | B27: =Femmes!#REF! -> #REF! | C27: =Femmes!#REF! -> #REF! | D27: =Femmes!#REF! -> #REF! | E27: =Femmes!#REF! -> #REF! | F27: =Femmes!#REF! -> #REF! | G27: =Femmes!#REF! -> #REF! | H27: =Femmes!#REF! -> #REF! | I27: =Femmes!#REF! -> #REF! | ... T27: =Femmes!#REF! -> #REF! | U27: =SUM(B27:T27) -> #REF!
A28: Hommes | B28: =Hommes!BT37 -> 4 | C28: =Hommes!BU37 -> 0 | D28: =Hommes!BV37 -> 1 | E28: =Hommes!BW37 -> 0 | F28: =Hommes!BX37 -> 0 | G28: =Hommes!BY37 -> 0 | H28: =Hommes!BZ37 -> 0 | I28: =Hommes!CA37 -> 0 | ... T28: =Hommes!CL37 -> 0 | U28: =SUM(B28:T28) -> 26
A29: TOTAL | B29: =SUM(B23:B28) -> #REF! | C29: =SUM(C23:C28) -> #REF! | D29: =SUM(D23:D28) -> #REF! | E29: =SUM(E23:E28) -> #REF! | F29: =SUM(F23:F28) -> #REF! | G29: =SUM(G23:G28) -> #REF! | H29: =SUM(H23:H28) -> #REF! | I29: =SUM(I23:I28) -> #REF! | ... T29: =SUM(T23:T28) -> #REF! | U29: =SUM(B29:T29) -> #REF!
A38: CLASSEMENT 2ème TOUR
B41: =B3 -> ABDO | C41: =C3 -> MASC | D41: =D3 -> ASGB | E41: =E3 -> BMSA | F41: =F3 -> VMA | G41: =G3 -> CMA | H41: =H3 -> ACMA | I41: =I3 -> COMA | ... T41: =T3 -> n
A42: Relais | B42: =#REF! -> #REF! | C42: =#REF! -> #REF! | D42: =#REF! -> #REF! | E42: =#REF! -> #REF! | F42: =#REF! -> #REF! | G42: =#REF! -> #REF! | H42: =#REF! -> #REF! | I42: =#REF! -> #REF! | ... T42: =#REF! -> #REF!
A44: Minimes F | B44: =#REF! -> #REF! | C44: =#REF! -> #REF! | D44: =#REF! -> #REF! | E44: =#REF! -> #REF! | F44: =#REF! -> #REF! | G44: =#REF! -> #REF! | H44: =#REF! -> #REF! | I44: =#REF! -> #REF! | ... T44: =#REF! -> #REF!
A45: Minimes M | B45: =#REF! -> #REF! | C45: =#REF! -> #REF! | D45: =#REF! -> #REF! | E45: =#REF! -> #REF! | F45: =#REF! -> #REF! | G45: =#REF! -> #REF! | H45: =#REF! -> #REF! | I45: =#REF! -> #REF! | ... T45: =#REF! -> #REF!
A46: Cadettes | B46: =#REF! -> #REF! | C46: =#REF! -> #REF! | D46: =#REF! -> #REF! | E46: =#REF! -> #REF! | F46: =#REF! -> #REF! | G46: =#REF! -> #REF! | H46: =#REF! -> #REF! | I46: =#REF! -> #REF! | ... T46: =#REF! -> #REF!
A47: Cadets | B47: =#REF! -> #REF! | C47: =#REF! -> #REF! | D47: =#REF! -> #REF! | E47: =#REF! -> #REF! | F47: =#REF! -> #REF! | G47: =#REF! -> #REF! | H47: =#REF! -> #REF! | I47: =#REF! -> #REF! | ... T47: =#REF! -> #REF!
A48: S/Total | B48: =SUM(B44:B47) -> #REF! | C48: =SUM(C44:C47) -> #REF! | D48: =SUM(D44:D47) -> #REF! | E48: =SUM(E44:E47) -> #REF! | F48: =SUM(F44:F47) -> #REF! | G48: =SUM(G44:G47) -> #REF! | H48: =SUM(H44:H47) -> #REF! | I48: =SUM(I44:I47) -> #REF! | ... T48: =SUM(T44:T47) -> #REF!
A50: Femmes | B50: =#REF! -> #REF! | C50: =#REF! -> #REF! | D50: =#REF! -> #REF! | E50: =#REF! -> #REF! | F50: =#REF! -> #REF! | G50: =#REF! -> #REF! | H50: =#REF! -> #REF! | I50: =#REF! -> #REF! | ... T50: =#REF! -> #REF!
A51: Hommes | B51: =#REF! -> #REF! | C51: =#REF! -> #REF! | D51: =#REF! -> #REF! | E51: =#REF! -> #REF! | F51: =#REF! -> #REF! | G51: =#REF! -> #REF! | H51: =#REF! -> #REF! | I51: =#REF! -> #REF! | ... T51: =#REF! -> #REF!
A52: S/Total | B52: =SUM(B50:B51) -> #REF! | C52: =SUM(C50:C51) -> #REF! | D52: =SUM(D50:D51) -> #REF! | E52: =SUM(E50:E51) -> #REF! | F52: =SUM(F50:F51) -> #REF! | G52: =SUM(G50:G51) -> #REF! | H52: =SUM(H50:H51) -> #REF! | I52: =SUM(I50:I51) -> #REF! | ... T52: =SUM(T50:T51) -> #REF!
A54: total 1er tour | B54: =SUM(B48,B52,B42) -> #REF! | C54: =SUM(C48,C52,C42) -> #REF! | D54: =SUM(D48,D52,D42) -> #REF! | E54: =SUM(E48,E52,E42) -> #REF! | F54: =SUM(F48,F52,F42) -> #REF! | G54: =SUM(G48,G52,G42) -> #REF! | H54: =SUM(H48,H52,H42) -> #REF! | I54: =SUM(I48,I52,I42) -> #REF! | ... T54: =SUM(T48,T52,T42) -> #REF!
A55: PLACES
A57: NOMBRE DE PARTICIPANTS
A58: =A41 -> 0 | B58: =B3 -> ABDO | C58: =C3 -> MASC | D58: =D3 -> ASGB | E58: =E3 -> BMSA | F58: =F3 -> VMA | G58: =G3 -> CMA | H58: =H3 -> ACMA | I58: =I3 -> COMA | ... T58: =T3 -> n | U58: TOTAL
A59: Minimes F | B59: =#REF! -> #REF! | C59: =#REF! -> #REF! | D59: =#REF! -> #REF! | E59: =#REF! -> #REF! | F59: =#REF! -> #REF! | G59: =#REF! -> #REF! | H59: =#REF! -> #REF! | I59: =#REF! -> #REF! | ... T59: =#REF! -> #REF! | U59: =SUM(B59:T59) -> #REF!
A60: Minimes M | B60: =#REF! -> #REF! | C60: =#REF! -> #REF! | D60: =#REF! -> #REF! | E60: =#REF! -> #REF! | F60: =#REF! -> #REF! | G60: =#REF! -> #REF! | H60: =#REF! -> #REF! | I60: =#REF! -> #REF! | ... T60: =#REF! -> #REF! | U60: =SUM(B60:T60) -> #REF!
A61: Cadettes | B61: =#REF! -> #REF! | C61: =#REF! -> #REF! | D61: =#REF! -> #REF! | E61: =#REF! -> #REF! | F61: =#REF! -> #REF! | G61: =#REF! -> #REF! | H61: =#REF! -> #REF! | I61: =#REF! -> #REF! | ... T61: =#REF! -> #REF! | U61: =SUM(B61:T61) -> #REF!
A62: Cadets | B62: =#REF! -> #REF! | C62: =#REF! -> #REF! | D62: =#REF! -> #REF! | E62: =#REF! -> #REF! | F62: =#REF! -> #REF! | G62: =#REF! -> #REF! | H62: =#REF! -> #REF! | I62: =#REF! -> #REF! | ... T62: =#REF! -> #REF! | U62: =SUM(B62:T62) -> #REF!
A63: Femmes | B63: =#REF! -> #REF! | C63: =#REF! -> #REF! | D63: =#REF! -> #REF! | E63: =#REF! -> #REF! | F63: =#REF! -> #REF! | G63: =#REF! -> #REF! | H63: =#REF! -> #REF! | I63: =#REF! -> #REF! | ... T63: =#REF! -> #REF! | U63: =SUM(B63:T63) -> #REF!
A64: Hommes | B64: =#REF! -> #REF! | C64: =#REF! -> #REF! | D64: =#REF! -> #REF! | E64: =#REF! -> #REF! | F64: =#REF! -> #REF! | G64: =#REF! -> #REF! | H64: =#REF! -> #REF! | I64: =#REF! -> #REF! | ... T64: =#REF! -> #REF! | U64: =SUM(B64:T64) -> #REF!
A65: TOTAL | B65: =SUM(B59:B64) -> #REF! | C65: =SUM(C59:C64) -> #REF! | D65: =SUM(D59:D64) -> #REF! | E65: =SUM(E59:E64) -> #REF! | F65: =SUM(F59:F64) -> #REF! | G65: =SUM(G59:G64) -> #REF! | H65: =SUM(H59:H64) -> #REF! | I65: =SUM(I59:I64) -> #REF! | ... T65: =SUM(T59:T64) -> #REF! | U65: =SUM(B65:T65) -> #REF!
A67: CLASSEMENT GENERAL
A68: =A3 -> 0 | B68: =B3 -> ABDO | C68: =C3 -> MASC | D68: =D3 -> ASGB | E68: =E3 -> BMSA | F68: =F3 -> VMA | G68: =G3 -> CMA | H68: =H3 -> ACMA | ... T68: =T3 -> n
A69: Points | B69: =SUM(B16,B54) -> #REF! | C69: =SUM(C16,C54) -> #REF! | D69: =SUM(D16,D54) -> #REF! | E69: =SUM(E16,E54) -> #REF! | F69: =SUM(F16,F54) -> #REF! | G69: =SUM(G16,G54) -> #REF! | H69: =SUM(H16,H54) -> #REF! | I69: =SUM(I16,I54) -> #REF! | ... T69: =SUM(T16,T54) -> #REF!
A70: Placce | B70: 10 | C70: 4 ex | D70: 4 ex | E70: 2 | F70: 11 | G70: 9 | H70: 13 | I70: 14 | K70: 3 | L70: 12 | M70: 8 | N70: 6 | O70: 1 | P70: 7 | S70: 15

Sheet POINTS T2
A1: CLASSEMENT 2ème TOUR
B3: ABDO | C3: ACB | D3: ASGB | E3: BMSA | F3: CAR | G3: CMA | H3: ACMA | I3: COMA | J3: CSB | K3: ESV | L3: ESCXV | M3: ESS | N3: NLSA | O3: SDUS | P3: TAC | Q3: MASC | R3: USI | S3: USMA | T3: US MERY
A4: Relais
A5: Minimes F | B5: =#REF! -> #REF! | C5: =#REF! -> #REF! | D5: =#REF! -> #REF! | E5: =#REF! -> #REF! | F5: =#REF! -> #REF! | G5: =#REF! -> #REF! | H5: =#REF! -> #REF! | I5: =#REF! -> #REF! | ... T5: =#REF! -> #REF!
A6: Minimes M | B6: =#REF! -> #REF! | C6: =#REF! -> #REF! | D6: =#REF! -> #REF! | E6: =#REF! -> #REF! | F6: =#REF! -> #REF! | G6: =#REF! -> #REF! | H6: =#REF! -> #REF! | I6: =#REF! -> #REF! | ... T6: =#REF! -> #REF!
A7: Cadettes | B7: =#REF! -> #REF! | C7: =#REF! -> #REF! | D7: =#REF! -> #REF! | E7: =#REF! -> #REF! | F7: =#REF! -> #REF! | G7: =#REF! -> #REF! | H7: =#REF! -> #REF! | I7: =#REF! -> #REF! | ... T7: =#REF! -> #REF!
A8: Cadets | B8: =#REF! -> #REF! | C8: =#REF! -> #REF! | D8: =#REF! -> #REF! | E8: =#REF! -> #REF! | F8: =#REF! -> #REF! | G8: =#REF! -> #REF! | H8: =#REF! -> #REF! | I8: =#REF! -> #REF! | ... T8: =#REF! -> #REF!
A9: S/Total | B9: =SUM(B4:B8) -> #REF! | C9: =SUM(C4:C8) -> #REF! | D9: =SUM(D4:D8) -> #REF! | E9: =SUM(E4:E8) -> #REF! | F9: =SUM(F4:F8) -> #REF! | G9: =SUM(G4:G8) -> #REF! | H9: =SUM(H4:H8) -> #REF! | I9: =SUM(I4:I8) -> #REF! | ... T9: =SUM(T4:T8) -> #REF!
A11: Femmes | B11: =#REF! -> #REF! | C11: =#REF! -> #REF! | D11: =#REF! -> #REF! | E11: =#REF! -> #REF! | F11: =#REF! -> #REF! | G11: =#REF! -> #REF! | H11: =#REF! -> #REF! | I11: =#REF! -> #REF! | ... T11: =#REF! -> #REF!
A12: Hommes
A13: S/Total | B13: =SUM(B11:B12) -> #REF! | C13: =SUM(C11:C12) -> #REF! | D13: =SUM(D11:D12) -> #REF! | E13: =SUM(E11:E12) -> #REF! | F13: =SUM(F11:F12) -> #REF! | G13: =SUM(G11:G12) -> #REF! | H13: =SUM(H11:H12) -> #REF! | I13: =SUM(I11:I12) -> #REF! | ... T13: =SUM(T11:T12) -> #REF!
A15: total 2ème tour | B15: =SUM(B13,B9) -> #REF! | C15: =SUM(C13,C9) -> #REF! | D15: =SUM(D13,D9) -> #REF! | E15: =SUM(E13,E9) -> #REF! | F15: =SUM(F13,F9) -> #REF! | G15: =SUM(G13,G9) -> #REF! | H15: =SUM(H13,H9) -> #REF! | I15: =SUM(I13,I9) -> #REF! | ... T15: =SUM(T13,T9) -> #REF!
A16: PLACES
A20: NOMBRE DE PARTICIPANTS
A22: =A3 -> 0 | B22: =B3 -> ABDO | C22: =C3 -> ACB | D22: =D3 -> ASGB | E22: =E3 -> BMSA | F22: CAR | G22: =G3 -> CMA | H22: ACMA | I22: =I3 -> COMA | J22: CSB | K22: =K3 -> ESV | L22: =L3 -> ESCXV | M22: =M3 -> ESS | N22: =N3 -> NLSA | O22: =O3 -> SDUS | P22: =P3 -> TAC | Q22: =Q3 -> MASC | R22: USI | S22: =S3 -> USMA | T22: =T3 -> US MERY | U22: TOTAL
A23: Minimes F | U23: =SUM(B23:T23) -> 0
A24: Minimes M | U24: =SUM(B24:T24) -> 0
A25: Cadettes | U25: =SUM(B25:T25) -> 0
A26: Cadets | U26: =SUM(B26:T26) -> 0
A27: Femmes | U27: =SUM(B27:T27) -> 0
A28: Hommes | U28: =SUM(B28:T28) -> 0
A29: TOTAL | B29: =SUM(B23:B28) -> 0 | C29: =SUM(C23:C28) -> 0 | D29: =SUM(D23:D28) -> 0 | E29: =SUM(E23:E28) -> 0 | F29: =SUM(F23:F28) -> 0 | G29: =SUM(G23:G28) -> 0 | H29: =SUM(H23:H28) -> 0 | I29: =SUM(I23:I28) -> 0 | ... T29: =SUM(T23:T28) -> 0 | U29: =SUM(B29:T29) -> 0

Sheet RELAIS T1
A1: RELAIS
A2: 43428
A3: CAT | B3: RELAIS | C3: VILLE | D3: CLUB | E3: PERF | F3: PLACE | G3: PTS | I3: =POINTS!B3 -> ABDO | J3: =POINTS!C3 -> MASC | K3: =POINTS!D3 -> ASGB | L3: =POINTS!E3 -> BMSA | M3: MS | N3: =POINTS!G3 -> CMA | O3: =POINTS!H3 -> ACMA | P3: =POINTS!I3 -> COMA | Q3: =POINTS!J3 -> CSB | R3: =POINTS!K3 -> ESV | S3: =POINTS!L3 -> ESCXV | T3: =POINTS!M3 -> ESS | U3: =POINTS!N3 -> NLSA | ... Z3: =POINTS!S3 -> USMA | AA3: MS
A4: MINIME | B4: 4X1 TOUR | C4: TREMBLAY | D4: TAC | E4: 1334 | F4: 1 | I4: =IF($D4<>($I$3),"",$G4) | J4: =IF($D4<>($J$3),"",$G4) | K4: =IF($D4<>($K$3),"",$G4) | L4: =IF($D4<>($L$3),"",$G4) | M4: =IF($D4<>($M$3),"",$G4) | N4: =IF($D4<>($N$3),"",$G4) | O4: =IF($D4<>($O$3),"",$G4) | P4: =IF($D4<>($P$3),"",$G4) | Q4: =IF($D4<>($Q$3),"",$G4) | R4: =IF($D4<>($R$3),"",$G4) | S4: =IF($D4<>($S$3),"",$G4) | T4: =IF($D4<>($T$3),"",$G4) | U4: =IF($D4<>($U$3),"",$G4) | V4: =IF($D4<>($V$3),"",$G4) | W4: =IF($D4<>($W$3),"",$G4) -> 0 | X4: =IF($D4<>($X$3),"",$G4) | Y4: =IF($D4<>($Y$3),"",$G4) | Z4: =IF($D4<>($Z$3),"",$G4) | AA4: =IF($D4<>($AA$3),"",$G4) | AB4: =IF($C4<>($AA$4),"",$F4)
A5: MINIME | B5: 4X1 TOUR | C5: BAGNOLET | D5: ACB | E5: 1343 | F5: 2 | I5: =IF($D5<>($I$3),"",$G5) | J5: =IF($D5<>($J$3),"",$G5) | K5: =IF($D5<>($K$3),"",$G5) | L5: =IF($D5<>($L$3),"",$G5) | M5: =IF($D5<>($M$3),"",$G5) | N5: =IF($D5<>($N$3),"",$G5) | O5: =IF($D5<>($O$3),"",$G5) | P5: =IF($D5<>($P$3),"",$G5) | Q5: =IF($D5<>($Q$3),"",$G5) | R5: =IF($D5<>($R$3),"",$G5) | S5: =IF($D5<>($S$3),"",$G5) | T5: =IF($D5<>($T$3),"",$G5) | U5: =IF($D5<>($U$3),"",$G5) | V5: =IF($D5<>($V$3),"",$G5) | W5: =IF($D5<>($W$3),"",$G5) | X5: =IF($D5<>($X$3),"",$G5) | Y5: =IF($D5<>($Y$3),"",$G5) | Z5: =IF($D5<>($Z$3),"",$G5) | AA5: =IF($D5<>($AA$3),"",$G5)
A6: MINIME | B6: 4X1 TOUR | C6: ST DENIS | D6: SDUS | E6: 1382 | F6: 3 | I6: =IF($D6<>($I$3),"",$G6) | J6: =IF($D6<>($J$3),"",$G6) | K6: =IF($D6<>($K$3),"",$G6) | L6: =IF($D6<>($L$3),"",$G6) | M6: =IF($D6<>($M$3),"",$G6) | N6: =IF($D6<>($N$3),"",$G6) | O6: =IF($D6<>($O$3),"",$G6) | P6: =IF($D6<>($P$3),"",$G6) | Q6: =IF($D6<>($Q$3),"",$G6) | R6: =IF($D6<>($R$3),"",$G6) | S6: =IF($D6<>($S$3),"",$G6) | T6: =IF($D6<>($T$3),"",$G6) | U6: =IF($D6<>($U$3),"",$G6) | V6: =IF($D6<>($V$3),"",$G6) -> 0 | W6: =IF($D6<>($W$3),"",$G6) | X6: =IF($D6<>($X$3),"",$G6) | Y6: =IF($D6<>($Y$3),"",$G6) | Z6: =IF($D6<>($Z$3),"",$G6) | AA6: =IF($D6<>($AA$3),"",$G6)
A7: MINIME | B7: 4X1 TOUR | C7: BLANC MESNIL | D7: BMSA | E7: 1424 | F7: 4 | I7: =IF($D7<>($I$3),"",$G7) | J7: =IF($D7<>($J$3),"",$G7) | K7: =IF($D7<>($K$3),"",$G7) | L7: =IF($D7<>($L$3),"",$G7) -> 0 | M7: =IF($D7<>($M$3),"",$G7) | N7: =IF($D7<>($N$3),"",$G7) | O7: =IF($D7<>($O$3),"",$G7) | P7: =IF($D7<>($P$3),"",$G7) | Q7: =IF($D7<>($Q$3),"",$G7) | R7: =IF($D7<>($R$3),"",$G7) | S7: =IF($D7<>($S$3),"",$G7) | T7: =IF($D7<>($T$3),"",$G7) | U7: =IF($D7<>($U$3),"",$G7) | V7: =IF($D7<>($V$3),"",$G7) | W7: =IF($D7<>($W$3),"",$G7) | X7: =IF($D7<>($X$3),"",$G7) | Y7: =IF($D7<>($Y$3),"",$G7) | Z7: =IF($D7<>($Z$3),"",$G7) | AA7: =IF($D7<>($AA$3),"",$G7)
A8: MINIME | B8: 4X1 TOUR | C8: NOISY LE SEC | D8: NLSA | E8: 1369 | F8: 1 | I8: =IF($D8<>($I$3),"",$G8) | J8: =IF($D8<>($J$3),"",$G8) | K8: =IF($D8<>($K$3),"",$G8) | L8: =IF($D8<>($L$3),"",$G8) | M8: =IF($D8<>($M$3),"",$G8) | N8: =IF($D8<>($N$3),"",$G8) | O8: =IF($D8<>($O$3),"",$G8) | P8: =IF($D8<>($P$3),"",$G8) | Q8: =IF($D8<>($Q$3),"",$G8) | R8: =IF($D8<>($R$3),"",$G8) | S8: =IF($D8<>($S$3),"",$G8) | T8: =IF($D8<>($T$3),"",$G8) | U8: =IF($D8<>($U$3),"",$G8) -> 0 | V8: =IF($D8<>($V$3),"",$G8) | W8: =IF($D8<>($W$3),"",$G8) | X8: =IF($D8<>($X$3),"",$G8) | Y8: =IF($D8<>($Y$3),"",$G8) | Z8: =IF($D8<>($Z$3),"",$G8) | AA8: =IF($D8<>($AA$3),"",$G8)
A9: MINIME | B9: 4X1 TOUR | C9: BLANC MESNIL | D9: BMSA | E9: 1392 | F9: 2 | I9: =IF($D9<>($I$3),"",$G9) | J9: =IF($D9<>($J$3),"",$G9) | K9: =IF($D9<>($K$3),"",$G9) | L9: =IF($D9<>($L$3),"",$G9) -> 0 | M9: =IF($D9<>($M$3),"",$G9) | N9: =IF($D9<>($N$3),"",$G9) | O9: =IF($D9<>($O$3),"",$G9) | P9: =IF($D9<>($P$3),"",$G9) | Q9: =IF($D9<>($Q$3),"",$G9) | R9: =IF($D9<>($R$3),"",$G9) | S9: =IF($D9<>($S$3),"",$G9) | T9: =IF($D9<>($T$3),"",$G9) | U9: =IF($D9<>($U$3),"",$G9) | V9: =IF($D9<>($V$3),"",$G9) | W9: =IF($D9<>($W$3),"",$G9) | X9: =IF($D9<>($X$3),"",$G9) | Y9: =IF($D9<>($Y$3),"",$G9) | Z9: =IF($D9<>($Z$3),"",$G9) | AA9: =IF($D9<>($AA$3),"",$G9)
A10: MINIME | B10: 4X1 TOUR | C10: BAGNOLET | D10: ASGB | E10: 1432 | F10: 3 | I10: =IF($D10<>($I$3),"",$G10) | J10: =IF($D10<>($J$3),"",$G10) | K10: =IF($D10<>($K$3),"",$G10) -> 0 | L10: =IF($D10<>($L$3),"",$G10) | M10: =IF($D10<>($M$3),"",$G10) | N10: =IF($D10<>($N$3),"",$G10) | O10: =IF($D10<>($O$3),"",$G10) | P10: =IF($D10<>($P$3),"",$G10) | Q10: =IF($D10<>($Q$3),"",$G10) | R10: =IF($D10<>($R$3),"",$G10) | S10: =IF($D10<>($S$3),"",$G10) | T10: =IF($D10<>($T$3),"",$G10) | U10: =IF($D10<>($U$3),"",$G10) | V10: =IF($D10<>($V$3),"",$G10) | W10: =IF($D10<>($W$3),"",$G10) | X10: =IF($D10<>($X$3),"",$G10) | Y10: =IF($D10<>($Y$3),"",$G10) | Z10: =IF($D10<>($Z$3),"",$G10) | AA10: =IF($D10<>($AA$3),"",$G10)
C11: NOISY LE SEC | D11: NLSA | E11: 1417 | F11: 1 | I11: =IF($D11<>($I$3),"",$G11) | K11: =IF($D11<>($K$3),"",$G11) | L11: =IF($D11<>($L$3),"",$G11) | N11: =IF($D11<>($N$3),"",$G11) | O11: =IF($D11<>($O$3),"",$G11) | P11: =IF($D11<>($P$3),"",$G11) | Q11: =IF($D11<>($Q$3),"",$G11) | R11: =IF($D11<>($R$3),"",$G11) | S11: =IF($D11<>($S$3),"",$G11) | U11: =IF($D11<>($U$3),"",$G11) -> 0 | V11: =IF($D11<>($V$3),"",$G11) | W11: =IF($D11<>($W$3),"",$G11) | X11: =IF($D11<>($X$3),"",$G11) | Z11: =IF($D11<>($Z$3),"",$G11) | AA11: =IF($D11<>($AA$3),"",$G11)
C12: BRETIGNY | D12: CSB | E12: 1427 | F12: 2 | I12: =IF($D12<>($I$3),"",$G12) | K12: =IF($D12<>($K$3),"",$G12) | L12: =IF($D12<>($L$3),"",$G12) | N12: =IF($D12<>($N$3),"",$G12) | O12: =IF($D12<>($O$3),"",$G12) | P12: =IF($D12<>($P$3),"",$G12) | Q12: =IF($D12<>($Q$3),"",$G12) -> 0 | R12: =IF($D12<>($R$3),"",$G12) | S12: =IF($D12<>($S$3),"",$G12) | U12: =IF($D12<>($U$3),"",$G12) | V12: =IF($D12<>($V$3),"",$G12) | W12: =IF($D12<>($W$3),"",$G12) | X12: =IF($D12<>($X$3),"",$G12) | Z12: =IF($D12<>($Z$3),"",$G12) | AA12: =IF($D12<>($AA$3),"",$G12)
C13: BOBIGNY | D13: ACB | E13: 1591 | F13: 3 | I13: =IF($D13<>($I$3),"",$G13) | K13: =IF($D13<>($K$3),"",$G13) | L13: =IF($D13<>($L$3),"",$G13) | N13: =IF($D13<>($N$3),"",$G13) | O13: =IF($D13<>($O$3),"",$G13) | P13: =IF($D13<>($P$3),"",$G13) | Q13: =IF($D13<>($Q$3),"",$G13) | R13: =IF($D13<>($R$3),"",$G13) | S13: =IF($D13<>($S$3),"",$G13) | U13: =IF($D13<>($U$3),"",$G13) | V13: =IF($D13<>($V$3),"",$G13) | W13: =IF($D13<>($W$3),"",$G13) | X13: =IF($D13<>($X$3),"",$G13) | Z13: =IF($D13<>($Z$3),"",$G13) | AA13: =IF($D13<>($AA$3),"",$G13)
A14: MINIME | B14: 4X1 TOUR | I14: =IF($D14<>($I$3),"",$G14) | J14: =IF($D14<>($J$3),"",$G14) | K14: =IF($D14<>($K$3),"",$G14) | L14: =IF($D14<>($L$3),"",$G14) | M14: =IF($D14<>($M$3),"",$G14) | N14: =IF($D14<>($N$3),"",$G14) | O14: =IF($D14<>($O$3),"",$G14) | P14: =IF($D14<>($P$3),"",$G14) | Q14: =IF($D14<>($Q$3),"",$G14) | R14: =IF($D14<>($R$3),"",$G14) | S14: =IF($D14<>($S$3),"",$G14) | T14: =IF($D14<>($T$3),"",$G14) | U14: =IF($D14<>($U$3),"",$G14) | V14: =IF($D14<>($V$3),"",$G14) | W14: =IF($D14<>($W$3),"",$G14) | X14: =IF($D14<>($X$3),"",$G14) | Y14: =IF($D14<>($Y$3),"",$G14) | Z14: =IF($D14<>($Z$3),"",$G14) | AA14: =IF($D14<>($AA$3),"",$G14)
I15: =IF($D15<>($I$3),"",$G15) | J15: =IF($D15<>($J$3),"",$G15) | K15: =IF($D15<>($K$3),"",$G15) | L15: =IF($D15<>($L$3),"",$G15) | M15: =IF($D15<>($M$3),"",$G15) | N15: =IF($D15<>($N$3),"",$G15) | O15: =IF($D15<>($O$3),"",$G15) | P15: =IF($D15<>($P$3),"",$G15) | Q15: =IF($D15<>($Q$3),"",$G15) | R15: =IF($D15<>($R$3),"",$G15) | S15: =IF($D15<>($S$3),"",$G15) | T15: =IF($D15<>($T$3),"",$G15) | U15: =IF($D15<>($U$3),"",$G15) | V15: =IF($D15<>($V$3),"",$G15) | W15: =IF($D15<>($W$3),"",$G15) | X15: =IF($D15<>($X$3),"",$G15) | Y15: =IF($D15<>($Y$3),"",$G15) | Z15: =IF($D15<>($Z$3),"",$G15) | AA15: =IF($D15<>($AA$3),"",$G15)
A16: SENIOR | B16: 6X1 TOUR | C16: SAINT OUEN | D16: USMA | E16: 2182 | F16: 1 | I16: =IF($D16<>($I$3),"",$G16) | J16: =IF($D16<>($J$3),"",$G16) | K16: =IF($D16<>($K$3),"",$G16) | L16: =IF($D16<>($L$3),"",$G16) | M16: =IF($D16<>($M$3),"",$G16) | N16: =IF($D16<>($N$3),"",$G16) | O16: =IF($D16<>($O$3),"",$G16) | P16: =IF($D16<>($P$3),"",$G16) | Q16: =IF($D16<>($Q$3),"",$G16) | R16: =IF($D16<>($R$3),"",$G16) | S16: =IF($D16<>($S$3),"",$G16) | T16: =IF($D16<>($T$3),"",$G16) | U16: =IF($D16<>($U$3),"",$G16) | V16: =IF($D16<>($V$3),"",$G16) | W16: =IF($D16<>($W$3),"",$G16) | X16: =IF($D16<>($X$3),"",$G16) | Y16: =IF($D16<>($Y$3),"",$G16) | Z16: =IF($D16<>($Z$3),"",$G16) -> 0 | AA16: =IF($D16<>($AA$3),"",$G16)
A17: SENIOR | B17: 6X1 TOUR | C17: NOISY LE SEC | D17: NLSA | E17: 2222 | F17: 2 | I17: =IF($D17<>($I$3),"",$G17) | J17: =IF($D17<>($J$3),"",$G17) | K17: =IF($D17<>($K$3),"",$G17) | L17: =IF($D17<>($L$3),"",$G17) | M17: =IF($D17<>($M$3),"",$G17) | N17: =IF($D17<>($N$3),"",$G17) | O17: =IF($D17<>($O$3),"",$G17) | P17: =IF($D17<>($P$3),"",$G17) | Q17: =IF($D17<>($Q$3),"",$G17) | R17: =IF($D17<>($R$3),"",$G17) | S17: =IF($D17<>($S$3),"",$G17) | T17: =IF($D17<>($T$3),"",$G17) | U17: =IF($D17<>($U$3),"",$G17) -> 0 | V17: =IF($D17<>($V$3),"",$G17) | W17: =IF($D17<>($W$3),"",$G17) | X17: =IF($D17<>($X$3),"",$G17) | Y17: =IF($D17<>($Y$3),"",$G17) | Z17: =IF($D17<>($Z$3),"",$G17) | AA17: =IF($D17<>($AA$3),"",$G17)
A18: SENIOR | B18: 6X1 TOUR | C18: BLANC MESNIL | D18: BMSA | E18: 2226 | F18: 3 | I18: =IF($D18<>($I$3),"",$G18) | J18: =IF($D18<>($J$3),"",$G18) | K18: =IF($D18<>($K$3),"",$G18) | L18: =IF($D18<>($L$3),"",$G18) -> 0 | M18: =IF($D18<>($M$3),"",$G18) | N18: =IF($D18<>($N$3),"",$G18) | O18: =IF($D18<>($O$3),"",$G18) | P18: =IF($D18<>($P$3),"",$G18) | Q18: =IF($D18<>($Q$3),"",$G18) | R18: =IF($D18<>($R$3),"",$G18) | S18: =IF($D18<>($S$3),"",$G18) | T18: =IF($D18<>($T$3),"",$G18) | U18: =IF($D18<>($U$3),"",$G18) | V18: =IF($D18<>($V$3),"",$G18) | W18: =IF($D18<>($W$3),"",$G18) | X18: =IF($D18<>($X$3),"",$G18) | Y18: =IF($D18<>($Y$3),"",$G18) | Z18: =IF($D18<>($Z$3),"",$G18) | AA18: =IF($D18<>($AA$3),"",$G18)
A19: SENIOR | B19: 6X1 TOUR | I19: =IF($D19<>($I$3),"",$G19) | J19: =IF($D19<>($J$3),"",$G19) | K19: =IF($D19<>($K$3),"",$G19) | L19: =IF($D19<>($L$3),"",$G19) | M19: =IF($D19<>($M$3),"",$G19) | N19: =IF($D19<>($N$3),"",$G19) | O19: =IF($D19<>($O$3),"",$G19) | P19: =IF($D19<>($P$3),"",$G19) | Q19: =IF($D19<>($Q$3),"",$G19) | R19: =IF($D19<>($R$3),"",$G19) | S19: =IF($D19<>($S$3),"",$G19) | T19: =IF($D19<>($T$3),"",$G19) | U19: =IF($D19<>($U$3),"",$G19) | V19: =IF($D19<>($V$3),"",$G19) | W19: =IF($D19<>($W$3),"",$G19) | X19: =IF($D19<>($X$3),"",$G19) | Y19: =IF($D19<>($Y$3),"",$G19) | Z19: =IF($D19<>($Z$3),"",$G19) | AA19: =IF($D19<>($AA$3),"",$G19)
A20: SENIOR | B20: 6X1 TOUR | I20: =IF($D20<>($I$3),"",$G20) | J20: =IF($D20<>($J$3),"",$G20) | K20: =IF($D20<>($K$3),"",$G20) | L20: =IF($D20<>($L$3),"",$G20) | M20: =IF($D20<>($M$3),"",$G20) | N20: =IF($D20<>($N$3),"",$G20) | O20: =IF($D20<>($O$3),"",$G20) | P20: =IF($D20<>($P$3),"",$G20) | Q20: =IF($D20<>($Q$3),"",$G20) | R20: =IF($D20<>($R$3),"",$G20) | S20: =IF($D20<>($S$3),"",$G20) | T20: =IF($D20<>($T$3),"",$G20) | U20: =IF($D20<>($U$3),"",$G20) | V20: =IF($D20<>($V$3),"",$G20) | W20: =IF($D20<>($W$3),"",$G20) | X20: =IF($D20<>($X$3),"",$G20) | Y20: =IF($D20<>($Y$3),"",$G20) | Z20: =IF($D20<>($Z$3),"",$G20) | AA20: =IF($D20<>($AA$3),"",$G20)
A21: SENIOR | B21: 6X1 TOUR | I21: =IF($D21<>($I$3),"",$G21) | J21: =IF($D21<>($J$3),"",$G21) | K21: =IF($D21<>($K$3),"",$G21) | L21: =IF($D21<>($L$3),"",$G21) | M21: =IF($D21<>($M$3),"",$G21) | N21: =IF($D21<>($N$3),"",$G21) | O21: =IF($D21<>($O$3),"",$G21) | P21: =IF($D21<>($P$3),"",$G21) | Q21: =IF($D21<>($Q$3),"",$G21) | R21: =IF($D21<>($R$3),"",$G21) | S21: =IF($D21<>($S$3),"",$G21) | T21: =IF($D21<>($T$3),"",$G21) | U21: =IF($D21<>($U$3),"",$G21) | V21: =IF($D21<>($V$3),"",$G21) | W21: =IF($D21<>($W$3),"",$G21) | X21: =IF($D21<>($X$3),"",$G21) | Y21: =IF($D21<>($Y$3),"",$G21) | Z21: =IF($D21<>($Z$3),"",$G21) | AA21: =IF($D21<>($AA$3),"",$G21)
I22: =IF($D22<>($I$3),"",$G22) | K22: =IF($D22<>($K$3),"",$G22) | L22: =IF($D22<>($L$3),"",$G22) | N22: =IF($D22<>($N$3),"",$G22) | O22: =IF($D22<>($O$3),"",$G22) | P22: =IF($D22<>($P$3),"",$G22) | Q22: =IF($D22<>($Q$3),"",$G22) | R22: =IF($D22<>($R$3),"",$G22) | S22: =IF($D22<>($S$3),"",$G22) | U22: =IF($D22<>($U$3),"",$G22) | V22: =IF($D22<>($V$3),"",$G22) | W22: =IF($D22<>($W$3),"",$G22) | X22: =IF($D22<>($X$3),"",$G22) | Z22: =IF($D22<>($Z$3),"",$G22) | AA22: =IF($D22<>($AA$3),"",$G22)
I23: =IF($D23<>($I$3),"",$G23) | K23: =IF($D23<>($K$3),"",$G23) | L23: =IF($D23<>($L$3),"",$G23) | N23: =IF($D23<>($N$3),"",$G23) | O23: =IF($D23<>($O$3),"",$G23) | P23: =IF($D23<>($P$3),"",$G23) | Q23: =IF($D23<>($Q$3),"",$G23) | R23: =IF($D23<>($R$3),"",$G23) | S23: =IF($D23<>($S$3),"",$G23) | U23: =IF($D23<>($U$3),"",$G23) | V23: =IF($D23<>($V$3),"",$G23) | W23: =IF($D23<>($W$3),"",$G23) | X23: =IF($D23<>($X$3),"",$G23) | Z23: =IF($D23<>($Z$3),"",$G23) | AA23: =IF($D23<>($AA$3),"",$G23)
I24: =IF($D24<>($I$3),"",$G24) | K24: =IF($D24<>($K$3),"",$G24) | L24: =IF($D24<>($L$3),"",$G24) | N24: =IF($D24<>($N$3),"",$G24) | O24: =IF($D24<>($O$3),"",$G24) | P24: =IF($D24<>($P$3),"",$G24) | Q24: =IF($D24<>($Q$3),"",$G24) | R24: =IF($D24<>($R$3),"",$G24) | S24: =IF($D24<>($S$3),"",$G24) | U24: =IF($D24<>($U$3),"",$G24) | V24: =IF($D24<>($V$3),"",$G24) | W24: =IF($D24<>($W$3),"",$G24) | X24: =IF($D24<>($X$3),"",$G24) | Z24: =IF($D24<>($Z$3),"",$G24) | AA24: =IF($D24<>($AA$3),"",$G24)
A25: SENIOR | B25: 6X1 TOUR | I25: =IF($D25<>($I$3),"",$G25) | J25: =IF($D25<>($J$3),"",$G25) | K25: =IF($D25<>($K$3),"",$G25) | L25: =IF($D25<>($L$3),"",$G25) | M25: =IF($D25<>($M$3),"",$G25) | N25: =IF($D25<>($N$3),"",$G25) | O25: =IF($D25<>($O$3),"",$G25) | P25: =IF($D25<>($P$3),"",$G25) | Q25: =IF($D25<>($Q$3),"",$G25) | R25: =IF($D25<>($R$3),"",$G25) | S25: =IF($D25<>($S$3),"",$G25) | T25: =IF($D25<>($T$3),"",$G25) | U25: =IF($D25<>($U$3),"",$G25) | V25: =IF($D25<>($V$3),"",$G25) | W25: =IF($D25<>($W$3),"",$G25) | X25: =IF($D25<>($X$3),"",$G25) | Y25: =IF($D25<>($Y$3),"",$G25) | Z25: =IF($D25<>($Z$3),"",$G25) | AA25: =IF($D25<>($AA$3),"",$G25)
A26: SENIOR | B26: 6X1 TOUR | I26: =IF($D26<>($I$3),"",$G26) | J26: =IF($D26<>($J$3),"",$G26) | K26: =IF($D26<>($K$3),"",$G26) | L26: =IF($D26<>($L$3),"",$G26) | M26: =IF($D26<>($M$3),"",$G26) | N26: =IF($D26<>($N$3),"",$G26) | O26: =IF($D26<>($O$3),"",$G26) | P26: =IF($D26<>($P$3),"",$G26) | Q26: =IF($D26<>($Q$3),"",$G26) | R26: =IF($D26<>($R$3),"",$G26) | S26: =IF($D26<>($S$3),"",$G26) | T26: =IF($D26<>($T$3),"",$G26) | U26: =IF($D26<>($U$3),"",$G26) | V26: =IF($D26<>($V$3),"",$G26) | W26: =IF($D26<>($W$3),"",$G26) | X26: =IF($D26<>($X$3),"",$G26) | Y26: =IF($D26<>($Y$3),"",$G26) | Z26: =IF($D26<>($Z$3),"",$G26) | AA26: =IF($D26<>($AA$3),"",$G26)
A27: SENIOR | B27: 6X1 TOUR | I27: =IF($D27<>($I$3),"",$G27) | J27: =IF($D27<>($J$3),"",$G27) | K27: =IF($D27<>($K$3),"",$G27) | L27: =IF($D27<>($L$3),"",$G27) | M27: =IF($D27<>($M$3),"",$G27) | N27: =IF($D27<>($N$3),"",$G27) | O27: =IF($D27<>($O$3),"",$G27) | P27: =IF($D27<>($P$3),"",$G27) | Q27: =IF($D27<>($Q$3),"",$G27) | R27: =IF($D27<>($R$3),"",$G27) | S27: =IF($D27<>($S$3),"",$G27) | T27: =IF($D27<>($T$3),"",$G27) | U27: =IF($D27<>($U$3),"",$G27) | V27: =IF($D27<>($V$3),"",$G27) | W27: =IF($D27<>($W$3),"",$G27) | X27: =IF($D27<>($X$3),"",$G27) | Y27: =IF($D27<>($Y$3),"",$G27) | Z27: =IF($D27<>($Z$3),"",$G27) | AA27: =IF($D27<>($AA$3),"",$G27)
A28: SENIOR | B28: 6X1 TOUR | I28: =IF($D28<>($I$3),"",$G28) | J28: =IF($D28<>($J$3),"",$G28) | K28: =IF($D28<>($K$3),"",$G28) | L28: =IF($D28<>($L$3),"",$G28) | M28: =IF($D28<>($M$3),"",$G28) | N28: =IF($D28<>($N$3),"",$G28) | O28: =IF($D28<>($O$3),"",$G28) | P28: =IF($D28<>($P$3),"",$G28) | Q28: =IF($D28<>($Q$3),"",$G28) | R28: =IF($D28<>($R$3),"",$G28) | S28: =IF($D28<>($S$3),"",$G28) | T28: =IF($D28<>($T$3),"",$G28) | U28: =IF($D28<>($U$3),"",$G28) | V28: =IF($D28<>($V$3),"",$G28) | W28: =IF($D28<>($W$3),"",$G28) | X28: =IF($D28<>($X$3),"",$G28) | Y28: =IF($D28<>($Y$3),"",$G28) | Z28: =IF($D28<>($Z$3),"",$G28) | AA28: =IF($D28<>($AA$3),"",$G28)
H30: Pts | I30: =SUM(I4:I28) -> 0 | J30: =SUM(J4:J28) -> 0 | K30: =SUM(K4:K28) -> 0 | L30: =SUM(L4:L28) -> 0 | M30: =SUM(M4:M28) -> 0 | N30: =SUM(N4:N28) -> 0 | O30: =SUM(O4:O28) -> 0 | P30: =SUM(P4:P28) -> 0 | ... AA30: =SUM(AA4:AA28) -> 0

Sheet MiF
A1: MINIMES FILLES
A2: NOM | B2: CLUB | C2: 60 m | E2: 80 m | G2: 150 m | I2: 300 m | K2: 50 haies | M2: 60 haies | O2: 80 m haies | Q2: 500 m | S2: 1000 m | U2: 2000 m | W2: 3000 m | Y2: 1 km marche | AA2: 2 km marche | AC2: 3 km marche | AE2: Longueur | AG2: Triple saut | AI2: Hauteur | AK2: Perche | AM2: Poids 3 kg | AO2: Disque | AQ2: Javelot 500 gr | AS2: Marteau 3 kg | AU2: Nombre | AV2: TOTAL | AW2: PLACE | AY2: =POINTS!B3 -> ABDO | AZ2: =POINTS!C3 -> MASC | BA2: =POINTS!D3 -> ASGB | BB2: =POINTS!E3 -> BMSA | BC2: MS | BD2: =POINTS!G3 -> CMA | BE2: =POINTS!H3 -> ACMA | BF2: =POINTS!I3 -> COMA | BG2: =POINTS!J3 -> CSB | BH2: =POINTS!K3 -> ESV | BI2: =POINTS!L3 -> ESCXV | BJ2: =POINTS!M3 -> ESS | BK2: =POINTS!N3 -> NLSA | ... BP2: =POINTS!S3 -> USMA | BQ2: USOB
C3: Perf. | D3: Pts | E3: Perf. | F3: Pts | G3: Perf. | H3: Pts | I3: Perf. | J3: Pts | K3: Perf. | L3: Pts | M3: Perf. | N3: Pts | O3: Perf. | P3: Pts | Q3: Perf. | R3: Pts | S3: Perf. | T3: Pts | U3: Perf. | V3: Pts | W3: Perf. | X3: Pts | Y3: Perf. | Z3: Pts | AA3: Perf. | AB3: Pts | AC3: Perf. | AD3: Pts | AE3: Perf. | AF3: Pts | AG3: Perf. | AH3: Pts | AI3: Perf. | AJ3: Pts | AK3: Perf. | AL3: Pts | AM3: Perf. | AN3: Pts | AO3: Perf. | AP3: Pts | AQ3: Perf. | AR3: Pts | AS3: Perf. | AT3: Pts | AU3: Epr.
A4: ULYSSE DAPHKARNY | B4: SDUS | D4: =IF(ISBLANK(C4),"",VLOOKUP(C4,MF_60_m,2)) | F4: =IF(ISBLANK(E4),"",VLOOKUP(E4,MF_80_m,2)) | H4: =IF(ISBLANK(G4),"",VLOOKUP(G4,MF_150_m,2)) | L4: =IF(ISBLANK(K4),"",VLOOKUP(K4,MF_50_m_H_,2)) | N4: =IF(ISBLANK(M4),"",VLOOKUP(M4,MF_60_m_H_,2)) | T4: =IF(ISBLANK(S4),"",VLOOKUP(S4,MF_1000_m,2)) | AE4: 499 | AF4: =IF(ISBLANK(AE4),"",VLOOKUP(AE4,MF_LONGUEUR,2)) -> 22 | AL4: =IF(ISBLANK(AK4),"",VLOOKUP(AK4,MF_PERCHE,2)) | AN4: =IF(ISBLANK(AM4),"",VLOOKUP(AM4,MF_POIDS,2)) | AO4: 1470 | AP4: =IF(ISBLANK(AO4),"",VLOOKUP(AO4,MF_DISQUE,2)) -> 9 | AR4: =IF(ISBLANK(AQ4),"",VLOOKUP(AQ4,MF_JAVELOT,2)) | AU4: =IF(ISBLANK(B4),"",COUNTA(AS4,AQ4,AO4,AM4,AK4,AI4,AG4,AE4,AC4,AA4,Y4,W4,U4,S4,Q4,O4,M4,K4,I4,G4,E4,C4)) -> 2 | AV4: =SUM(AT4,AR4,AP4,AN4,AL4,AJ4,AH4,AF4,AD4,AB4,Z4,X4,V4,T4,R4,P4,N4,L4,J4,H4,F4,D4) -> 31 | AY4: =IF(B4<>($AY$2),"",AV4) | AZ4: =IF(B4<>($AZ$2),"",AV4) | BA4: =IF(B4<>($BA$2),"",AV4) | BB4: =IF(B4<>($BB$2),"",AV4) | BC4: =IF(B4<>($BC$2),"",AV4) | BD4: =IF(B4<>($BD$2),"",AV4) | BE4: =IF(B4<>($BE$2),"",AV4) | BF4: =IF(B4<>($BF$2),"",AV4) | BG4: =IF(B4<>($BG$2),"",AV4) | BH4: =IF(B4<>($BH$2),"",AV4) | BI4: =IF(B4<>($BI$2),"",AV4) | BJ4: =IF(B4<>($BJ$2),"",AV4) | BK4: =IF(B4<>($BK$2),"",AV4) | BL4: =IF(B4<>($BL$2),"",AV4) -> 31 | BM4: =IF(B4<>($BM$2),"",AV4) | BN4: =IF(B4<>($BN$2),"",AV4) | BO4: =IF(B4<>($BO$2),"",AV4) | BP4: =IF(B4<>($BP$2),"",AV4) | BQ4: =IF(B4<>($BQ$2),"",AV4)
A5: CANCAN PRISCILLA | B5: SDUS | D5: =IF(ISBLANK(C5),"",VLOOKUP(C5,MF_60_m,2)) | E5: 1175 | F5: =IF(ISBLANK(E5),"",VLOOKUP(E5,MF_80_m,2)) -> 1 | H5: =IF(ISBLANK(G5),"",VLOOKUP(G5,MF_150_m,2)) | L5: =IF(ISBLANK(K5),"",VLOOKUP(K5,MF_50_m_H_,2)) | N5: =IF(ISBLANK(M5),"",VLOOKUP(M5,MF_60_m_H_,2)) | T5: =IF(ISBLANK(S5),"",VLOOKUP(S5,MF_1000_m,2)) | AF5: =IF(ISBLANK(AE5),"",VLOOKUP(AE5,MF_LONGUEUR,2)) | AL5: =IF(ISBLANK(AK5),"",VLOOKUP(AK5,MF_PERCHE,2)) | AN5: =IF(ISBLANK(AM5),"",VLOOKUP(AM5,MF_POIDS,2)) | AP5: =IF(ISBLANK(AO5),"",VLOOKUP(AO5,MF_DISQUE,2)) | AQ5: 1749 | AR5: =IF(ISBLANK(AQ5),"",VLOOKUP(AQ5,MF_JAVELOT,2)) -> 12 | AU5: =IF(ISBLANK(B5),"",COUNTA(AS5,AQ5,AO5,AM5,AK5,AI5,AG5,AE5,AC5,AA5,Y5,W5,U5,S5,Q5,O5,M5,K5,I5,G5,E5,C5)) -> 2 | AV5: =SUM(AT5,AR5,AP5,AN5,AL5,AJ5,AH5,AF5,AD5,AB5,Z5,X5,V5,T5,R5,P5,N5,L5,J5,H5,F5,D5) -> 13 | AY5: =IF(B5<>($AY$2),"",AV5) | AZ5: =IF(B5<>($AZ$2),"",AV5) | BA5: =IF(B5<>($BA$2),"",AV5) | BB5: =IF(B5<>($BB$2),"",AV5) | BC5: =IF(B5<>($BC$2),"",AV5) | BD5: =IF(B5<>($BD$2),"",AV5) | BE5: =IF(B5<>($BE$2),"",AV5) | BF5: =IF(B5<>($BF$2),"",AV5) | BG5: =IF(B5<>($BG$2),"",AV5) | BH5: =IF(B5<>($BH$2),"",AV5) | BI5: =IF(B5<>($BI$2),"",AV5) | BJ5: =IF(B5<>($BJ$2),"",AV5) | BK5: =IF(B5<>($BK$2),"",AV5) | BL5: =IF(B5<>($BL$2),"",AV5) -> 13 | BM5: =IF(B5<>($BM$2),"",AV5) | BN5: =IF(B5<>($BN$2),"",AV5) | BO5: =IF(B5<>($BO$2),"",AV5) | BP5: =IF(B5<>($BP$2),"",AV5) | BQ5: =IF(B5<>($BQ$2),"",AV5)
A6: HORRA SHAHRAZADE | B6: COMA | D6: =IF(ISBLANK(C6),"",VLOOKUP(C6,MF_60_m,2)) | E6: 1330 | F6: =IF(ISBLANK(E6),"",VLOOKUP(E6,MF_80_m,2)) -> 1 | H6: =IF(ISBLANK(G6),"",VLOOKUP(G6,MF_150_m,2)) | L6: =IF(ISBLANK(K6),"",VLOOKUP(K6,MF_50_m_H_,2)) | N6: =IF(ISBLANK(M6),"",VLOOKUP(M6,MF_60_m_H_,2)) | T6: =IF(ISBLANK(S6),"",VLOOKUP(S6,MF_1000_m,2)) | AF6: =IF(ISBLANK(AE6),"",VLOOKUP(AE6,MF_LONGUEUR,2)) | AL6: =IF(ISBLANK(AK6),"",VLOOKUP(AK6,MF_PERCHE,2)) | AN6: =IF(ISBLANK(AM6),"",VLOOKUP(AM6,MF_POIDS,2)) | AP6: =IF(ISBLANK(AO6),"",VLOOKUP(AO6,MF_DISQUE,2)) | AQ6: 830 | AR6: =IF(ISBLANK(AQ6),"",VLOOKUP(AQ6,MF_JAVELOT,2)) -> 3 | AU6: =IF(ISBLANK(B6),"",COUNTA(AS6,AQ6,AO6,AM6,AK6,AI6,AG6,AE6,AC6,AA6,Y6,W6,U6,S6,Q6,O6,M6,K6,I6,G6,E6,C6)) -> 2 | AV6: =SUM(AT6,AR6,AP6,AN6,AL6,AJ6,AH6,AF6,AD6,AB6,Z6,X6,V6,T6,R6,P6,N6,L6,J6,H6,F6,D6) -> 4 | AY6: =IF(B6<>($AY$2),"",AV6) | AZ6: =IF(B6<>($AZ$2),"",AV6) | BA6: =IF(B6<>($BA$2),"",AV6) | BB6: =IF(B6<>($BB$2),"",AV6) | BC6: =IF(B6<>($BC$2),"",AV6) | BD6: =IF(B6<>($BD$2),"",AV6) | BE6: =IF(B6<>($BE$2),"",AV6) | BF6: =IF(B6<>($BF$2),"",AV6) -> 4 | BG6: =IF(B6<>($BG$2),"",AV6) | BH6: =IF(B6<>($BH$2),"",AV6) | BI6: =IF(B6<>($BI$2),"",AV6) | BJ6: =IF(B6<>($BJ$2),"",AV6) | BK6: =IF(B6<>($BK$2),"",AV6) | BL6: =IF(B6<>($BL$2),"",AV6) | BM6: =IF(B6<>($BM$2),"",AV6) | BN6: =IF(B6<>($BN$2),"",AV6) | BO6: =IF(B6<>($BO$2),"",AV6) | BP6: =IF(B6<>($BP$2),"",AV6) | BQ6: =IF(B6<>($BQ$2),"",AV6)
A7: SOUGA LAZZERO ELENA | B7: COMA | D7: =IF(ISBLANK(C7),"",VLOOKUP(C7,MF_60_m,2)) | F7: =IF(ISBLANK(E7),"",VLOOKUP(E7,MF_80_m,2)) | H7: =IF(ISBLANK(G7),"",VLOOKUP(G7,MF_150_m,2)) | L7: =IF(ISBLANK(K7),"",VLOOKUP(K7,MF_50_m_H_,2)) | N7: =IF(ISBLANK(M7),"",VLOOKUP(M7,MF_60_m_H_,2)) | S7: 34777 | T7: =IF(ISBLANK(S7),"",VLOOKUP(S7,MF_1000_m,2)) -> 1 | AF7: =IF(ISBLANK(AE7),"",VLOOKUP(AE7,MF_LONGUEUR,2)) | AL7: =IF(ISBLANK(AK7),"",VLOOKUP(AK7,MF_PERCHE,2)) | AN7: =IF(ISBLANK(AM7),"",VLOOKUP(AM7,MF_POIDS,2)) | AO7: 1117 | AP7: =IF(ISBLANK(AO7),"",VLOOKUP(AO7,MF_DISQUE,2)) -> 6 | AR7: =IF(ISBLANK(AQ7),"",VLOOKUP(AQ7,MF_JAVELOT,2)) | AU7: =IF(ISBLANK(B7),"",COUNTA(AS7,AQ7,AO7,AM7,AK7,AI7,AG7,AE7,AC7,AA7,Y7,W7,U7,S7,Q7,O7,M7,K7,I7,G7,E7,C7)) -> 2 | AV7: =SUM(AT7,AR7,AP7,AN7,AL7,AJ7,AH7,AF7,AD7,AB7,Z7,X7,V7,T7,R7,P7,N7,L7,J7,H7,F7,D7) -> 7 | AY7: =IF(B7<>($AY$2),"",AV7) | AZ7: =IF(B7<>($AZ$2),"",AV7) | BA7: =IF(B7<>($BA$2),"",AV7) | BB7: =IF(B7<>($BB$2),"",AV7) | BC7: =IF(B7<>($BC$2),"",AV7) | BD7: =IF(B7<>($BD$2),"",AV7) | BE7: =IF(B7<>($BE$2),"",AV7) | BF7: =IF(B7<>($BF$2),"",AV7) -> 7 | BG7: =IF(B7<>($BG$2),"",AV7) | BH7: =IF(B7<>($BH$2),"",AV7) | BI7: =IF(B7<>($BI$2),"",AV7) | BJ7: =IF(B7<>($BJ$2),"",AV7) | BK7: =IF(B7<>($BK$2),"",AV7) | BL7: =IF(B7<>($BL$2),"",AV7) | BM7: =IF(B7<>($BM$2),"",AV7) | BN7: =IF(B7<>($BN$2),"",AV7) | BO7: =IF(B7<>($BO$2),"",AV7) | BP7: =IF(B7<>($BP$2),"",AV7) | BQ7: =IF(B7<>($BQ$2),"",AV7)
A8: LANGLOIS CLEMENCE | B8: ESS | D8: =IF(ISBLANK(C8),"",VLOOKUP(C8,MF_60_m,2)) | E8: 1173 | F8: =IF(ISBLANK(E8),"",VLOOKUP(E8,MF_80_m,2)) -> 1 | H8: =IF(ISBLANK(G8),"",VLOOKUP(G8,MF_150_m,2)) | L8: =IF(ISBLANK(K8),"",VLOOKUP(K8,MF_50_m_H_,2)) | N8: =IF(ISBLANK(M8),"",VLOOKUP(M8,MF_60_m_H_,2)) | T8: =IF(ISBLANK(S8),"",VLOOKUP(S8,MF_1000_m,2)) | AE8: 361 | AF8: =IF(ISBLANK(AE8),"",VLOOKUP(AE8,MF_LONGUEUR,2)) -> 12 | AL8: =IF(ISBLANK(AK8),"",VLOOKUP(AK8,MF_PERCHE,2)) | AN8: =IF(ISBLANK(AM8),"",VLOOKUP(AM8,MF_POIDS,2)) | AP8: =IF(ISBLANK(AO8),"",VLOOKUP(AO8,MF_DISQUE,2)) | AQ8: 1748 | AR8: =IF(ISBLANK(AQ8),"",VLOOKUP(AQ8,MF_JAVELOT,2)) -> 12 | AU8: =IF(ISBLANK(B8),"",COUNTA(AS8,AQ8,AO8,AM8,AK8,AI8,AG8,AE8,AC8,AA8,Y8,W8,U8,S8,Q8,O8,M8,K8,I8,G8,E8,C8)) -> 3 | AV8: =SUM(AT8,AR8,AP8,AN8,AL8,AJ8,AH8,AF8,AD8,AB8,Z8,X8,V8,T8,R8,P8,N8,L8,J8,H8,F8,D8) -> 25 | AZ8: =IF(B8<>($AZ$2),"",AV8) | BA8: =IF(B8<>($BA$2),"",AV8) | BB8: =IF(B8<>($BB$2),"",AV8) | BD8: =IF(B8<>($BD$2),"",AV8) | BE8: =IF(B8<>($BE$2),"",AV8) | BF8: =IF(B8<>($BF$2),"",AV8) | BG8: =IF(B8<>($BG$2),"",AV8) | BH8: =IF(B8<>($BH$2),"",AV8) | BI8: =IF(B8<>($BI$2),"",AV8) | BJ8: =IF(B8<>($BJ$2),"",AV8) -> 25 | BK8: =IF(B8<>($BK$2),"",AV8) | BL8: =IF(B8<>($BL$2),"",AV8) | BM8: =IF(B8<>($BM$2),"",AV8) | BN8: =IF(B8<>($BN$2),"",AV8) | BP8: =IF(B8<>($BP$2),"",AV8)
A9: RENAUDIN MAIA | B9: ASGB | D9: =IF(ISBLANK(C9),"",VLOOKUP(C9,MF_60_m,2)) | H9: =IF(ISBLANK(G9),"",VLOOKUP(G9,MF_150_m,2)) | L9: =IF(ISBLANK(K9),"",VLOOKUP(K9,MF_50_m_H_,2)) | N9: =IF(ISBLANK(M9),"",VLOOKUP(M9,MF_60_m_H_,2)) | T9: =IF(ISBLANK(S9),"",VLOOKUP(S9,MF_1000_m,2)) | AF9: =IF(ISBLANK(AE9),"",VLOOKUP(AE9,MF_LONGUEUR,2)) | AM9: 708 | AN9: =IF(ISBLANK(AM9),"",VLOOKUP(AM9,MF_POIDS,2)) -> 16 | AO9: 1650 | AP9: =IF(ISBLANK(AO9),"",VLOOKUP(AO9,MF_DISQUE,2)) -> 11 | AR9: =IF(ISBLANK(AQ9),"",VLOOKUP(AQ9,MF_JAVELOT,2)) | AU9: =IF(ISBLANK(B9),"",COUNTA(AS9,AQ9,AO9,AM9,AK9,AI9,AG9,AE9,AC9,AA9,Y9,W9,U9,S9,Q9,O9,M9,K9,I9,G9,E9,C9)) -> 2 | AV9: =SUM(AT9,AR9,AP9,AN9,AL9,AJ9,AH9,AF9,AD9,AB9,Z9,X9,V9,T9,R9,P9,N9,L9,J9,H9,F9,D9) -> 27 | AZ9: =IF(B9<>($AZ$2),"",AV9) | BA9: =IF(B9<>($BA$2),"",AV9) -> 27 | BB9: =IF(B9<>($BB$2),"",AV9) | BD9: =IF(B9<>($BD$2),"",AV9) | BE9: =IF(B9<>($BE$2),"",AV9) | BF9: =IF(B9<>($BF$2),"",AV9) | BG9: =IF(B9<>($BG$2),"",AV9) | BH9: =IF(B9<>($BH$2),"",AV9) | BI9: =IF(B9<>($BI$2),"",AV9) | BJ9: =IF(B9<>($BJ$2),"",AV9) | BK9: =IF(B9<>($BK$2),"",AV9) | BL9: =IF(B9<>($BL$2),"",AV9) | BM9: =IF(B9<>($BM$2),"",AV9) | BN9: =IF(B9<>($BN$2),"",AV9) | BP9: =IF(B9<>($BP$2),"",AV9)
A10: DIABY CISSE | B10: ASGB | D10: =IF(ISBLANK(C10),"",VLOOKUP(C10,MF_60_m,2)) | H10: =IF(ISBLANK(G10),"",VLOOKUP(G10,MF_150_m,2)) | T10: =IF(ISBLANK(S10),"",VLOOKUP(S10,MF_1000_m,2)) | AF10: =IF(ISBLANK(AE10),"",VLOOKUP(AE10,MF_LONGUEUR,2)) | AI10: 130 | AN10: =IF(ISBLANK(AM10),"",VLOOKUP(AM10,MF_POIDS,2)) | AO10: 1905 | AP10: =IF(ISBLANK(AO10),"",VLOOKUP(AO10,MF_DISQUE,2)) -> 14 | AR10: =IF(ISBLANK(AQ10),"",VLOOKUP(AQ10,MF_JAVELOT,2)) | AU10: =IF(ISBLANK(B10),"",COUNTA(AS10,AQ10,AO10,AM10,AK10,AI10,AG10,AE10,AC10,AA10,Y10,W10,U10,S10,Q10,O10,M10,K10,I10,G10,E10,C10)) -> 2 | AV10: =SUM(AT10,AR10,AP10,AN10,AL10,AJ10,AH10,AF10,AD10,AB10,Z10,X10,V10,T10,R10,P10,N10,L10,J10,H10,F10,D10) -> 14 | AZ10: =IF(B10<>($AZ$2),"",AV10) | BA10: =IF(B10<>($BA$2),"",AV10) -> 14 | BB10: =IF(B10<>($BB$2),"",AV10) | BD10: =IF(B10<>($BD$2),"",AV10) | BE10: =IF(B10<>($BE$2),"",AV10) | BF10: =IF(B10<>($BF$2),"",AV10) | BG10: =IF(B10<>($BG$2),"",AV10) | BH10: =IF(B10<>($BH$2),"",AV10) | BI10: =IF(B10<>($BI$2),"",AV10) | BJ10: =IF(B10<>($BJ$2),"",AV10) | BK10: =IF(B10<>($BK$2),"",AV10) | BL10: =IF(B10<>($BL$2),"",AV10) | BM10: =IF(B10<>($BM$2),"",AV10) | BN10: =IF(B10<>($BN$2),"",AV10) | BP10: =IF(B10<>($BP$2),"",AV10)
A11: PHAM NGOC ROMANE | B11: CSB | D11: =IF(ISBLANK(C11),"",VLOOKUP(C11,MF_60_m,2)) | E11: 1238 | H11: =IF(ISBLANK(G11),"",VLOOKUP(G11,MF_150_m,2)) | T11: =IF(ISBLANK(S11),"",VLOOKUP(S11,MF_1000_m,2)) | AF11: =IF(ISBLANK(AE11),"",VLOOKUP(AE11,MF_LONGUEUR,2)) | AN11: =IF(ISBLANK(AM11),"",VLOOKUP(AM11,MF_POIDS,2)) | AP11: =IF(ISBLANK(AO11),"",VLOOKUP(AO11,MF_DISQUE,2)) | AQ11: 1418 | AR11: =IF(ISBLANK(AQ11),"",VLOOKUP(AQ11,MF_JAVELOT,2)) -> 9 | AU11: =IF(ISBLANK(B11),"",COUNTA(AS11,AQ11,AO11,AM11,AK11,AI11,AG11,AE11,AC11,AA11,Y11,W11,U11,S11,Q11,O11,M11,K11,I11,G11,E11,C11)) -> 2 | AV11: =SUM(AT11,AR11,AP11,AN11,AL11,AJ11,AH11,AF11,AD11,AB11,Z11,X11,V11,T11,R11,P11,N11,L11,J11,H11,F11,D11) -> 9 | AZ11: =IF(B11<>($AZ$2),"",AV11) | BA11: =IF(B11<>($BA$2),"",AV11) | BB11: =IF(B11<>($BB$2),"",AV11) | BD11: =IF(B11<>($BD$2),"",AV11) | BE11: =IF(B11<>($BE$2),"",AV11) | BF11: =IF(B11<>($BF$2),"",AV11) | BG11: =IF(B11<>($BG$2),"",AV11) -> 9 | BH11: =IF(B11<>($BH$2),"",AV11) | BI11: =IF(B11<>($BI$2),"",AV11) | BJ11: =IF(B11<>($BJ$2),"",AV11) | BK11: =IF(B11<>($BK$2),"",AV11) | BL11: =IF(B11<>($BL$2),"",AV11) | BM11: =IF(B11<>($BM$2),"",AV11) | BN11: =IF(B11<>($BN$2),"",AV11) | BP11: =IF(B11<>($BP$2),"",AV11)
A12: ALLONCLE MATHILDE | B12: CSB | D12: =IF(ISBLANK(C12),"",VLOOKUP(C12,MF_60_m,2)) | E12: 1350 | H12: =IF(ISBLANK(G12),"",VLOOKUP(G12,MF_150_m,2)) | T12: =IF(ISBLANK(S12),"",VLOOKUP(S12,MF_1000_m,2)) | AF12: =IF(ISBLANK(AE12),"",VLOOKUP(AE12,MF_LONGUEUR,2)) | AN12: =IF(ISBLANK(AM12),"",VLOOKUP(AM12,MF_POIDS,2)) | AP12: =IF(ISBLANK(AO12),"",VLOOKUP(AO12,MF_DISQUE,2)) | AQ12: 1442 | AR12: =IF(ISBLANK(AQ12),"",VLOOKUP(AQ12,MF_JAVELOT,2)) -> 9 | AU12: =IF(ISBLANK(B12),"",COUNTA(AS12,AQ12,AO12,AM12,AK12,AI12,AG12,AE12,AC12,AA12,Y12,W12,U12,S12,Q12,O12,M12,K12,I12,G12,E12,C12)) -> 2 | AV12: =SUM(AT12,AR12,AP12,AN12,AL12,AJ12,AH12,AF12,AD12,AB12,Z12,X12,V12,T12,R12,P12,N12,L12,J12,H12,F12,D12) -> 9 | AZ12: =IF(B12<>($AZ$2),"",AV12) | BA12: =IF(B12<>($BA$2),"",AV12) | BB12: =IF(B12<>($BB$2),"",AV12) | BD12: =IF(B12<>($BD$2),"",AV12) | BE12: =IF(B12<>($BE$2),"",AV12) | BF12: =IF(B12<>($BF$2),"",AV12) | BG12: =IF(B12<>($BG$2),"",AV12) -> 9 | BH12: =IF(B12<>($BH$2),"",AV12) | BI12: =IF(B12<>($BI$2),"",AV12) | BJ12: =IF(B12<>($BJ$2),"",AV12) | BK12: =IF(B12<>($BK$2),"",AV12) | BL12: =IF(B12<>($BL$2),"",AV12) | BM12: =IF(B12<>($BM$2),"",AV12) | BN12: =IF(B12<>($BN$2),"",AV12) | BP12: =IF(B12<>($BP$2),"",AV12)
A13: KATHARSA HIMAYA | B13: CSB | D13: =IF(ISBLANK(C13),"",VLOOKUP(C13,MF_60_m,2)) | E13: 1122 | H13: =IF(ISBLANK(G13),"",VLOOKUP(G13,MF_150_m,2)) | T13: =IF(ISBLANK(S13),"",VLOOKUP(S13,MF_1000_m,2)) | AE13: 400 | AF13: =IF(ISBLANK(AE13),"",VLOOKUP(AE13,MF_LONGUEUR,2)) -> 15 | AN13: =IF(ISBLANK(AM13),"",VLOOKUP(AM13,MF_POIDS,2)) | AP13: =IF(ISBLANK(AO13),"",VLOOKUP(AO13,MF_DISQUE,2)) | AR13: =IF(ISBLANK(AQ13),"",VLOOKUP(AQ13,MF_JAVELOT,2)) | AU13: =IF(ISBLANK(B13),"",COUNTA(AS13,AQ13,AO13,AM13,AK13,AI13,AG13,AE13,AC13,AA13,Y13,W13,U13,S13,Q13,O13,M13,K13,I13,G13,E13,C13)) -> 2 | AV13: =SUM(AT13,AR13,AP13,AN13,AL13,AJ13,AH13,AF13,AD13,AB13,Z13,X13,V13,T13,R13,P13,N13,L13,J13,H13,F13,D13) -> 15 | AZ13: =IF(B13<>($AZ$2),"",AV13) | BA13: =IF(B13<>($BA$2),"",AV13) | BB13: =IF(B13<>($BB$2),"",AV13) | BD13: =IF(B13<>($BD$2),"",AV13) | BE13: =IF(B13<>($BE$2),"",AV13) | BF13: =IF(B13<>($BF$2),"",AV13) | BG13: =IF(B13<>($BG$2),"",AV13) -> 15 | BH13: =IF(B13<>($BH$2),"",AV13) | BI13: =IF(B13<>($BI$2),"",AV13) | BJ13: =IF(B13<>($BJ$2),"",AV13) | BK13: =IF(B13<>($BK$2),"",AV13) | BL13: =IF(B13<>($BL$2),"",AV13) | BM13: =IF(B13<>($BM$2),"",AV13) | BN13: =IF(B13<>($BN$2),"",AV13) | BP13: =IF(B13<>($BP$2),"",AV13)
A14: MESSIAS PACHECO FLAVIE | B14: CSB | D14: =IF(ISBLANK(C14),"",VLOOKUP(C14,MF_60_m,2)) | H14: =IF(ISBLANK(G14),"",VLOOKUP(G14,MF_150_m,2)) | S14: 35126 | T14: =IF(ISBLANK(S14),"",VLOOKUP(S14,MF_1000_m,2)) -> 1 | AF14: =IF(ISBLANK(AE14),"",VLOOKUP(AE14,MF_LONGUEUR,2)) | AN14: =IF(ISBLANK(AM14),"",VLOOKUP(AM14,MF_POIDS,2)) | AP14: =IF(ISBLANK(AO14),"",VLOOKUP(AO14,MF_DISQUE,2)) | AR14: =IF(ISBLANK(AQ14),"",VLOOKUP(AQ14,MF_JAVELOT,2)) | AU14: =IF(ISBLANK(B14),"",COUNTA(AS14,AQ14,AO14,AM14,AK14,AI14,AG14,AE14,AC14,AA14,Y14,W14,U14,S14,Q14,O14,M14,K14,I14,G14,E14,C14)) -> 1 | AV14: =SUM(AT14,AR14,AP14,AN14,AL14,AJ14,AH14,AF14,AD14,AB14,Z14,X14,V14,T14,R14,P14,N14,L14,J14,H14,F14,D14) -> 1 | AZ14: =IF(B14<>($AZ$2),"",AV14) | BA14: =IF(B14<>($BA$2),"",AV14) | BB14: =IF(B14<>($BB$2),"",AV14) | BD14: =IF(B14<>($BD$2),"",AV14) | BE14: =IF(B14<>($BE$2),"",AV14) | BF14: =IF(B14<>($BF$2),"",AV14) | BG14: =IF(B14<>($BG$2),"",AV14) -> 1 | BH14: =IF(B14<>($BH$2),"",AV14) | BI14: =IF(B14<>($BI$2),"",AV14) | BJ14: =IF(B14<>($BJ$2),"",AV14) | BK14: =IF(B14<>($BK$2),"",AV14) | BL14: =IF(B14<>($BL$2),"",AV14) | BM14: =IF(B14<>($BM$2),"",AV14) | BN14: =IF(B14<>($BN$2),"",AV14) | BP14: =IF(B14<>($BP$2),"",AV14)
A15: MOORJEE KAINA | B15: CSB | S15: 35382 | T15: =IF(ISBLANK(S15),"",VLOOKUP(S15,MF_1000_m,2)) -> 1 | AE15: 403 | AF15: =IF(ISBLANK(AE15),"",VLOOKUP(AE15,MF_LONGUEUR,2)) -> 15 | AN15: =IF(ISBLANK(AM15),"",VLOOKUP(AM15,MF_POIDS,2)) | AP15: =IF(ISBLANK(AO15),"",VLOOKUP(AO15,MF_DISQUE,2)) | AR15: =IF(ISBLANK(AQ15),"",VLOOKUP(AQ15,MF_JAVELOT,2)) | AU15: =IF(ISBLANK(B15),"",COUNTA(AS15,AQ15,AO15,AM15,AK15,AI15,AG15,AE15,AC15,AA15,Y15,W15,U15,S15,Q15,O15,M15,K15,I15,G15,E15,C15)) -> 2 | AV15: =SUM(AT15,AR15,AP15,AN15,AL15,AJ15,AH15,AF15,AD15,AB15,Z15,X15,V15,T15,R15,P15,N15,L15,J15,H15,F15,D15) -> 16 | AZ15: =IF(B15<>($AZ$2),"",AV15) | BA15: =IF(B15<>($BA$2),"",AV15) | BB15: =IF(B15<>($BB$2),"",AV15) | BD15: =IF(B15<>($BD$2),"",AV15) | BE15: =IF(B15<>($BE$2),"",AV15) | BF15: =IF(B15<>($BF$2),"",AV15) | BG15: =IF(B15<>($BG$2),"",AV15) -> 16 | BH15: =IF(B15<>($BH$2),"",AV15) | BI15: =IF(B15<>($BI$2),"",AV15) | BJ15: =IF(B15<>($BJ$2),"",AV15) | BK15: =IF(B15<>($BK$2),"",AV15) | BL15: =IF(B15<>($BL$2),"",AV15) | BM15: =IF(B15<>($BM$2),"",AV15) | BN15: =IF(B15<>($BN$2),"",AV15) | BP15: =IF(B15<>($BP$2),"",AV15)
T16: =IF(ISBLANK(S16),"",VLOOKUP(S16,MF_1000_m,2)) | AF16: =IF(ISBLANK(AE16),"",VLOOKUP(AE16,MF_LONGUEUR,2))
D17: =IF(ISBLANK(C17),"",VLOOKUP(C17,MF_60_m,2)) | H17: =IF(ISBLANK(G17),"",VLOOKUP(G17,MF_150_m,2)) | L17: =IF(ISBLANK(K17),"",VLOOKUP(K17,MF_50_m_H_,2)) | N17: =IF(ISBLANK(M17),"",VLOOKUP(M17,MF_60_m_H_,2)) | T17: =IF(ISBLANK(S17),"",VLOOKUP(S17,MF_1000_m,2)) | AF17: =IF(ISBLANK(AE17),"",VLOOKUP(AE17,MF_LONGUEUR,2)) | AN17: =IF(ISBLANK(AM17),"",VLOOKUP(AM17,MF_POIDS,2)) | AU17: =IF(ISBLANK(B17),"",COUNTA(AS17,AQ17,AO17,AM17,AK17,AI17,AG17,AE17,AC17,AA17,Y17,W17,U17,S17,Q17,O17,M17,K17,I17,G17,E17,C17,#REF!)) | AV17: =SUM(AT17,AR17,AP17,AN17,AL17,AJ17,AH17,AF17,AD17,AB17,Z17,X17,V17,T17,R17,P17,N17,L17,J17,H17,F17,D17) -> 0 | AZ17: =IF(B17<>($AZ$2),"",AV17) | BA17: =IF(B17<>($BA$2),"",AV17) | BB17: =IF(B17<>($BB$2),"",AV17) | BC17: =IF(B17<>($BC$2),"",AV17) | BD17: =IF(B17<>($BD$2),"",AV17) | BE17: =IF(B17<>($BE$2),"",AV17) | BF17: =IF(B17<>($BF$2),"",AV17) | BG17: =IF(B17<>($BG$2),"",AV17) | BH17: =IF(B17<>($BH$2),"",AV17) | BI17: =IF(B17<>($BI$2),"",AV17) | BJ17: =IF(B17<>($BJ$2),"",AV17) | BK17: =IF(B17<>($BK$2),"",AV17) | BL17: =IF(B17<>($BL$2),"",AV17) | BM17: =IF(B17<>($BM$2),"",AV17) | BN17: =IF(B17<>($BN$2),"",AV17) | BO17: =IF(B17<>($BO$2),"",AV17) | BP17: =IF(B17<>($BP$2),"",AV17)
D18: =IF(ISBLANK(C18),"",VLOOKUP(C18,MF_60_m,2)) | H18: =IF(ISBLANK(G18),"",VLOOKUP(G18,MF_150_m,2)) | L18: =IF(ISBLANK(K18),"",VLOOKUP(K18,MF_50_m_H_,2)) | N18: =IF(ISBLANK(M18),"",VLOOKUP(M18,MF_60_m_H_,2)) | T18: =IF(ISBLANK(S18),"",VLOOKUP(S18,MF_1000_m,2)) | AF18: =IF(ISBLANK(AE18),"",VLOOKUP(AE18,MF_LONGUEUR,2)) | AN18: =IF(ISBLANK(AM18),"",VLOOKUP(AM18,MF_POIDS,2)) | AU18: =IF(ISBLANK(B18),"",COUNTA(AS18,AQ18,AO18,AM18,AK18,AI18,AG18,AE18,AC18,AA18,Y18,W18,U18,S18,Q18,O18,M18,K18,I18,G18,E18,C18,#REF!)) | AV18: =SUM(AT18,AR18,AP18,AN18,AL18,AJ18,AH18,AF18,AD18,AB18,Z18,X18,V18,T18,R18,P18,N18,L18,J18,H18,F18,D18) -> 0 | AZ18: =IF(B18<>($AZ$2),"",AV18) | BA18: =IF(B18<>($BA$2),"",AV18) | BB18: =IF(B18<>($BB$2),"",AV18) | BC18: =IF(B18<>($BC$2),"",AV18) | BD18: =IF(B18<>($BD$2),"",AV18) | BE18: =IF(B18<>($BE$2),"",AV18) | BF18: =IF(B18<>($BF$2),"",AV18) | BG18: =IF(B18<>($BG$2),"",AV18) | BH18: =IF(B18<>($BH$2),"",AV18) | BI18: =IF(B18<>($BI$2),"",AV18) | BJ18: =IF(B18<>($BJ$2),"",AV18) | BK18: =IF(B18<>($BK$2),"",AV18) | BL18: =IF(B18<>($BL$2),"",AV18) | BM18: =IF(B18<>($BM$2),"",AV18) | BN18: =IF(B18<>($BN$2),"",AV18) | BO18: =IF(B18<>($BO$2),"",AV18) | BP18: =IF(B18<>($BP$2),"",AV18)
D19: =IF(ISBLANK(C19),"",VLOOKUP(C19,MF_60_m,2)) | H19: =IF(ISBLANK(G19),"",VLOOKUP(G19,MF_150_m,2)) | L19: =IF(ISBLANK(K19),"",VLOOKUP(K19,MF_50_m_H_,2)) | N19: =IF(ISBLANK(M19),"",VLOOKUP(M19,MF_60_m_H_,2)) | T19: =IF(ISBLANK(S19),"",VLOOKUP(S19,MF_1000_m,2)) | AF19: =IF(ISBLANK(AE19),"",VLOOKUP(AE19,MF_LONGUEUR,2)) | AN19: =IF(ISBLANK(AM19),"",VLOOKUP(AM19,MF_POIDS,2)) | AU19: =IF(ISBLANK(B19),"",COUNTA(AS19,AQ19,AO19,AM19,AK19,AI19,AG19,AE19,AC19,AA19,Y19,W19,U19,S19,Q19,O19,M19,K19,I19,G19,E19,C19,#REF!)) | AV19: =SUM(AT19,AR19,AP19,AN19,AL19,AJ19,AH19,AF19,AD19,AB19,Z19,X19,V19,T19,R19,P19,N19,L19,J19,H19,F19,D19) -> 0 | AZ19: =IF(B19<>($AZ$2),"",AV19) | BA19: =IF(B19<>($BA$2),"",AV19) | BB19: =IF(B19<>($BB$2),"",AV19) | BC19: =IF(B19<>($BC$2),"",AV19) | BD19: =IF(B19<>($BD$2),"",AV19) | BE19: =IF(B19<>($BE$2),"",AV19) | BF19: =IF(B19<>($BF$2),"",AV19) | BG19: =IF(B19<>($BG$2),"",AV19) | BH19: =IF(B19<>($BH$2),"",AV19) | BI19: =IF(B19<>($BI$2),"",AV19) | BJ19: =IF(B19<>($BJ$2),"",AV19) | BK19: =IF(B19<>($BK$2),"",AV19) | BL19: =IF(B19<>($BL$2),"",AV19) | BM19: =IF(B19<>($BM$2),"",AV19) | BN19: =IF(B19<>($BN$2),"",AV19) | BO19: =IF(B19<>($BO$2),"",AV19) | BP19: =IF(B19<>($BP$2),"",AV19)
A20: FINALE
A21: HORRA SHAHRAZADE | B21: COMA | D21: =IF(ISBLANK(C21),"",VLOOKUP(C21,MF_60_m,2)) | E21: 1335 | F21: =IF(ISBLANK(E21),"",VLOOKUP(E21,MF_80_m,2)) -> 1 | H21: =IF(ISBLANK(G21),"",VLOOKUP(G21,MF_150_m,2)) | L21: =IF(ISBLANK(K21),"",VLOOKUP(K21,MF_50_m_H_,2)) | N21: =IF(ISBLANK(M21),"",VLOOKUP(M21,MF_60_m_H_,2)) | T21: =IF(ISBLANK(S21),"",VLOOKUP(S21,MF_1000_m,2)) | AF21: =IF(ISBLANK(AE21),"",VLOOKUP(AE21,MF_LONGUEUR,2)) | AL21: =IF(ISBLANK(AK21),"",VLOOKUP(AK21,MF_PERCHE,2)) | AN21: =IF(ISBLANK(AM21),"",VLOOKUP(AM21,MF_POIDS,2)) | AP21: =IF(ISBLANK(AO21),"",VLOOKUP(AO21,MF_DISQUE,2)) | AR21: =IF(ISBLANK(AQ21),"",VLOOKUP(AQ21,MF_JAVELOT,2)) | AU21: =IF(ISBLANK(B21),"",COUNTA(AS21,AQ21,AO21,AM21,AK21,AI21,AG21,AE21,AC21,AA21,Y21,W21,U21,S21,Q21,O21,M21,K21,I21,G21,E21,C21)) -> 1 | AV21: =SUM(AT21,AR21,AP21,AN21,AL21,AJ21,AH21,AF21,AD21,AB21,Z21,X21,V21,T21,R21,P21,N21,L21,J21,H21,F21,D21) -> 1 | AY21: =IF(B21<>($AY$2),"",AV21) | AZ21: =IF(B21<>($AZ$2),"",AV21) | BA21: =IF(B21<>($BA$2),"",AV21) | BB21: =IF(B21<>($BB$2),"",AV21) | BC21: =IF(B21<>($BC$2),"",AV21) | BD21: =IF(B21<>($BD$2),"",AV21) | BE21: =IF(B21<>($BE$2),"",AV21) | BF21: =IF(B21<>($BF$2),"",AV21) -> 1 | BG21: =IF(B21<>($BG$2),"",AV21) | BH21: =IF(B21<>($BH$2),"",AV21) | BI21: =IF(B21<>($BI$2),"",AV21) | BJ21: =IF(B21<>($BJ$2),"",AV21) | BK21: =IF(B21<>($BK$2),"",AV21) | BL21: =IF(B21<>($BL$2),"",AV21) | BM21: =IF(B21<>($BM$2),"",AV21) | BN21: =IF(B21<>($BN$2),"",AV21) | BO21: =IF(B21<>($BO$2),"",AV21) | BP21: =IF(B21<>($BP$2),"",AV21) | BQ21: =IF(B21<>($BQ$2),"",AV21)
A22: LANGLOIS CLEMENCE | B22: ESS | D22: =IF(ISBLANK(C22),"",VLOOKUP(C22,MF_60_m,2)) | E22: 1236 | F22: =IF(ISBLANK(E22),"",VLOOKUP(E22,MF_80_m,2)) -> 1 | H22: =IF(ISBLANK(G22),"",VLOOKUP(G22,MF_150_m,2)) | L22: =IF(ISBLANK(K22),"",VLOOKUP(K22,MF_50_m_H_,2)) | N22: =IF(ISBLANK(M22),"",VLOOKUP(M22,MF_60_m_H_,2)) | T22: =IF(ISBLANK(S22),"",VLOOKUP(S22,MF_1000_m,2)) | AR22: =IF(ISBLANK(AQ22),"",VLOOKUP(AQ22,MF_JAVELOT,2)) | AU22: =IF(ISBLANK(B22),"",COUNTA(AS22,AQ22,AO22,AM22,AK22,AI22,AG22,AE22,AC22,AA22,Y22,W22,U22,S22,Q22,O22,M22,K22,I22,G22,E22,C22)) -> 1 | AV22: =SUM(AT22,AR22,AP22,AN22,AL22,AJ22,AH22,AF22,AD22,AB22,Z22,X22,V22,T22,R22,P22,N22,L22,J22,H22,F22,D22) -> 1 | AZ22: =IF(B22<>($AZ$2),"",AV22) | BA22: =IF(B22<>($BA$2),"",AV22) | BB22: =IF(B22<>($BB$2),"",AV22) | BD22: =IF(B22<>($BD$2),"",AV22) | BE22: =IF(B22<>($BE$2),"",AV22) | BF22: =IF(B22<>($BF$2),"",AV22) | BG22: =IF(B22<>($BG$2),"",AV22) | BH22: =IF(B22<>($BH$2),"",AV22) | BI22: =IF(B22<>($BI$2),"",AV22) | BJ22: =IF(B22<>($BJ$2),"",AV22) -> 1 | BK22: =IF(B22<>($BK$2),"",AV22) | BL22: =IF(B22<>($BL$2),"",AV22) | BM22: =IF(B22<>($BM$2),"",AV22) | BN22: =IF(B22<>($BN$2),"",AV22) | BP22: =IF(B22<>($BP$2),"",AV22)
AX24: Nombre Athlètes | AY24: =COUNTIF($B$4:$B19,AY2) -> 0 | AZ24: =COUNTIF($B$4:$B19,AZ2) -> 0 | BA24: =COUNTIF($B$4:$B19,BA2) -> 2 | BB24: =COUNTIF($B$4:$B19,BB2) -> 0 | BC24: =COUNTIF($B$4:$B19,BC2) -> 0 | BD24: =COUNTIF($B$4:$B19,BD2) -> 0 | BE24: =COUNTIF($B$4:$B19,BE2) -> 0 | BF24: =COUNTIF($B$4:$B19,BF2) -> 2 | ... BQ24: =COUNTIF($B$4:$B19,BQ2) -> 0

Sheet MiM
A1: MINIMES GARCONS
A2: NOM | B2: CLUB | C2: 60 m | E2: 80 m | G2: 150 m | I2: 300 m | K2: 50 haies | M2: 60 haies | O2: 80 m haies | Q2: 500 m | S2: 1000 m | U2: 2000 m | W2: 3000 m | Y2: 1 km marche | AA2: 2 km marche | AC2: 3 km marche | AE2: Longueur | AG2: Triple saut | AI2: Hauteur | AK2: Perche | AM2: Poids 3 kg | AO2: Disque | AQ2: Javelot 500 gr | AS2: Marteau 3 kg | AU2: Nombre | AV2: TOTAL | AW2: PLACE | AY2: =POINTS!B3 -> ABDO | AZ2: =POINTS!C3 -> MASC | BA2: =POINTS!D3 -> ASGB | BB2: =POINTS!E3 -> BMSA | BC2: MS | BD2: =POINTS!G3 -> CMA | BE2: =POINTS!H3 -> ACMA | BF2: =POINTS!I3 -> COMA | BG2: =POINTS!J3 -> CSB | BH2: =POINTS!K3 -> ESV | BI2: =POINTS!L3 -> ESCXV | BJ2: =POINTS!M3 -> ESS | BK2: =POINTS!N3 -> NLSA | ... BP2: =POINTS!S3 -> USMA | BQ2: USOB
C3: Perf. | D3: Pts | E3: Perf. | F3: Pts | G3: Perf. | H3: Pts | I3: Perf. | J3: Pts | K3: Perf. | L3: Pts | M3: Perf. | N3: Pts | O3: Perf. | P3: Pts | Q3: Perf. | R3: Pts | S3: Perf. | T3: Pts | U3: Perf. | V3: Pts | W3: Perf. | X3: Pts | Y3: Perf. | Z3: Pts | AA3: Perf. | AB3: Pts | AC3: Perf. | AD3: Pts | AE3: Perf. | AF3: Pts | AG3: Perf. | AH3: Pts | AI3: Perf. | AJ3: Pts | AK3: Perf. | AL3: Pts | AM3: Perf. | AN3: Pts | AO3: Perf. | AP3: Pts | AQ3: Perf. | AR3: Pts | AS3: Perf. | AT3: Pts | AU3: Epr.
A4: BARADJI MAMADY | B4: SDUS | D4: =IF(ISBLANK(C4),"",VLOOKUP(C4,MF_60_m,2)) | F4: =IF(ISBLANK(E4),"",VLOOKUP(E4,MF_80_m,2)) | H4: =IF(ISBLANK(G4),"",VLOOKUP(G4,MF_150_m,2)) | L4: =IF(ISBLANK(K4),"",VLOOKUP(K4,MF_50_m_H_,2)) | N4: =IF(ISBLANK(M4),"",VLOOKUP(M4,MF_60_m_H_,2)) | T4: =IF(ISBLANK(S4),"",VLOOKUP(S4,MF_1000_m,2)) | AE4: 401 | AF4: =IF(ISBLANK(AE4),"",VLOOKUP(AE4,MF_LONGUEUR,2)) -> 15 | AL4: =IF(ISBLANK(AK4),"",VLOOKUP(AK4,MF_PERCHE,2)) | AN4: =IF(ISBLANK(AM4),"",VLOOKUP(AM4,MF_POIDS,2)) | AP4: =IF(ISBLANK(AO4),"",VLOOKUP(AO4,MF_DISQUE,2)) | AR4: =IF(ISBLANK(AQ4),"",VLOOKUP(AQ4,MF_JAVELOT,2)) | AU4: =IF(ISBLANK(B4),"",COUNTA(AS4,AQ4,AO4,AM4,AK4,AI4,AG4,AE4,AC4,AA4,Y4,W4,U4,S4,Q4,O4,M4,K4,I4,G4,E4,C4)) -> 1 | AV4: =SUM(AT4,AR4,AP4,AN4,AL4,AJ4,AH4,AF4,AD4,AB4,Z4,X4,V4,T4,R4,P4,N4,L4,J4,H4,F4,D4) -> 15 | AY4: =IF(B4<>($AY$2),"",AV4) | AZ4: =IF(B4<>($AZ$2),"",AV4) | BA4: =IF(B4<>($BA$2),"",AV4) | BB4: =IF(B4<>($BB$2),"",AV4) | BC4: =IF(B4<>($BC$2),"",AV4) | BD4: =IF(B4<>($BD$2),"",AV4) | BE4: =IF(B4<>($BE$2),"",AV4) | BF4: =IF(B4<>($BF$2),"",AV4) | BG4: =IF(B4<>($BG$2),"",AV4) | BH4: =IF(B4<>($BH$2),"",AV4) | BI4: =IF(B4<>($BI$2),"",AV4) | BJ4: =IF(B4<>($BJ$2),"",AV4) | BK4: =IF(B4<>($BK$2),"",AV4) | BL4: =IF(B4<>($BL$2),"",AV4) -> 15 | BM4: =IF(B4<>($BM$2),"",AV4) | BN4: =IF(B4<>($BN$2),"",AV4) | BO4: =IF(B4<>($BO$2),"",AV4) | BP4: =IF(B4<>($BP$2),"",AV4) | BQ4: =IF(B4<>($BQ$2),"",AV4)
A5: PELESTIN SULLYVAN | B5: ESS | D5: =IF(ISBLANK(C5),"",VLOOKUP(C5,MF_60_m,2)) | E5: 991 | F5: =IF(ISBLANK(E5),"",VLOOKUP(E5,MF_80_m,2)) -> 1 | H5: =IF(ISBLANK(G5),"",VLOOKUP(G5,MF_150_m,2)) | L5: =IF(ISBLANK(K5),"",VLOOKUP(K5,MF_50_m_H_,2)) | N5: =IF(ISBLANK(M5),"",VLOOKUP(M5,MF_60_m_H_,2)) | T5: =IF(ISBLANK(S5),"",VLOOKUP(S5,MF_1000_m,2)) | AE5: 557 | AF5: =IF(ISBLANK(AE5),"",VLOOKUP(AE5,MF_LONGUEUR,2)) -> 25 | AL5: =IF(ISBLANK(AK5),"",VLOOKUP(AK5,MF_PERCHE,2)) | AN5: =IF(ISBLANK(AM5),"",VLOOKUP(AM5,MF_POIDS,2)) | AP5: =IF(ISBLANK(AO5),"",VLOOKUP(AO5,MF_DISQUE,2)) | AR5: =IF(ISBLANK(AQ5),"",VLOOKUP(AQ5,MF_JAVELOT,2)) | AU5: =IF(ISBLANK(B5),"",COUNTA(AS5,AQ5,AO5,AM5,AK5,AI5,AG5,AE5,AC5,AA5,Y5,W5,U5,S5,Q5,O5,M5,K5,I5,G5,E5,C5)) -> 2 | AV5: =SUM(AT5,AR5,AP5,AN5,AL5,AJ5,AH5,AF5,AD5,AB5,Z5,X5,V5,T5,R5,P5,N5,L5,J5,H5,F5,D5) -> 26 | AY5: =IF(B5<>($AY$2),"",AV5) | AZ5: =IF(B5<>($AZ$2),"",AV5) | BA5: =IF(B5<>($BA$2),"",AV5) | BB5: =IF(B5<>($BB$2),"",AV5) | BC5: =IF(B5<>($BC$2),"",AV5) | BD5: =IF(B5<>($BD$2),"",AV5) | BE5: =IF(B5<>($BE$2),"",AV5) | BF5: =IF(B5<>($BF$2),"",AV5) | BG5: =IF(B5<>($BG$2),"",AV5) | BH5: =IF(B5<>($BH$2),"",AV5) | BI5: =IF(B5<>($BI$2),"",AV5) | BJ5: =IF(B5<>($BJ$2),"",AV5) -> 26 | BK5: =IF(B5<>($BK$2),"",AV5) | BL5: =IF(B5<>($BL$2),"",AV5) | BM5: =IF(B5<>($BM$2),"",AV5) | BN5: =IF(B5<>($BN$2),"",AV5) | BO5: =IF(B5<>($BO$2),"",AV5) | BP5: =IF(B5<>($BP$2),"",AV5) | BQ5: =IF(B5<>($BQ$2),"",AV5)
A6: RENAUDIN LANCELOT | B6: ASGB | D6: =IF(ISBLANK(C6),"",VLOOKUP(C6,MF_60_m,2)) | F6: =IF(ISBLANK(E6),"",VLOOKUP(E6,MF_80_m,2)) | H6: =IF(ISBLANK(G6),"",VLOOKUP(G6,MF_150_m,2)) | L6: =IF(ISBLANK(K6),"",VLOOKUP(K6,MF_50_m_H_,2)) | N6: =IF(ISBLANK(M6),"",VLOOKUP(M6,MF_60_m_H_,2)) | S6: 30706 | T6: =IF(ISBLANK(S6),"",VLOOKUP(S6,MF_1000_m,2)) -> 1 | AF6: =IF(ISBLANK(AE6),"",VLOOKUP(AE6,MF_LONGUEUR,2)) | AL6: =IF(ISBLANK(AK6),"",VLOOKUP(AK6,MF_PERCHE,2)) | AN6: =IF(ISBLANK(AM6),"",VLOOKUP(AM6,MF_POIDS,2)) | AP6: =IF(ISBLANK(AO6),"",VLOOKUP(AO6,MF_DISQUE,2)) | AR6: =IF(ISBLANK(AQ6),"",VLOOKUP(AQ6,MF_JAVELOT,2)) | AU6: =IF(ISBLANK(B6),"",COUNTA(AS6,AQ6,AO6,AM6,AK6,AI6,AG6,AE6,AC6,AA6,Y6,W6,U6,S6,Q6,O6,M6,K6,I6,G6,E6,C6)) -> 1 | AV6: =SUM(AT6,AR6,AP6,AN6,AL6,AJ6,AH6,AF6,AD6,AB6,Z6,X6,V6,T6,R6,P6,N6,L6,J6,H6,F6,D6) -> 1 | AY6: =IF(B6<>($AY$2),"",AV6) | AZ6: =IF(B6<>($AZ$2),"",AV6) | BA6: =IF(B6<>($BA$2),"",AV6) -> 1 | BB6: =IF(B6<>($BB$2),"",AV6) | BC6: =IF(B6<>($BC$2),"",AV6) | BD6: =IF(B6<>($BD$2),"",AV6) | BE6: =IF(B6<>($BE$2),"",AV6) | BF6: =IF(B6<>($BF$2),"",AV6) | BG6: =IF(B6<>($BG$2),"",AV6) | BH6: =IF(B6<>($BH$2),"",AV6) | BI6: =IF(B6<>($BI$2),"",AV6) | BJ6: =IF(B6<>($BJ$2),"",AV6) | BK6: =IF(B6<>($BK$2),"",AV6) | BL6: =IF(B6<>($BL$2),"",AV6) | BM6: =IF(B6<>($BM$2),"",AV6) | BN6: =IF(B6<>($BN$2),"",AV6) | BO6: =IF(B6<>($BO$2),"",AV6) | BP6: =IF(B6<>($BP$2),"",AV6) | BQ6: =IF(B6<>($BQ$2),"",AV6)
A7: HULIN DYLAN | B7: CSB | D7: =IF(ISBLANK(C7),"",VLOOKUP(C7,MF_60_m,2)) | E7: 1096 | F7: =IF(ISBLANK(E7),"",VLOOKUP(E7,MF_80_m,2)) -> 1 | H7: =IF(ISBLANK(G7),"",VLOOKUP(G7,MF_150_m,2)) | L7: =IF(ISBLANK(K7),"",VLOOKUP(K7,MF_50_m_H_,2)) | N7: =IF(ISBLANK(M7),"",VLOOKUP(M7,MF_60_m_H_,2)) | T7: =IF(ISBLANK(S7),"",VLOOKUP(S7,MF_1000_m,2)) | AF7: =IF(ISBLANK(AE7),"",VLOOKUP(AE7,MF_LONGUEUR,2)) | AI7: 135 | AL7: =IF(ISBLANK(AK7),"",VLOOKUP(AK7,MF_PERCHE,2)) | AN7: =IF(ISBLANK(AM7),"",VLOOKUP(AM7,MF_POIDS,2)) | AP7: =IF(ISBLANK(AO7),"",VLOOKUP(AO7,MF_DISQUE,2)) | AR7: =IF(ISBLANK(AQ7),"",VLOOKUP(AQ7,MF_JAVELOT,2)) | AU7: =IF(ISBLANK(B7),"",COUNTA(AS7,AQ7,AO7,AM7,AK7,AI7,AG7,AE7,AC7,AA7,Y7,W7,U7,S7,Q7,O7,M7,K7,I7,G7,E7,C7)) -> 2 | AV7: =SUM(AT7,AR7,AP7,AN7,AL7,AJ7,AH7,AF7,AD7,AB7,Z7,X7,V7,T7,R7,P7,N7,L7,J7,H7,F7,D7) -> 1 | AY7: =IF(B7<>($AY$2),"",AV7) | AZ7: =IF(B7<>($AZ$2),"",AV7) | BA7: =IF(B7<>($BA$2),"",AV7) | BB7: =IF(B7<>($BB$2),"",AV7) | BC7: =IF(B7<>($BC$2),"",AV7) | BD7: =IF(B7<>($BD$2),"",AV7) | BE7: =IF(B7<>($BE$2),"",AV7) | BF7: =IF(B7<>($BF$2),"",AV7) | BG7: =IF(B7<>($BG$2),"",AV7) -> 1 | BH7: =IF(B7<>($BH$2),"",AV7) | BI7: =IF(B7<>($BI$2),"",AV7) | BJ7: =IF(B7<>($BJ$2),"",AV7) | BK7: =IF(B7<>($BK$2),"",AV7) | BL7: =IF(B7<>($BL$2),"",AV7) | BM7: =IF(B7<>($BM$2),"",AV7) | BN7: =IF(B7<>($BN$2),"",AV7) | BO7: =IF(B7<>($BO$2),"",AV7) | BP7: =IF(B7<>($BP$2),"",AV7) | BQ7: =IF(B7<>($BQ$2),"",AV7)
A8: RENAUDIN TOM | B8: ASGB | D8: =IF(ISBLANK(C8),"",VLOOKUP(C8,MF_60_m,2)) | F8: =IF(ISBLANK(E8),"",VLOOKUP(E8,MF_80_m,2)) | H8: =IF(ISBLANK(G8),"",VLOOKUP(G8,MF_150_m,2)) | L8: =IF(ISBLANK(K8),"",VLOOKUP(K8,MF_50_m_H_,2)) | N8: =IF(ISBLANK(M8),"",VLOOKUP(M8,MF_60_m_H_,2)) | T8: =IF(ISBLANK(S8),"",VLOOKUP(S8,MF_1000_m,2)) | AE8: 527 | AF8: =IF(ISBLANK(AE8),"",VLOOKUP(AE8,MF_LONGUEUR,2)) -> 24 | AL8: =IF(ISBLANK(AK8),"",VLOOKUP(AK8,MF_PERCHE,2)) | AN8: =IF(ISBLANK(AM8),"",VLOOKUP(AM8,MF_POIDS,2)) | AO8: 1901 | AP8: =IF(ISBLANK(AO8),"",VLOOKUP(AO8,MF_DISQUE,2)) -> 14 | AQ8: 1810 | AR8: =IF(ISBLANK(AQ8),"",VLOOKUP(AQ8,MF_JAVELOT,2)) -> 13 | AU8: =IF(ISBLANK(B8),"",COUNTA(AS8,AQ8,AO8,AM8,AK8,AI8,AG8,AE8,AC8,AA8,Y8,W8,U8,S8,Q8,O8,M8,K8,I8,G8,E8,C8)) -> 3 | AV8: =SUM(AT8,AR8,AP8,AN8,AL8,AJ8,AH8,AF8,AD8,AB8,Z8,X8,V8,T8,R8,P8,N8,L8,J8,H8,F8,D8) -> 51 | AZ8: =IF(B8<>($AZ$2),"",AV8) | BA8: =IF(B8<>($BA$2),"",AV8) -> 51 | BB8: =IF(B8<>($BB$2),"",AV8) | BD8: =IF(B8<>($BD$2),"",AV8) | BE8: =IF(B8<>($BE$2),"",AV8) | BF8: =IF(B8<>($BF$2),"",AV8) | BG8: =IF(B8<>($BG$2),"",AV8) | BH8: =IF(B8<>($BH$2),"",AV8) | BI8: =IF(B8<>($BI$2),"",AV8) | BJ8: =IF(B8<>($BJ$2),"",AV8) | BK8: =IF(B8<>($BK$2),"",AV8) | BL8: =IF(B8<>($BL$2),"",AV8) | BM8: =IF(B8<>($BM$2),"",AV8) | BN8: =IF(B8<>($BN$2),"",AV8) | BP8: =IF(B8<>($BP$2),"",AV8)
A9: CAMTOBION JAYSON | B9: SDUS | D9: =IF(ISBLANK(C9),"",VLOOKUP(C9,MF_60_m,2)) | E9: 1110 | H9: =IF(ISBLANK(G9),"",VLOOKUP(G9,MF_150_m,2)) | L9: =IF(ISBLANK(K9),"",VLOOKUP(K9,MF_50_m_H_,2)) | N9: =IF(ISBLANK(M9),"",VLOOKUP(M9,MF_60_m_H_,2)) | T9: =IF(ISBLANK(S9),"",VLOOKUP(S9,MF_1000_m,2)) | AF9: =IF(ISBLANK(AE9),"",VLOOKUP(AE9,MF_LONGUEUR,2)) | AN9: =IF(ISBLANK(AM9),"",VLOOKUP(AM9,MF_POIDS,2)) | AP9: =IF(ISBLANK(AO9),"",VLOOKUP(AO9,MF_DISQUE,2)) | AR9: =IF(ISBLANK(AQ9),"",VLOOKUP(AQ9,MF_JAVELOT,2)) | AU9: =IF(ISBLANK(B9),"",COUNTA(AS9,AQ9,AO9,AM9,AK9,AI9,AG9,AE9,AC9,AA9,Y9,W9,U9,S9,Q9,O9,M9,K9,I9,G9,E9,C9)) -> 1 | AV9: =SUM(AT9,AR9,AP9,AN9,AL9,AJ9,AH9,AF9,AD9,AB9,Z9,X9,V9,T9,R9,P9,N9,L9,J9,H9,F9,D9) -> 0 | AZ9: =IF(B9<>($AZ$2),"",AV9) | BA9: =IF(B9<>($BA$2),"",AV9) | BB9: =IF(B9<>($BB$2),"",AV9) | BD9: =IF(B9<>($BD$2),"",AV9) | BE9: =IF(B9<>($BE$2),"",AV9) | BF9: =IF(B9<>($BF$2),"",AV9) | BG9: =IF(B9<>($BG$2),"",AV9) | BH9: =IF(B9<>($BH$2),"",AV9) | BI9: =IF(B9<>($BI$2),"",AV9) | BJ9: =IF(B9<>($BJ$2),"",AV9) | BK9: =IF(B9<>($BK$2),"",AV9) | BL9: =IF(B9<>($BL$2),"",AV9) -> 0 | BM9: =IF(B9<>($BM$2),"",AV9) | BN9: =IF(B9<>($BN$2),"",AV9) | BP9: =IF(B9<>($BP$2),"",AV9)
AR10: =IF(ISBLANK(AQ10),"",VLOOKUP(AQ10,MF_JAVELOT,2)) | AU10: =IF(ISBLANK(B10),"",COUNTA(AS10,AQ10,AO10,AM10,AK10,AI10,AG10,AE10,AC10,AA10,Y10,W10,U10,S10,Q10,O10,M10,K10,I10,G10,E10,C10)) | AV10: =SUM(AT10,AR10,AP10,AN10,AL10,AJ10,AH10,AF10,AD10,AB10,Z10,X10,V10,T10,R10,P10,N10,L10,J10,H10,F10,D10) -> 0 | AZ10: =IF(B10<>($AZ$2),"",AV10) | BA10: =IF(B10<>($BA$2),"",AV10) | BB10: =IF(B10<>($BB$2),"",AV10) | BD10: =IF(B10<>($BD$2),"",AV10) | BE10: =IF(B10<>($BE$2),"",AV10) | BF10: =IF(B10<>($BF$2),"",AV10) | BG10: =IF(B10<>($BG$2),"",AV10) | BH10: =IF(B10<>($BH$2),"",AV10) | BI10: =IF(B10<>($BI$2),"",AV10) | BJ10: =IF(B10<>($BJ$2),"",AV10) | BK10: =IF(B10<>($BK$2),"",AV10) | BL10: =IF(B10<>($BL$2),"",AV10) | BM10: =IF(B10<>($BM$2),"",AV10) | BN10: =IF(B10<>($BN$2),"",AV10) | BP10: =IF(B10<>($BP$2),"",AV10)
AR11: =IF(ISBLANK(AQ11),"",VLOOKUP(AQ11,MF_JAVELOT,2)) | AU11: =IF(ISBLANK(B11),"",COUNTA(AS11,AQ11,AO11,AM11,AK11,AI11,AG11,AE11,AC11,AA11,Y11,W11,U11,S11,Q11,O11,M11,K11,I11,G11,E11,C11)) | AV11: =SUM(AT11,AR11,AP11,AN11,AL11,AJ11,AH11,AF11,AD11,AB11,Z11,X11,V11,T11,R11,P11,N11,L11,J11,H11,F11,D11) -> 0 | AZ11: =IF(B11<>($AZ$2),"",AV11) | BA11: =IF(B11<>($BA$2),"",AV11) | BB11: =IF(B11<>($BB$2),"",AV11) | BD11: =IF(B11<>($BD$2),"",AV11) | BE11: =IF(B11<>($BE$2),"",AV11) | BF11: =IF(B11<>($BF$2),"",AV11) | BG11: =IF(B11<>($BG$2),"",AV11) | BH11: =IF(B11<>($BH$2),"",AV11) | BI11: =IF(B11<>($BI$2),"",AV11) | BJ11: =IF(B11<>($BJ$2),"",AV11) | BK11: =IF(B11<>($BK$2),"",AV11) | BL11: =IF(B11<>($BL$2),"",AV11) | BM11: =IF(B11<>($BM$2),"",AV11) | BN11: =IF(B11<>($BN$2),"",AV11) | BP11: =IF(B11<>($BP$2),"",AV11)
AR12: =IF(ISBLANK(AQ12),"",VLOOKUP(AQ12,MF_JAVELOT,2)) | AU12: =IF(ISBLANK(B12),"",COUNTA(AS12,AQ12,AO12,AM12,AK12,AI12,AG12,AE12,AC12,AA12,Y12,W12,U12,S12,Q12,O12,M12,K12,I12,G12,E12,C12)) | AV12: =SUM(AT12,AR12,AP12,AN12,AL12,AJ12,AH12,AF12,AD12,AB12,Z12,X12,V12,T12,R12,P12,N12,L12,J12,H12,F12,D12) -> 0 | AZ12: =IF(B12<>($AZ$2),"",AV12) | BA12: =IF(B12<>($BA$2),"",AV12) | BB12: =IF(B12<>($BB$2),"",AV12) | BD12: =IF(B12<>($BD$2),"",AV12) | BE12: =IF(B12<>($BE$2),"",AV12) | BF12: =IF(B12<>($BF$2),"",AV12) | BG12: =IF(B12<>($BG$2),"",AV12) | BH12: =IF(B12<>($BH$2),"",AV12) | BI12: =IF(B12<>($BI$2),"",AV12) | BJ12: =IF(B12<>($BJ$2),"",AV12) | BK12: =IF(B12<>($BK$2),"",AV12) | BL12: =IF(B12<>($BL$2),"",AV12) | BM12: =IF(B12<>($BM$2),"",AV12) | BN12: =IF(B12<>($BN$2),"",AV12) | BP12: =IF(B12<>($BP$2),"",AV12)
AR13: =IF(ISBLANK(AQ13),"",VLOOKUP(AQ13,MF_JAVELOT,2)) | AU13: =IF(ISBLANK(B13),"",COUNTA(AS13,AQ13,AO13,AM13,AK13,AI13,AG13,AE13,AC13,AA13,Y13,W13,U13,S13,Q13,O13,M13,K13,I13,G13,E13,C13)) | AV13: =SUM(AT13,AR13,AP13,AN13,AL13,AJ13,AH13,AF13,AD13,AB13,Z13,X13,V13,T13,R13,P13,N13,L13,J13,H13,F13,D13) -> 0 | AZ13: =IF(B13<>($AZ$2),"",AV13) | BA13: =IF(B13<>($BA$2),"",AV13) | BB13: =IF(B13<>($BB$2),"",AV13) | BD13: =IF(B13<>($BD$2),"",AV13) | BE13: =IF(B13<>($BE$2),"",AV13) | BF13: =IF(B13<>($BF$2),"",AV13) | BG13: =IF(B13<>($BG$2),"",AV13) | BH13: =IF(B13<>($BH$2),"",AV13) | BI13: =IF(B13<>($BI$2),"",AV13) | BJ13: =IF(B13<>($BJ$2),"",AV13) | BK13: =IF(B13<>($BK$2),"",AV13) | BL13: =IF(B13<>($BL$2),"",AV13) | BM13: =IF(B13<>($BM$2),"",AV13) | BN13: =IF(B13<>($BN$2),"",AV13) | BP13: =IF(B13<>($BP$2),"",AV13)
AR14: =IF(ISBLANK(AQ14),"",VLOOKUP(AQ14,MF_JAVELOT,2)) | AU14: =IF(ISBLANK(B14),"",COUNTA(AS14,AQ14,AO14,AM14,AK14,AI14,AG14,AE14,AC14,AA14,Y14,W14,U14,S14,Q14,O14,M14,K14,I14,G14,E14,C14)) | AV14: =SUM(AT14,AR14,AP14,AN14,AL14,AJ14,AH14,AF14,AD14,AB14,Z14,X14,V14,T14,R14,P14,N14,L14,J14,H14,F14,D14) -> 0 | AZ14: =IF(B14<>($AZ$2),"",AV14) | BA14: =IF(B14<>($BA$2),"",AV14) | BB14: =IF(B14<>($BB$2),"",AV14) | BD14: =IF(B14<>($BD$2),"",AV14) | BE14: =IF(B14<>($BE$2),"",AV14) | BF14: =IF(B14<>($BF$2),"",AV14) | BG14: =IF(B14<>($BG$2),"",AV14) | BH14: =IF(B14<>($BH$2),"",AV14) | BI14: =IF(B14<>($BI$2),"",AV14) | BJ14: =IF(B14<>($BJ$2),"",AV14) | BK14: =IF(B14<>($BK$2),"",AV14) | BL14: =IF(B14<>($BL$2),"",AV14) | BM14: =IF(B14<>($BM$2),"",AV14) | BN14: =IF(B14<>($BN$2),"",AV14) | BP14: =IF(B14<>($BP$2),"",AV14)
AR15: =IF(ISBLANK(AQ15),"",VLOOKUP(AQ15,MF_JAVELOT,2)) | AU15: =IF(ISBLANK(B15),"",COUNTA(AS15,AQ15,AO15,AM15,AK15,AI15,AG15,AE15,AC15,AA15,Y15,W15,U15,S15,Q15,O15,M15,K15,I15,G15,E15,C15)) | AV15: =SUM(AT15,AR15,AP15,AN15,AL15,AJ15,AH15,AF15,AD15,AB15,Z15,X15,V15,T15,R15,P15,N15,L15,J15,H15,F15,D15) -> 0 | AZ15: =IF(B15<>($AZ$2),"",AV15) | BA15: =IF(B15<>($BA$2),"",AV15) | BB15: =IF(B15<>($BB$2),"",AV15) | BD15: =IF(B15<>($BD$2),"",AV15) | BE15: =IF(B15<>($BE$2),"",AV15) | BF15: =IF(B15<>($BF$2),"",AV15) | BG15: =IF(B15<>($BG$2),"",AV15) | BH15: =IF(B15<>($BH$2),"",AV15) | BI15: =IF(B15<>($BI$2),"",AV15) | BJ15: =IF(B15<>($BJ$2),"",AV15) | BK15: =IF(B15<>($BK$2),"",AV15) | BL15: =IF(B15<>($BL$2),"",AV15) | BM15: =IF(B15<>($BM$2),"",AV15) | BN15: =IF(B15<>($BN$2),"",AV15) | BP15: =IF(B15<>($BP$2),"",AV15)
T16: =IF(ISBLANK(S16),"",VLOOKUP(S16,MF_1000_m,2)) | AF16: =IF(ISBLANK(AE16),"",VLOOKUP(AE16,MF_LONGUEUR,2))
D17: =IF(ISBLANK(C17),"",VLOOKUP(C17,MF_60_m,2)) | H17: =IF(ISBLANK(G17),"",VLOOKUP(G17,MF_150_m,2)) | L17: =IF(ISBLANK(K17),"",VLOOKUP(K17,MF_50_m_H_,2)) | N17: =IF(ISBLANK(M17),"",VLOOKUP(M17,MF_60_m_H_,2)) | T17: =IF(ISBLANK(S17),"",VLOOKUP(S17,MF_1000_m,2)) | AF17: =IF(ISBLANK(AE17),"",VLOOKUP(AE17,MF_LONGUEUR,2)) | AN17: =IF(ISBLANK(AM17),"",VLOOKUP(AM17,MF_POIDS,2)) | AU17: =IF(ISBLANK(B17),"",COUNTA(AS17,AQ17,AO17,AM17,AK17,AI17,AG17,AE17,AC17,AA17,Y17,W17,U17,S17,Q17,O17,M17,K17,I17,G17,E17,C17,#REF!)) | AV17: =SUM(AT17,AR17,AP17,AN17,AL17,AJ17,AH17,AF17,AD17,AB17,Z17,X17,V17,T17,R17,P17,N17,L17,J17,H17,F17,D17) -> 0 | AZ17: =IF(B17<>($AZ$2),"",AV17) | BA17: =IF(B17<>($BA$2),"",AV17) | BB17: =IF(B17<>($BB$2),"",AV17) | BC17: =IF(B17<>($BC$2),"",AV17) | BD17: =IF(B17<>($BD$2),"",AV17) | BE17: =IF(B17<>($BE$2),"",AV17) | BF17: =IF(B17<>($BF$2),"",AV17) | BG17: =IF(B17<>($BG$2),"",AV17) | BH17: =IF(B17<>($BH$2),"",AV17) | BI17: =IF(B17<>($BI$2),"",AV17) | BJ17: =IF(B17<>($BJ$2),"",AV17) | BK17: =IF(B17<>($BK$2),"",AV17) | BL17: =IF(B17<>($BL$2),"",AV17) | BM17: =IF(B17<>($BM$2),"",AV17) | BN17: =IF(B17<>($BN$2),"",AV17) | BO17: =IF(B17<>($BO$2),"",AV17) | BP17: =IF(B17<>($BP$2),"",AV17)
D18: =IF(ISBLANK(C18),"",VLOOKUP(C18,MF_60_m,2)) | H18: =IF(ISBLANK(G18),"",VLOOKUP(G18,MF_150_m,2)) | L18: =IF(ISBLANK(K18),"",VLOOKUP(K18,MF_50_m_H_,2)) | N18: =IF(ISBLANK(M18),"",VLOOKUP(M18,MF_60_m_H_,2)) | T18: =IF(ISBLANK(S18),"",VLOOKUP(S18,MF_1000_m,2)) | AF18: =IF(ISBLANK(AE18),"",VLOOKUP(AE18,MF_LONGUEUR,2)) | AN18: =IF(ISBLANK(AM18),"",VLOOKUP(AM18,MF_POIDS,2)) | AU18: =IF(ISBLANK(B18),"",COUNTA(AS18,AQ18,AO18,AM18,AK18,AI18,AG18,AE18,AC18,AA18,Y18,W18,U18,S18,Q18,O18,M18,K18,I18,G18,E18,C18,#REF!)) | AV18: =SUM(AT18,AR18,AP18,AN18,AL18,AJ18,AH18,AF18,AD18,AB18,Z18,X18,V18,T18,R18,P18,N18,L18,J18,H18,F18,D18) -> 0 | AZ18: =IF(B18<>($AZ$2),"",AV18) | BA18: =IF(B18<>($BA$2),"",AV18) | BB18: =IF(B18<>($BB$2),"",AV18) | BC18: =IF(B18<>($BC$2),"",AV18) | BD18: =IF(B18<>($BD$2),"",AV18) | BE18: =IF(B18<>($BE$2),"",AV18) | BF18: =IF(B18<>($BF$2),"",AV18) | BG18: =IF(B18<>($BG$2),"",AV18) | BH18: =IF(B18<>($BH$2),"",AV18) | BI18: =IF(B18<>($BI$2),"",AV18) | BJ18: =IF(B18<>($BJ$2),"",AV18) | BK18: =IF(B18<>($BK$2),"",AV18) | BL18: =IF(B18<>($BL$2),"",AV18) | BM18: =IF(B18<>($BM$2),"",AV18) | BN18: =IF(B18<>($BN$2),"",AV18) | BO18: =IF(B18<>($BO$2),"",AV18) | BP18: =IF(B18<>($BP$2),"",AV18)
D19: =IF(ISBLANK(C19),"",VLOOKUP(C19,MF_60_m,2)) | H19: =IF(ISBLANK(G19),"",VLOOKUP(G19,MF_150_m,2)) | L19: =IF(ISBLANK(K19),"",VLOOKUP(K19,MF_50_m_H_,2)) | N19: =IF(ISBLANK(M19),"",VLOOKUP(M19,MF_60_m_H_,2)) | T19: =IF(ISBLANK(S19),"",VLOOKUP(S19,MF_1000_m,2)) | AF19: =IF(ISBLANK(AE19),"",VLOOKUP(AE19,MF_LONGUEUR,2)) | AN19: =IF(ISBLANK(AM19),"",VLOOKUP(AM19,MF_POIDS,2)) | AU19: =IF(ISBLANK(B19),"",COUNTA(AS19,AQ19,AO19,AM19,AK19,AI19,AG19,AE19,AC19,AA19,Y19,W19,U19,S19,Q19,O19,M19,K19,I19,G19,E19,C19,#REF!)) | AV19: =SUM(AT19,AR19,AP19,AN19,AL19,AJ19,AH19,AF19,AD19,AB19,Z19,X19,V19,T19,R19,P19,N19,L19,J19,H19,F19,D19) -> 0 | AZ19: =IF(B19<>($AZ$2),"",AV19) | BA19: =IF(B19<>($BA$2),"",AV19) | BB19: =IF(B19<>($BB$2),"",AV19) | BC19: =IF(B19<>($BC$2),"",AV19) | BD19: =IF(B19<>($BD$2),"",AV19) | BE19: =IF(B19<>($BE$2),"",AV19) | BF19: =IF(B19<>($BF$2),"",AV19) | BG19: =IF(B19<>($BG$2),"",AV19) | BH19: =IF(B19<>($BH$2),"",AV19) | BI19: =IF(B19<>($BI$2),"",AV19) | BJ19: =IF(B19<>($BJ$2),"",AV19) | BK19: =IF(B19<>($BK$2),"",AV19) | BL19: =IF(B19<>($BL$2),"",AV19) | BM19: =IF(B19<>($BM$2),"",AV19) | BN19: =IF(B19<>($BN$2),"",AV19) | BO19: =IF(B19<>($BO$2),"",AV19) | BP19: =IF(B19<>($BP$2),"",AV19)
A20: FINALE
A21: PELESTIN SULLYVAN | B21: ESS | D21: =IF(ISBLANK(C21),"",VLOOKUP(C21,MF_60_m,2)) | E21: 989 | F21: =IF(ISBLANK(E21),"",VLOOKUP(E21,MF_80_m,2)) -> 1 | H21: =IF(ISBLANK(G21),"",VLOOKUP(G21,MF_150_m,2)) | L21: =IF(ISBLANK(K21),"",VLOOKUP(K21,MF_50_m_H_,2)) | N21: =IF(ISBLANK(M21),"",VLOOKUP(M21,MF_60_m_H_,2)) | T21: =IF(ISBLANK(S21),"",VLOOKUP(S21,MF_1000_m,2)) | AF21: =IF(ISBLANK(AE21),"",VLOOKUP(AE21,MF_LONGUEUR,2)) | AL21: =IF(ISBLANK(AK21),"",VLOOKUP(AK21,MF_PERCHE,2)) | AN21: =IF(ISBLANK(AM21),"",VLOOKUP(AM21,MF_POIDS,2)) | AP21: =IF(ISBLANK(AO21),"",VLOOKUP(AO21,MF_DISQUE,2)) | AR21: =IF(ISBLANK(AQ21),"",VLOOKUP(AQ21,MF_JAVELOT,2)) | AU21: =IF(ISBLANK(B21),"",COUNTA(AS21,AQ21,AO21,AM21,AK21,AI21,AG21,AE21,AC21,AA21,Y21,W21,U21,S21,Q21,O21,M21,K21,I21,G21,E21,C21)) -> 1 | AV21: =SUM(AT21,AR21,AP21,AN21,AL21,AJ21,AH21,AF21,AD21,AB21,Z21,X21,V21,T21,R21,P21,N21,L21,J21,H21,F21,D21) -> 1 | AY21: =IF(B21<>($AY$2),"",AV21) | AZ21: =IF(B21<>($AZ$2),"",AV21) | BA21: =IF(B21<>($BA$2),"",AV21) | BB21: =IF(B21<>($BB$2),"",AV21) | BC21: =IF(B21<>($BC$2),"",AV21) | BD21: =IF(B21<>($BD$2),"",AV21) | BE21: =IF(B21<>($BE$2),"",AV21) | BF21: =IF(B21<>($BF$2),"",AV21) | BG21: =IF(B21<>($BG$2),"",AV21) | BH21: =IF(B21<>($BH$2),"",AV21) | BI21: =IF(B21<>($BI$2),"",AV21) | BJ21: =IF(B21<>($BJ$2),"",AV21) -> 1 | BK21: =IF(B21<>($BK$2),"",AV21) | BL21: =IF(B21<>($BL$2),"",AV21) | BM21: =IF(B21<>($BM$2),"",AV21) | BN21: =IF(B21<>($BN$2),"",AV21) | BO21: =IF(B21<>($BO$2),"",AV21) | BP21: =IF(B21<>($BP$2),"",AV21) | BQ21: =IF(B21<>($BQ$2),"",AV21)
AX24: Nombre Athlètes | AY24: =COUNTIF($B$4:$B19,AY2) -> 0 | AZ24: =COUNTIF($B$4:$B19,AZ2) -> 0 | BA24: =COUNTIF($B$4:$B19,BA2) -> 2 | BB24: =COUNTIF($B$4:$B19,BB2) -> 0 | BC24: =COUNTIF($B$4:$B19,BC2) -> 0 | BD24: =COUNTIF($B$4:$B19,BD2) -> 0 | BE24: =COUNTIF($B$4:$B19,BE2) -> 0 | BF24: =COUNTIF($B$4:$B19,BF2) -> 0 | ... BQ24: =COUNTIF($B$4:$B19,BQ2) -> 0

Sheet CAF
A1: CADETTES
A2: NOM | B2: CLUB | C2: 50 m | E2: 60 m | G2: 100 m | I2: 200 m | K2: 300 m | M2: 400 m | O2: 50 haies | Q2: 60 haies | S2: 110 haies | U2: 320 haies | W2: 400 m haies | Y2: 500 m | AA2: 800 m | AC2: 1000 m | AE2: 1500 m | AG2: 2000 m | AI2: 3000 m | AK2: 5000 m | AM2: 1500 steeple | AO2: 3000 steeple | AQ2: 3 km marche | AS2: 5 km marche | AU2: Longueur | AW2: Triple saut | AY2: Hauteur | BA2: Perche | BC2: Poids 3 kg | BE2: Disque | BG2: Javelot | BI2: Marteau | BK2: Nombre | BL2: POINTS | BM2: PLACE | BO2: =POINTS!B3 -> ABDO | BP2: =POINTS!C3 -> MASC | BQ2: =POINTS!D3 -> ASGB | BR2: =POINTS!E3 -> BMSA | BS2: MS | BT2: =POINTS!G3 -> CMA | BU2: =POINTS!H3 -> ACMA | BV2: =POINTS!I3 -> COMA | BW2: =POINTS!J3 -> CSB | BX2: =POINTS!K3 -> ESV | BY2: =POINTS!L3 -> ESCXV | BZ2: =POINTS!M3 -> ESS | CA2: =POINTS!N3 -> NLSA | ... CF2: =POINTS!S3 -> USMA | CG2: USOB
C3: Perf. | D3: Pts | E3: Perf. | F3: Pts | G3: Perf. | H3: Pts | I3: Perf. | J3: Pts | K3: Perf. | L3: Pts | M3: Perf. | N3: Pts | O3: Perf. | P3: Pts | Q3: Perf. | R3: Pts | S3: Perf. | T3: Pts | U3: Perf. | V3: Pts | W3: Perf. | X3: Pts | Y3: Perf. | Z3: Pts | AA3: Perf. | AB3: Pts | AC3: Perf. | AD3: Pts | AE3: Perf. | AF3: Pts | AG3: Perf. | AH3: Pts | AI3: Perf. | AJ3: Pts | AK3: Perf. | AL3: Pts | AM3: Perf. | AN3: Pts | AO3: Perf. | AP3: Pts | AQ3: Perf. | AR3: Pts | AS3: Perf. | AT3: Pts | AU3: Perf. | AV3: Pts | AW3: Perf. | AX3: Pts | AY3: Perf. | AZ3: Pts | BA3: Perf. | BB3: Pts | BD3: Pts | BE3: Perf. | BF3: Pts | BG3: Perf. | BH3: Pts | BI3: Perf. | BJ3: Pts | BK3: Epr.
A4: SANGARE MALADO | B4: ABDO | F4: =IF(ISBLANK(E4),"",VLOOKUP(E4,H_60_m,2)) | G4: 1345 | M4: 7611 | AU4: 551 | BH4: =IF(B4<>($BH$2),"",AV4) | BI4: =IF(B4<>($BI$2),"",AV4) | BJ4: =IF(B4<>($BJ$2),"",AV4) | BK4: =IF(ISBLANK(B4),"",COUNTA(BI4,BG4,BE4,BC4,BA4,AY4,AW4,AU4,AS4,AQ4,AO4,AM4,AK4,AI4,AG4,AE4,AC4,AA4,Y4,W4,U4,S4,Q4,O4,M4,K4,I4,G4,E4)) -> 4 | BL4: =IF(B4<>($BL$2),"",AV4) | BM4: =IF(B4<>($BM$2),"",AV4) | BP4: =IF(B4<>($BP$2),"",AV4)
A5: NICAISE LUCIE | B5: ABDO | F5: =IF(ISBLANK(E5),"",VLOOKUP(E5,H_60_m,2)) | G5: 1321 | M5: 7769 | BH5: =IF(ISBLANK(BG5),"",VLOOKUP(BG5,H_JAVELOT,2)) | BJ5: =IF(ISBLANK(BI5),"",VLOOKUP(BI5,H_MARTEAU,2)) | BK5: =IF(ISBLANK(B5),"",COUNTA(BI5,BG5,BE5,BC5,BA5,AY5,AW5,AU5,AS5,AQ5,AO5,AM5,AK5,AI5,AG5,AE5,AC5,AA5,Y5,W5,U5,S5,Q5,O5,M5,K5,I5,G5,E5)) -> 2 | BL5: =SUM(BJ5,BH5,BF5,BD5,BB5,AZ5,AX5,AV5,AT5,AR5,AP5,AF5,AD5,AB5,Z5,X5,V5,T5,R5,P5,N5,L5,J5,H5,F5,D5) -> 0 | BO5: =IF(B5<>($BO$2),"",BL5) -> 0 | BP5: =IF(B5<>($BP$2),"",BL5) | BQ5: =IF(B5<>($BQ$2),"",BL5) | BR5: =IF(B5<>($BR$2),"",BL5) | BS5: =IF(B5<>($BS$2),"",BL5) | BT5: =IF(B5<>($BT$2),"",BL5) | BU5: =IF(B5<>($BU$2),"",BL5) | BV5: =IF(B5<>($BV$2),"",BL5) | BW5: =IF(B5<>($BW$2),"",BL5) | BX5: =IF(B5<>($BX$2),"",BL5) | BY5: =IF(B5<>($BY$2),"",BL5) | BZ5: =IF(B5<>($BZ$2),"",BL5) | CA5: =IF(B5<>($CA$2),"",BL5) | CB5: =IF(B5<>($CB$2),"",BL5) | CC5: =IF(B5<>($CC$2),"",BL5) | CD5: =IF(B5<>($CD$2),"",BL5) | CE5: =IF(B5<>($CE$2),"",BL5) | CF5: =IF(B5<>($CF$2),"",BL5) | CG5: =IF(B5<>($CG$2),"",BL5)
A6: SENTUBERY JULIE | B6: CSB | AY6: 135 | BG6: 1936 | BK6: =IF(ISBLANK(B6),"",COUNTA(BI6,BG6,BE6,BC6,BA6,AY6,AW6,AU6,AS6,AQ6,AO6,AM6,AK6,AI6,AG6,AE6,AC6,AA6,Y6,W6,U6,S6,Q6,O6,M6,K6,I6,G6,E6)) -> 2
A7: SENTUBERY EMMA | B7: CSB | AE7: 61387 | BE7: 2170 | BK7: =IF(ISBLANK(B7),"",COUNTA(BI7,BG7,BE7,BC7,BA7,AY7,AW7,AU7,AS7,AQ7,AO7,AM7,AK7,AI7,AG7,AE7,AC7,AA7,Y7,W7,U7,S7,Q7,O7,M7,K7,I7,G7,E7)) -> 2 | BO7: =SUM(BO4:BO5) -> 0 | BP7: =SUM(#REF!) -> #REF! | BQ7: =SUM(BQ4:BQ5) -> 0 | BR7: =SUM(BR4:BR5) -> 0 | BS7: =SUM(BS4:BS5) -> 0 | BT7: =SUM(BT4:BT5) -> 0 | BU7: =SUM(BU4:BU5) -> 0 | BV7: =SUM(BV4:BV5) -> 0 | BW7: =SUM(BW4:BW5) -> 0 | BX7: =SUM(BX4:BX5) -> 0 | ... CD7: =SUM(CD4:CD5) -> 0 | CE7: =SUM(#REF!) -> #REF! | CF7: =SUM(CF4:CF5) -> 0 | CG7: =SUM(CG4:CG5) -> 0
A8: PELTAN ALIX | B8: CSB | BC8: 837 | BE8: 2113 | BK8: =IF(ISBLANK(B8),"",COUNTA(BI8,BG8,BE8,BC8,BA8,AY8,AW8,AU8,AS8,AQ8,AO8,AM8,AK8,AI8,AG8,AE8,AC8,AA8,Y8,W8,U8,S8,Q8,O8,M8,K8,I8,G8,E8)) -> 2
A9: FERET LEA | B9: NLSA | G9: 1604 | M9: 8556 | BK9: =IF(ISBLANK(B9),"",COUNTA(BI9,BG9,BE9,BC9,BA9,AY9,AW9,AU9,AS9,AQ9,AO9,AM9,AK9,AI9,AG9,AE9,AC9,AA9,Y9,W9,U9,S9,Q9,O9,M9,K9,I9,G9,E9)) -> 2
A10: LIMAGE JESSY | B10: ESS | G10: 13"04

Sheet CAM
A1: CADETS
A2: NOM | B2: CLUB | C2: 50 m | E2: 60 m | G2: 100 m | I2: 200 m | K2: 300 m | M2: 400 m | O2: 50 haies | Q2: 60 haies | S2: 110 haies | U2: 320 haies | W2: 400 m haies | Y2: 500 m | AA2: 800 m | AC2: 1000 m | AE2: 1500 m | AG2: 2000 m | AI2: 3000 m | AK2: 5000 m | AM2: 1500 steeple | AO2: 3000 steeple | AQ2: 3 km marche | AS2: 5 km marche | AU2: Longueur | AW2: Triple saut | AY2: Hauteur | BA2: Perche | BC2: Poids 5 kg | BE2: Disque | BG2: Javelot | BI2: Marteau | BK2: Nombre | BL2: POINTS | BM2: PLACE | BO2: =POINTS!B3 -> ABDO | BP2: =POINTS!C3 -> MASC | BQ2: =POINTS!D3 -> ASGB | BR2: =POINTS!E3 -> BMSA | BS2: MS | BT2: =POINTS!G3 -> CMA | BU2: =POINTS!H3 -> ACMA | BV2: =POINTS!I3 -> COMA | BW2: =POINTS!J3 -> CSB | BX2: =POINTS!K3 -> ESV | BY2: =POINTS!L3 -> ESCXV | BZ2: =POINTS!M3 -> ESS | CA2: =POINTS!N3 -> NLSA | ... CF2: =POINTS!S3 -> USMA | CG2: USOB
C3: Perf. | D3: Pts | E3: Perf. | F3: Pts | G3: Perf. | H3: Pts | I3: Perf. | J3: Pts | K3: Perf. | L3: Pts | M3: Perf. | N3: Pts | O3: Perf. | P3: Pts | Q3: Perf. | R3: Pts | S3: Perf. | T3: Pts | U3: Perf. | V3: Pts | W3: Perf. | X3: Pts | Y3: Perf. | Z3: Pts | AA3: Perf. | AB3: Pts | AC3: Perf. | AD3: Pts | AE3: Perf. | AF3: Pts | AG3: Perf. | AH3: Pts | AI3: Perf. | AJ3: Pts | AK3: Perf. | AL3: Pts | AM3: Perf. | AN3: Pts | AO3: Perf. | AP3: Pts | AQ3: Perf. | AR3: Pts | AS3: Perf. | AT3: Pts | AU3: Perf. | AV3: Pts | AW3: Perf. | AX3: Pts | AY3: Perf. | AZ3: Pts | BA3: Perf. | BB3: Pts | BD3: Pts | BE3: Perf. | BF3: Pts | BG3: Perf. | BH3: Pts | BI3: Perf. | BJ3: Pts | BK3: Epr.
A4: DIALLO ABDOURAMANE | B4: SDUS | F4: =IF(ISBLANK(E4),"",VLOOKUP(E4,H_60_m,2)) | G4: 1240 | H4: =IF(ISBLANK(G4),"",VLOOKUP(G4,H_100_m,2)) -> 1 | J4: =IF(ISBLANK(I4),"",VLOOKUP(I4,H_200_m,2)) | L4: =IF(ISBLANK(K4),"",VLOOKUP(K4,H_300_m,2)) | N4: =IF(ISBLANK(M4),"",VLOOKUP(M4,H_400_m,2)) | P4: =IF(ISBLANK(O4),"",VLOOKUP(O4,H_50_m_H_,2)) | R4: =IF(ISBLANK(Q4),"",VLOOKUP(Q4,H_60_m_H_,2)) | T4: =IF(ISBLANK(S4),"",VLOOKUP(S4,H_110_m_H_,2)) | V4: =IF(ISBLANK(U4),"",VLOOKUP(U4,H_320_m_H,2)) | X4: =IF(ISBLANK(W4),"",VLOOKUP(W4,H_400_m_H,2)) | Z4: =IF(ISBLANK(Y4),"",VLOOKUP(Y4,H_500_m,2)) | AB4: =IF(ISBLANK(AA4),"",VLOOKUP(AA4,H_800_m,2)) | AD4: =IF(ISBLANK(AC4),"",VLOOKUP(AC4,H_1000_m,2)) | AF4: =IF(ISBLANK(AE4),"",VLOOKUP(AE4,H_1500_m,2)) | AH4: =IF(ISBLANK(AG4),"",VLOOKUP(AG4,H_2000_m,2)) | AJ4: =IF(ISBLANK(AI4),"",VLOOKUP(AI4,H_3000_m,2)) | AL4: =IF(ISBLANK(AK4),"",VLOOKUP(AK4,H_5000_m,2)) | AN4: =IF(ISBLANK(AM4),"",VLOOKUP(AM4,H_1500_steeple,2)) | AP4: =IF(ISBLANK(AO4),"",VLOOKUP(AO4,H_3000_steeple,2)) | AR4: =IF(ISBLANK(AQ4),"",VLOOKUP(AQ4,H_3_km_marche,2)) | AT4: =IF(ISBLANK(AS4),"",VLOOKUP(AS4,H_5_km_marche,2)) | AV4: =IF(ISBLANK(AU4),"",VLOOKUP(AU4,H_LONGUEUR,2)) | AX4: =IF(ISBLANK(AW4),"",VLOOKUP(AW4,H_T_S_,2)) | AZ4: =IF(ISBLANK(AY4),"",VLOOKUP(AY4,H_HAUTEUR,2)) | BB4: =IF(ISBLANK(BA4),"",VLOOKUP(BA4,H_PERCHE,2)) | BD4: =IF(ISBLANK(BC4),"",VLOOKUP(BC4,H_POIDS,2)) | BF4: =IF(ISBLANK(BE4),"",VLOOKUP(BE4,H_DISQUE,2)) | BG4: 1936 | BH4: =IF(ISBLANK(BG4),"",VLOOKUP(BG4,H_JAVELOT,2)) -> 8 | BJ4: =IF(ISBLANK(BI4),"",VLOOKUP(BI4,H_MARTEAU,2)) | BK4: =IF(ISBLANK(B4),"",COUNTA(BI4,BG4,BE4,BC4,BA4,AY4,AW4,AU4,AS4,AQ4,AO4,AM4,AK4,AI4,AG4,AE4,AC4,AA4,Y4,W4,U4,S4,Q4,O4,M4,K4,I4,G4,E4)) -> 2 | BL4: =SUM(BJ4,BH4,BF4,BD4,BB4,AZ4,AX4,AV4,AT4,AR4,AP4,AF4,AD4,AB4,Z4,X4,V4,T4,R4,P4,N4,L4,J4,H4,F4,D4) -> 9 | BO4: =IF(B4<>($BO$2),"",BL4) | BP4: =IF(B4<>($BP$2),"",BL4) | BQ4: =IF(B4<>($BQ$2),"",BL4) | BR4: =IF(B4<>($BR$2),"",BL4) | BS4: =IF(B4<>($BS$2),"",BL4) | BT4: =IF(B4<>($BT$2),"",BL4) | BU4: =IF(B4<>($BU$2),"",BL4) | BV4: =IF(B4<>($BV$2),"",BL4) | BW4: =IF(B4<>($BW$2),"",BL4) | BX4: =IF(B4<>($BX$2),"",BL4) | BY4: =IF(B4<>($BY$2),"",BL4) | BZ4: =IF(B4<>($BZ$2),"",BL4) | CA4: =IF(B4<>($CA$2),"",BL4) | CB4: =IF(B4<>($CB$2),"",BL4) -> 9 | CC4: =IF(B4<>($CC$2),"",BL4) | CD4: =IF(B4<>($CD$2),"",BL4) | CE4: =IF(B4<>($CE$2),"",BL4) | CF4: =IF(B4<>($CF$2),"",BL4) | CG4: =IF(B4<>($CG$2),"",BL4)
A5: YDJEDD BILAL | B5: SDUS | F5: =IF(ISBLANK(E5),"",VLOOKUP(E5,H_60_m,2)) | G5: 1308 | H5: =IF(ISBLANK(G5),"",VLOOKUP(G5,H_100_m,2)) -> 1 | J5: =IF(ISBLANK(I5),"",VLOOKUP(I5,H_200_m,2)) | L5: =IF(ISBLANK(K5),"",VLOOKUP(K5,H_300_m,2)) | N5: =IF(ISBLANK(M5),"",VLOOKUP(M5,H_400_m,2)) | P5: =IF(ISBLANK(O5),"",VLOOKUP(O5,H_50_m_H_,2)) | R5: =IF(ISBLANK(Q5),"",VLOOKUP(Q5,H_60_m_H_,2)) | T5: =IF(ISBLANK(S5),"",VLOOKUP(S5,H_110_m_H_,2)) | V5: =IF(ISBLANK(U5),"",VLOOKUP(U5,H_320_m_H,2)) | X5: =IF(ISBLANK(W5),"",VLOOKUP(W5,H_400_m_H,2)) | Z5: =IF(ISBLANK(Y5),"",VLOOKUP(Y5,H_500_m,2)) | AB5: =IF(ISBLANK(AA5),"",VLOOKUP(AA5,H_800_m,2)) | AD5: =IF(ISBLANK(AC5),"",VLOOKUP(AC5,H_1000_m,2)) | AF5: =IF(ISBLANK(AE5),"",VLOOKUP(AE5,H_1500_m,2)) | AH5: =IF(ISBLANK(AG5),"",VLOOKUP(AG5,H_2000_m,2)) | AJ5: =IF(ISBLANK(AI5),"",VLOOKUP(AI5,H_3000_m,2)) | AL5: =IF(ISBLANK(AK5),"",VLOOKUP(AK5,H_5000_m,2)) | AN5: =IF(ISBLANK(AM5),"",VLOOKUP(AM5,H_1500_steeple,2)) | AP5: =IF(ISBLANK(AO5),"",VLOOKUP(AO5,H_3000_steeple,2)) | AR5: =IF(ISBLANK(AQ5),"",VLOOKUP(AQ5,H_3_km_marche,2)) | AT5: =IF(ISBLANK(AS5),"",VLOOKUP(AS5,H_5_km_marche,2)) | AV5: =IF(ISBLANK(AU5),"",VLOOKUP(AU5,H_LONGUEUR,2)) | AX5: =IF(ISBLANK(AW5),"",VLOOKUP(AW5,H_T_S_,2)) | AZ5: =IF(ISBLANK(AY5),"",VLOOKUP(AY5,H_HAUTEUR,2)) | BB5: =IF(ISBLANK(BA5),"",VLOOKUP(BA5,H_PERCHE,2)) | BD5: =IF(ISBLANK(BC5),"",VLOOKUP(BC5,H_POIDS,2)) | BF5: =IF(ISBLANK(BE5),"",VLOOKUP(BE5,H_DISQUE,2)) | BH5: =IF(ISBLANK(BG5),"",VLOOKUP(BG5,H_JAVELOT,2)) | BJ5: =IF(ISBLANK(BI5),"",VLOOKUP(BI5,H_MARTEAU,2)) | BK5: =IF(ISBLANK(B5),"",COUNTA(BI5,BG5,BE5,BC5,BA5,AY5,AW5,AU5,AS5,AQ5,AO5,AM5,AK5,AI5,AG5,AE5,AC5,AA5,Y5,W5,U5,S5,Q5,O5,M5,K5,I5,G5,E5)) -> 1 | BL5: =SUM(BJ5,BH5,BF5,BD5,BB5,AZ5,AX5,AV5,AT5,AR5,AP5,AF5,AD5,AB5,Z5,X5,V5,T5,R5,P5,N5,L5,J5,H5,F5,D5) -> 1 | BO5: =IF(B5<>($BO$2),"",BL5) | BP5: =IF(B5<>($BP$2),"",BL5) | BQ5: =IF(B5<>($BQ$2),"",BL5) | BR5: =IF(B5<>($BR$2),"",BL5) | BS5: =IF(B5<>($BS$2),"",BL5) | BT5: =IF(B5<>($BT$2),"",BL5) | BU5: =IF(B5<>($BU$2),"",BL5) | BV5: =IF(B5<>($BV$2),"",BL5) | BW5: =IF(B5<>($BW$2),"",BL5) | BX5: =IF(B5<>($BX$2),"",BL5) | BY5: =IF(B5<>($BY$2),"",BL5) | BZ5: =IF(B5<>($BZ$2),"",BL5) | CA5: =IF(B5<>($CA$2),"",BL5) | CB5: =IF(B5<>($CB$2),"",BL5) -> 1 | CC5: =IF(B5<>($CC$2),"",BL5) | CD5: =IF(B5<>($CD$2),"",BL5) | CE5: =IF(B5<>($CE$2),"",BL5) | CF5: =IF(B5<>($CF$2),"",BL5) | CG5: =IF(B5<>($CG$2),"",BL5)
A6: MASCREZ MEHDI | B6: SDUS | AE6: 5'15"38
A7: SELVARUBAN SUJEEBAN | B7: ESS | F7: =IF(ISBLANK(E7),"",VLOOKUP(E7,H_60_m,2)) | G7: 1176 | H7: =IF(ISBLANK(G7),"",VLOOKUP(G7,H_100_m,2)) -> 1 | J7: =IF(ISBLANK(I7),"",VLOOKUP(I7,H_200_m,2)) | L7: =IF(ISBLANK(K7),"",VLOOKUP(K7,H_300_m,2)) | N7: =IF(ISBLANK(M7),"",VLOOKUP(M7,H_400_m,2)) | P7: =IF(ISBLANK(O7),"",VLOOKUP(O7,H_50_m_H_,2)) | R7: =IF(ISBLANK(Q7),"",VLOOKUP(Q7,H_60_m_H_,2)) | T7: =IF(ISBLANK(S7),"",VLOOKUP(S7,H_110_m_H_,2)) | V7: =IF(ISBLANK(U7),"",VLOOKUP(U7,H_320_m_H,2)) | X7: =IF(ISBLANK(W7),"",VLOOKUP(W7,H_400_m_H,2)) | Z7: =IF(ISBLANK(Y7),"",VLOOKUP(Y7,H_500_m,2)) | AB7: =IF(ISBLANK(AA7),"",VLOOKUP(AA7,H_800_m,2)) | AD7: =IF(ISBLANK(AC7),"",VLOOKUP(AC7,H_1000_m,2)) | AF7: =IF(ISBLANK(AE7),"",VLOOKUP(AE7,H_1500_m,2)) | AH7: =IF(ISBLANK(AG7),"",VLOOKUP(AG7,H_2000_m,2)) | AJ7: =IF(ISBLANK(AI7),"",VLOOKUP(AI7,H_3000_m,2)) | AL7: =IF(ISBLANK(AK7),"",VLOOKUP(AK7,H_5000_m,2)) | AN7: =IF(ISBLANK(AM7),"",VLOOKUP(AM7,H_1500_steeple,2)) | AP7: =IF(ISBLANK(AO7),"",VLOOKUP(AO7,H_3000_steeple,2)) | AR7: =IF(ISBLANK(AQ7),"",VLOOKUP(AQ7,H_3_km_marche,2)) | AT7: =IF(ISBLANK(AS7),"",VLOOKUP(AS7,H_5_km_marche,2)) | AV7: =IF(ISBLANK(AU7),"",VLOOKUP(AU7,H_LONGUEUR,2)) | AX7: =IF(ISBLANK(AW7),"",VLOOKUP(AW7,H_T_S_,2)) | AZ7: =IF(ISBLANK(AY7),"",VLOOKUP(AY7,H_HAUTEUR,2)) | BB7: =IF(ISBLANK(BA7),"",VLOOKUP(BA7,H_PERCHE,2)) | BD7: =IF(ISBLANK(BC7),"",VLOOKUP(BC7,H_POIDS,2)) | BF7: =IF(ISBLANK(BE7),"",VLOOKUP(BE7,H_DISQUE,2)) | BH7: =IF(ISBLANK(BG7),"",VLOOKUP(BG7,H_JAVELOT,2)) | BJ7: =IF(ISBLANK(BI7),"",VLOOKUP(BI7,H_MARTEAU,2)) | BK7: =IF(ISBLANK(B7),"",COUNTA(BI7,BG7,BE7,BC7,BA7,AY7,AW7,AU7,AS7,AQ7,AO7,AM7,AK7,AI7,AG7,AE7,AC7,AA7,Y7,W7,U7,S7,Q7,O7,M7,K7,I7,G7,E7)) -> 1 | BL7: =SUM(BJ7,BH7,BF7,BD7,BB7,AZ7,AX7,AV7,AT7,AR7,AP7,AF7,AD7,AB7,Z7,X7,V7,T7,R7,P7,N7,L7,J7,H7,F7,D7) -> 1 | BO7: =IF(B7<>($BO$2),"",BL7) | BP7: =IF(B7<>($BP$2),"",BL7) | BQ7: =IF(B7<>($BQ$2),"",BL7) | BR7: =IF(B7<>($BR$2),"",BL7) | BS7: =IF(B7<>($BS$2),"",BL7) | BT7: =IF(B7<>($BT$2),"",BL7) | BU7: =IF(B7<>($BU$2),"",BL7) | BV7: =IF(B7<>($BV$2),"",BL7) | BW7: =IF(B7<>($BW$2),"",BL7) | BX7: =IF(B7<>($BX$2),"",BL7) | BY7: =IF(B7<>($BY$2),"",BL7) | BZ7: =IF(B7<>($BZ$2),"",BL7) -> 1 | CA7: =IF(B7<>($CA$2),"",BL7) | CB7: =IF(B7<>($CB$2),"",BL7) | CC7: =IF(B7<>($CC$2),"",BL7) | CD7: =IF(B7<>($CD$2),"",BL7) | CE7: =IF(B7<>($CE$2),"",BL7) | CF7: =IF(B7<>($CF$2),"",BL7) | CG7: =IF(B7<>($CG$2),"",BL7)
A8: LAMOUR EMMANUEL | B8: CSB | F8: =IF(ISBLANK(E8),"",VLOOKUP(E8,H_60_m,2)) | G8: 1290 | J8: =IF(ISBLANK(I8),"",VLOOKUP(I8,H_200_m,2)) | R8: =IF(ISBLANK(Q8),"",VLOOKUP(Q8,H_60_m_H_,2)) | AB8: =IF(ISBLANK(AA8),"",VLOOKUP(AA8,H_800_m,2)) | AU8: 522 | AV8: =IF(ISBLANK(AU8),"",VLOOKUP(AU8,H_LONGUEUR,2)) -> 18 | BB8: =IF(ISBLANK(BA8),"",VLOOKUP(BA8,H_PERCHE,2)) | BC8: 842 | BD8: =IF(ISBLANK(BC8),"",VLOOKUP(BC8,H_POIDS,2)) -> 17 | BK8: =IF(ISBLANK(B8),"",COUNTA(BI8,BG8,BE8,BC8,BA8,AY8,AW8,AU8,AS8,AQ8,AO8,AM8,AK8,AI8,AG8,AE8,AC8,AA8,Y8,W8,U8,S8,Q8,O8,M8,K8,I8,G8,E8)) -> 3 | BL8: =SUM(BJ8,BH8,BF8,BD8,BB8,AZ8,AX8,AV8,AT8,AR8,AP8,AF8,AD8,AB8,Z8,X8,V8,T8,R8,P8,N8,L8,J8,H8,F8,D8) -> 35 | BO8: =IF(B8<>($BO$2),"",BL8) | BP8: =IF(B8<>($BP$2),"",BL8) | BQ8: =IF(B8<>($BQ$2),"",BL8) | BR8: =IF(B8<>($BR$2),"",BL8) | BS8: =IF(B8<>($BS$2),"",BL8) | BT8: =IF(B8<>($BT$2),"",BL8) | BU8: =IF(B8<>($BU$2),"",BL8) | BV8: =IF(B8<>($BV$2),"",BL8) | BW8: =IF(B8<>($BW$2),"",BL8) -> 35 | BX8: =IF(B8<>($BX$2),"",BL8) | BY8: =IF(B8<>($BY$2),"",BL8) | BZ8: =IF(B8<>($BZ$2),"",BL8) | CA8: =IF(B8<>($CA$2),"",BL8) | CB8: =IF(B8<>($CB$2),"",BL8) | CC8: =IF(B8<>($CC$2),"",BL8) | CD8: =IF(B8<>($CD$2),"",BL8) | CE8: =IF(B8<>($CE$2),"",BL8) | CF8: =IF(B8<>($CF$2),"",BL8) | CG8: =IF(B8<>($CG$2),"",BL8)
A9: MILITON PIERRE | B9: CSB | F9: =IF(ISBLANK(E9),"",VLOOKUP(E9,H_60_m,2)) | G9: 1255 | H9: =IF(ISBLANK(G9),"",VLOOKUP(G9,H_100_m,2)) -> 1 | J9: =IF(ISBLANK(I9),"",VLOOKUP(I9,H_200_m,2)) | L9: =IF(ISBLANK(K9),"",VLOOKUP(K9,H_300_m,2)) | N9: =IF(ISBLANK(M9),"",VLOOKUP(M9,H_400_m,2)) | P9: =IF(ISBLANK(O9),"",VLOOKUP(O9,H_50_m_H_,2)) | R9: =IF(ISBLANK(Q9),"",VLOOKUP(Q9,H_60_m_H_,2)) | T9: =IF(ISBLANK(S9),"",VLOOKUP(S9,H_110_m_H_,2)) | V9: =IF(ISBLANK(U9),"",VLOOKUP(U9,H_320_m_H,2)) | X9: =IF(ISBLANK(W9),"",VLOOKUP(W9,H_400_m_H,2)) | Z9: =IF(ISBLANK(Y9),"",VLOOKUP(Y9,H_500_m,2)) | AB9: =IF(ISBLANK(AA9),"",VLOOKUP(AA9,H_800_m,2)) | AD9: =IF(ISBLANK(AC9),"",VLOOKUP(AC9,H_1000_m,2)) | AF9: =IF(ISBLANK(AE9),"",VLOOKUP(AE9,H_1500_m,2)) | AH9: =IF(ISBLANK(AG9),"",VLOOKUP(AG9,H_2000_m,2)) | AJ9: =IF(ISBLANK(AI9),"",VLOOKUP(AI9,H_3000_m,2)) | AL9: =IF(ISBLANK(AK9),"",VLOOKUP(AK9,H_5000_m,2)) | AN9: =IF(ISBLANK(AM9),"",VLOOKUP(AM9,H_1500_steeple,2)) | AP9: =IF(ISBLANK(AO9),"",VLOOKUP(AO9,H_3000_steeple,2)) | AR9: =IF(ISBLANK(AQ9),"",VLOOKUP(AQ9,H_3_km_marche,2)) | AT9: =IF(ISBLANK(AS9),"",VLOOKUP(AS9,H_5_km_marche,2)) | AV9: =IF(ISBLANK(AU9),"",VLOOKUP(AU9,H_LONGUEUR,2)) | AX9: =IF(ISBLANK(AW9),"",VLOOKUP(AW9,H_T_S_,2)) | AZ9: =IF(ISBLANK(AY9),"",VLOOKUP(AY9,H_HAUTEUR,2)) | BB9: =IF(ISBLANK(BA9),"",VLOOKUP(BA9,H_PERCHE,2)) | BD9: =IF(ISBLANK(BC9),"",VLOOKUP(BC9,H_POIDS,2)) | BE9: 2644 | BF9: =IF(ISBLANK(BE9),"",VLOOKUP(BE9,H_DISQUE,2)) -> 17 | BH9: =IF(ISBLANK(BG9),"",VLOOKUP(BG9,H_JAVELOT,2)) | BJ9: =IF(ISBLANK(BI9),"",VLOOKUP(BI9,H_MARTEAU,2)) | BK9: =IF(ISBLANK(B9),"",COUNTA(BI9,BG9,BE9,BC9,BA9,AY9,AW9,AU9,AS9,AQ9,AO9,AM9,AK9,AI9,AG9,AE9,AC9,AA9,Y9,W9,U9,S9,Q9,O9,M9,K9,I9,G9,E9)) -> 2 | BL9: =SUM(BJ9,BH9,BF9,BD9,BB9,AZ9,AX9,AV9,AT9,AR9,AP9,AF9,AD9,AB9,Z9,X9,V9,T9,R9,P9,N9,L9,J9,H9,F9,D9) -> 18 | BO9: =IF(B9<>($BO$2),"",BL9) | BP9: =IF(B9<>($BP$2),"",BL9) | BQ9: =IF(B9<>($BQ$2),"",BL9) | BR9: =IF(B9<>($BR$2),"",BL9) | BS9: =IF(B9<>($BS$2),"",BL9) | BT9: =IF(B9<>($BT$2),"",BL9) | BU9: =IF(B9<>($BU$2),"",BL9) | BV9: =IF(B9<>($BV$2),"",BL9) | BW9: =IF(B9<>($BW$2),"",BL9) -> 18 | BX9: =IF(B9<>($BX$2),"",BL9) | BY9: =IF(B9<>($BY$2),"",BL9) | BZ9: =IF(B9<>($BZ$2),"",BL9) | CA9: =IF(B9<>($CA$2),"",BL9) | CB9: =IF(B9<>($CB$2),"",BL9) | CC9: =IF(B9<>($CC$2),"",BL9) | CD9: =IF(B9<>($CD$2),"",BL9) | CE9: =IF(B9<>($CE$2),"",BL9) | CF9: =IF(B9<>($CF$2),"",BL9) | CG9: =IF(B9<>($CG$2),"",BL9)
A10: NDIAYE BOUBOU | B10: ESCXV | F10: =IF(ISBLANK(E10),"",VLOOKUP(E10,H_60_m,2)) | G10: 1176 | J10: =IF(ISBLANK(I10),"",VLOOKUP(I10,H_200_m,2)) | M10: 5335 | R10: =IF(ISBLANK(Q10),"",VLOOKUP(Q10,H_60_m_H_,2)) | AB10: =IF(ISBLANK(AA10),"",VLOOKUP(AA10,H_800_m,2)) | AV10: =IF(ISBLANK(AU10),"",VLOOKUP(AU10,H_LONGUEUR,2)) | BB10: =IF(ISBLANK(BA10),"",VLOOKUP(BA10,H_PERCHE,2)) | BD10: =IF(ISBLANK(BC10),"",VLOOKUP(BC10,H_POIDS,2)) | BK10: =IF(ISBLANK(B10),"",COUNTA(BI10,BG10,BE10,BC10,BA10,AY10,AW10,AU10,AS10,AQ10,AO10,AM10,AK10,AI10,AG10,AE10,AC10,AA10,Y10,W10,U10,S10,Q10,O10,M10,K10,I10,G10,E10)) -> 2 | BL10: =SUM(BJ10,BH10,BF10,BD10,BB10,AZ10,AX10,AV10,AT10,AR10,AP10,AF10,AD10,AB10,Z10,X10,V10,T10,R10,P10,N10,L10,J10,H10,F10,D10) -> 0 | BO10: =IF(B10<>($BO$2),"",BL10) | BQ10: =IF(B10<>($BQ$2),"",BL10) | BR10: =IF(B10<>($BR$2),"",BL10) | BS10: =IF(B10<>($BS$2),"",BL10) | BT10: =IF(B10<>($BT$2),"",BL10) | BU10: =IF(B10<>($BU$2),"",BL10) | BV10: =IF(B10<>($BV$2),"",BL10) | BW10: =IF(B10<>($BW$2),"",BL10) | BX10: =IF(B10<>($BX$2),"",BL10) | BY10: =IF(B10<>($BY$2),"",BL10) -> 0 | BZ10: =IF(B10<>($BZ$2),"",BL10) | CA10: =IF(B10<>($CA$2),"",BL10) | CB10: =IF(B10<>($CB$2),"",BL10) | CC10: =IF(B10<>($CC$2),"",BL10) | CD10: =IF(B10<>($CD$2),"",BL10) | CF10: =IF(B10<>($CF$2),"",BL10) | CG10: =IF(B10<>($CG$2),"",BL10)
A11: DIABY YERA | B11: ASGB | F11: =IF(ISBLANK(E11),"",VLOOKUP(E11,H_60_m,2)) | G11: 1159 | H11: =IF(ISBLANK(G11),"",VLOOKUP(G11,H_100_m,2)) -> 1 | J11: =IF(ISBLANK(I11),"",VLOOKUP(I11,H_200_m,2)) | L11: =IF(ISBLANK(K11),"",VLOOKUP(K11,H_300_m,2)) | M11: 50"65 | N11: =IF(ISBLANK(M11),"",VLOOKUP(M11,H_400_m,2)) -> PTS | P11: =IF(ISBLANK(O11),"",VLOOKUP(O11,H_50_m_H_,2)) | R11: =IF(ISBLANK(Q11),"",VLOOKUP(Q11,H_60_m_H_,2)) | T11: =IF(ISBLANK(S11),"",VLOOKUP(S11,H_110_m_H_,2)) | V11: =IF(ISBLANK(U11),"",VLOOKUP(U11,H_320_m_H,2)) | X11: =IF(ISBLANK(W11),"",VLOOKUP(W11,H_400_m_H,2)) | Z11: =IF(ISBLANK(Y11),"",VLOOKUP(Y11,H_500_m,2)) | AB11: =IF(ISBLANK(AA11),"",VLOOKUP(AA11,H_800_m,2)) | AD11: =IF(ISBLANK(AC11),"",VLOOKUP(AC11,H_1000_m,2)) | AF11: =IF(ISBLANK(AE11),"",VLOOKUP(AE11,H_1500_m,2)) | AH11: =IF(ISBLANK(AG11),"",VLOOKUP(AG11,H_2000_m,2)) | AJ11: =IF(ISBLANK(AI11),"",VLOOKUP(AI11,H_3000_m,2)) | AL11: =IF(ISBLANK(AK11),"",VLOOKUP(AK11,H_5000_m,2)) | AN11: =IF(ISBLANK(AM11),"",VLOOKUP(AM11,H_1500_steeple,2)) | AP11: =IF(ISBLANK(AO11),"",VLOOKUP(AO11,H_3000_steeple,2)) | AR11: =IF(ISBLANK(AQ11),"",VLOOKUP(AQ11,H_3_km_marche,2)) | AT11: =IF(ISBLANK(AS11),"",VLOOKUP(AS11,H_5_km_marche,2)) | AV11: =IF(ISBLANK(AU11),"",VLOOKUP(AU11,H_LONGUEUR,2)) | AX11: =IF(ISBLANK(AW11),"",VLOOKUP(AW11,H_T_S_,2)) | AZ11: =IF(ISBLANK(AY11),"",VLOOKUP(AY11,H_HAUTEUR,2)) | BB11: =IF(ISBLANK(BA11),"",VLOOKUP(BA11,H_PERCHE,2)) | BD11: =IF(ISBLANK(BC11),"",VLOOKUP(BC11,H_POIDS,2)) | BF11: =IF(ISBLANK(BE11),"",VLOOKUP(BE11,H_DISQUE,2)) | BH11: =IF(ISBLANK(BG11),"",VLOOKUP(BG11,H_JAVELOT,2)) | BJ11: =IF(ISBLANK(BI11),"",VLOOKUP(BI11,H_MARTEAU,2)) | BK11: =IF(ISBLANK(B11),"",COUNTA(BI11,BG11,BE11,BC11,BA11,AY11,AW11,AU11,AS11,AQ11,AO11,AM11,AK11,AI11,AG11,AE11,AC11,AA11,Y11,W11,U11,S11,Q11,O11,M11,K11,I11,G11,E11)) -> 2 | BL11: =SUM(BJ11,BH11,BF11,BD11,BB11,AZ11,AX11,AV11,AT11,AR11,AP11,AF11,AD11,AB11,Z11,X11,V11,T11,R11,P11,N11,L11,J11,H11,F11,D11) -> 1 | BO11: =IF(B11<>($BO$2),"",BL11) | BQ11: =IF(B11<>($BQ$2),"",BL11) -> 1 | BR11: =IF(B11<>($BR$2),"",BL11) | BS11: =IF(B11<>($BS$2),"",BL11) | BT11: =IF(B11<>($BT$2),"",BL11) | BU11: =IF(B11<>($BU$2),"",BL11) | BV11: =IF(B11<>($BV$2),"",BL11) | BW11: =IF(B11<>($BW$2),"",BL11) | BX11: =IF(B11<>($BX$2),"",BL11) | BY11: =IF(B11<>($BY$2),"",BL11) | BZ11: =IF(B11<>($BZ$2),"",BL11) | CA11: =IF(B11<>($CA$2),"",BL11) | CB11: =IF(B11<>($CB$2),"",BL11) | CC11: =IF(B11<>($CC$2),"",BL11) | CD11: =IF(B11<>($CD$2),"",BL11) | CF11: =IF(B11<>($CF$2),"",BL11) | CG11: =IF(B11<>($CG$2),"",BL11)
A12: FINALE
A13: MILITON PIERRE | B13: CSB | F13: =IF(ISBLANK(E13),"",VLOOKUP(E13,H_60_m,2)) | G13: 1302 | H13: =IF(ISBLANK(G13),"",VLOOKUP(G13,MF_150_m,2)) -> 1 | L13: =IF(ISBLANK(K13),"",VLOOKUP(K13,MF_50_m_H_,2)) | N13: =IF(ISBLANK(M13),"",VLOOKUP(M13,MF_60_m_H_,2)) | T13: =IF(ISBLANK(S13),"",VLOOKUP(S13,MF_1000_m,2)) | AF13: =IF(ISBLANK(AE13),"",VLOOKUP(AE13,MF_LONGUEUR,2)) | AL13: =IF(ISBLANK(AK13),"",VLOOKUP(AK13,MF_PERCHE,2)) | AN13: =IF(ISBLANK(AM13),"",VLOOKUP(AM13,MF_POIDS,2)) | AP13: =IF(ISBLANK(AO13),"",VLOOKUP(AO13,MF_DISQUE,2)) | AR13: =IF(ISBLANK(AQ13),"",VLOOKUP(AQ13,MF_JAVELOT,2)) | AV13: =SUM(AT13,AR13,AP13,AN13,AL13,AJ13,AH13,AF13,AD13,AB13,Z13,X13,V13,T13,R13,P13,N13,L13,J13,H13,F13,D13) -> 1 | AY13: =IF(B13<>($AY$2),"",AV13) | AZ13: =IF(B13<>($AZ$2),"",AV13) | BA13: =IF(B13<>($BA$2),"",AV13) | BB13: =IF(B13<>($BB$2),"",AV13) | BC13: =IF(B13<>($BC$2),"",AV13) | BD13: =IF(B13<>($BD$2),"",AV13) | BE13: =IF(B13<>($BE$2),"",AV13) | BF13: =IF(B13<>($BF$2),"",AV13) | BG13: =IF(B13<>($BG$2),"",AV13) | BH13: =IF(B13<>($BH$2),"",AV13) | BI13: =IF(B13<>($BI$2),"",AV13) | BJ13: =IF(B13<>($BJ$2),"",AV13) | BK13: =IF(B13<>($BK$2),"",AV13) | BL13: =IF(B13<>($BL$2),"",AV13) | BM13: =IF(B13<>($BM$2),"",AV13) | BO13: =IF(B13<>($BO$2),"",AV13) | BP13: =IF(B13<>($BP$2),"",AV13) | BQ13: =IF(B13<>($BQ$2),"",AV13)
A14: SELVARUBAN SUJEEBAN | B14: ESS | F14: =IF(ISBLANK(E14),"",VLOOKUP(E14,H_60_m,2)) | G14: 1178 | H14: =IF(ISBLANK(G14),"",VLOOKUP(G14,MF_150_m,2)) -> 1 | L14: =IF(ISBLANK(K14),"",VLOOKUP(K14,MF_50_m_H_,2)) | N14: =IF(ISBLANK(M14),"",VLOOKUP(M14,MF_60_m_H_,2)) | T14: =IF(ISBLANK(S14),"",VLOOKUP(S14,MF_1000_m,2)) | AR14: =IF(ISBLANK(AQ14),"",VLOOKUP(AQ14,MF_JAVELOT,2)) | AV14: =SUM(AT14,AR14,AP14,AN14,AL14,AJ14,AH14,AF14,AD14,AB14,Z14,X14,V14,T14,R14,P14,N14,L14,J14,H14,F14,D14) -> 1 | AZ14: =IF(B14<>($AZ$2),"",AV14) | BA14: =IF(B14<>($BA$2),"",AV14) | BB14: =IF(B14<>($BB$2),"",AV14) | BD14: =IF(B14<>($BD$2),"",AV14) | BE14: =IF(B14<>($BE$2),"",AV14) | BF14: =IF(B14<>($BF$2),"",AV14) | BG14: =IF(B14<>($BG$2),"",AV14) | BH14: =IF(B14<>($BH$2),"",AV14) | BI14: =IF(B14<>($BI$2),"",AV14) | BJ14: =IF(B14<>($BJ$2),"",AV14) | BK14: =IF(B14<>($BK$2),"",AV14) | BL14: =IF(B14<>($BL$2),"",AV14) | BM14: =IF(B14<>($BM$2),"",AV14) | BP14: =IF(B14<>($BP$2),"",AV14)
A15: NDIAYE BOUBOU | B15: ESCXV | F15: =IF(ISBLANK(E15),"",VLOOKUP(E15,H_60_m,2)) | G15: 1694 | H15: =IF(ISBLANK(G15),"",VLOOKUP(G15,H_100_m,2)) -> 1 | J15: =IF(ISBLANK(I15),"",VLOOKUP(I15,H_200_m,2)) | L15: =IF(ISBLANK(K15),"",VLOOKUP(K15,H_300_m,2)) | N15: =IF(ISBLANK(M15),"",VLOOKUP(M15,H_400_m,2)) | P15: =IF(ISBLANK(O15),"",VLOOKUP(O15,H_50_m_H_,2)) | R15: =IF(ISBLANK(Q15),"",VLOOKUP(Q15,H_60_m_H_,2)) | T15: =IF(ISBLANK(S15),"",VLOOKUP(S15,H_110_m_H_,2)) | V15: =IF(ISBLANK(U15),"",VLOOKUP(U15,H_320_m_H,2)) | X15: =IF(ISBLANK(W15),"",VLOOKUP(W15,H_400_m_H,2)) | Z15: =IF(ISBLANK(Y15),"",VLOOKUP(Y15,H_500_m,2)) | AB15: =IF(ISBLANK(AA15),"",VLOOKUP(AA15,H_800_m,2)) | AD15: =IF(ISBLANK(AC15),"",VLOOKUP(AC15,H_1000_m,2)) | AF15: =IF(ISBLANK(AE15),"",VLOOKUP(AE15,H_1500_m,2)) | AH15: =IF(ISBLANK(AG15),"",VLOOKUP(AG15,H_2000_m,2)) | AJ15: =IF(ISBLANK(AI15),"",VLOOKUP(AI15,H_3000_m,2)) | AL15: =IF(ISBLANK(AK15),"",VLOOKUP(AK15,H_5000_m,2)) | AN15: =IF(ISBLANK(AM15),"",VLOOKUP(AM15,H_1500_steeple,2)) | AP15: =IF(ISBLANK(AO15),"",VLOOKUP(AO15,H_3000_steeple,2)) | AR15: =IF(ISBLANK(AQ15),"",VLOOKUP(AQ15,H_3_km_marche,2)) | AT15: =IF(ISBLANK(AS15),"",VLOOKUP(AS15,H_5_km_marche,2)) | AV15: =IF(ISBLANK(AU15),"",VLOOKUP(AU15,H_LONGUEUR,2)) | AX15: =IF(ISBLANK(AW15),"",VLOOKUP(AW15,H_T_S_,2)) | AZ15: =IF(ISBLANK(AY15),"",VLOOKUP(AY15,H_HAUTEUR,2)) | BB15: =IF(ISBLANK(BA15),"",VLOOKUP(BA15,H_PERCHE,2)) | BD15: =IF(ISBLANK(BC15),"",VLOOKUP(BC15,H_POIDS,2)) | BF15: =IF(ISBLANK(BE15),"",VLOOKUP(BE15,H_DISQUE,2)) | BH15: =IF(ISBLANK(BG15),"",VLOOKUP(BG15,H_JAVELOT,2)) | BJ15: =IF(ISBLANK(BI15),"",VLOOKUP(BI15,H_MARTEAU,2)) | BK15: =IF(ISBLANK(B15),"",COUNTA(BI15,BG15,BE15,BC15,BA15,AY15,AW15,AU15,AS15,AQ15,AO15,AM15,AK15,AI15,AG15,AE15,AC15,AA15,Y15,W15,U15,S15,Q15,O15,M15,K15,I15,G15,E15)) -> 1 | BL15: =SUM(BJ15,BH15,BF15,BD15,BB15,AZ15,AX15,AV15,AT15,AR15,AP15,AF15,AD15,AB15,Z15,X15,V15,T15,R15,P15,N15,L15,J15,H15,F15,D15) -> 1 | BO15: =IF(B15<>($BO$2),"",BL15) | BP15: =IF(B15<>($BP$2),"",BL15) | BQ15: =IF(B15<>($BQ$2),"",BL15) | BR15: =IF(B15<>($BR$2),"",BL15) | BS15: =IF(B15<>($BS$2),"",BL15) | BT15: =IF(B15<>($BT$2),"",BL15) | BU15: =IF(B15<>($BU$2),"",BL15) | BV15: =IF(B15<>($BV$2),"",BL15) | BW15: =IF(B15<>($BW$2),"",BL15) | BX15: =IF(B15<>($BX$2),"",BL15) | BY15: =IF(B15<>($BY$2),"",BL15) -> 1 | BZ15: =IF(B15<>($BZ$2),"",BL15) | CA15: =IF(B15<>($CA$2),"",BL15) | CB15: =IF(B15<>($CB$2),"",BL15) | CC15: =IF(B15<>($CC$2),"",BL15) | CD15: =IF(B15<>($CD$2),"",BL15) | CE15: =IF(B15<>($CE$2),"",BL15) | CF15: =IF(B15<>($CF$2),"",BL15) | CG15: =IF(B15<>($CG$2),"",BL15)
BO17: =SUM(BO4:BO15) -> 0 | BP17: =SUM(#REF!) -> #REF! | BQ17: =SUM(BQ4:BQ15) -> 1 | BR17: =SUM(BR4:BR15) -> 0 | BS17: =SUM(BS4:BS15) -> 0 | BT17: =SUM(BT4:BT15) -> 0 | BU17: =SUM(BU4:BU15) -> 0 | BV17: =SUM(BV4:BV15) -> 0 | BW17: =SUM(BW4:BW15) -> 53 | BX17: =SUM(BX4:BX15) -> 0 | ... CD17: =SUM(CD4:CD15) -> 0 | CE17: =SUM(#REF!) -> #REF! | CF17: =SUM(CF4:CF15) -> 0 | CG17: =SUM(CG4:CG15) -> 0
BO19: =COUNTIF($B$4:$B15,BO2) -> 0 | BP19: =COUNTIF($B$4:$B15,BP2) -> 0 | BQ19: =COUNTIF($B$4:$B15,BQ2) -> 1 | BR19: =COUNTIF($B$4:$B15,BR2) -> 0 | BS19: =COUNTIF($B$4:$B15,BS2) -> 0 | BT19: =COUNTIF($B$4:$B15,BT2) -> 0 | BU19: =COUNTIF($B$4:$B15,BU2) -> 0 | BV19: =COUNTIF($B$4:$B15,BV2) -> 0 | ... CG19: =COUNTIF($B$4:$B15,CG2) -> 0

Sheet Femmes
A1: FEMININES
A3: NOM | B3: CAT | C3: CLUB | D3: 50 m | F3: 60 m | H3: 100 m | J3: 200 m | L3: 300 m | N3: 400 m | P3: 50 haies | R3: 60 haies | T3: 100 haies | V3: 320 haies | X3: 400 m haies | Z3: 500 m | AB3: 800 m | AD3: 1000 m | AF3: 1500 m | AH3: 2000 m | AJ3: 3000 m | AL3: 5000 m | AN3: 1500 steeple | AP3: 3000 steeple | AR3: 3 km marche | AT3: 5 km marche | AV3: Longueur | AX3: Triple saut | AZ3: Hauteur | BB3: Perche | BD3: Poids | BG3: Disque | BJ3: Javelot | BM3: Marteau | BP3: Nombre | BQ3: TOTAL | BR3: PLACE
D4: Perf. | E4: Pts | F4: Perf. | G4: Pts | H4: Perf. | I4: Pts | J4: Perf. | K4: Pts | L4: Perf. | M4: Pts | N4: Perf. | O4: Pts | P4: Perf. | Q4: Pts | R4: Perf. | S4: Pts | T4: Perf. | U4: Pts | V4: Perf. | W4: Pts | X4: Perf. | Y4: Pts | Z4: Perf. | AA4: Pts | AB4: Perf. | AC4: Pts | AD4: Perf. | AE4: Pts | AF4: Perf. | AG4: Pts | AH4: Perf. | AI4: Pts | AJ4: Perf. | AK4: Pts | AL4: Perf. | AM4: Pts | AN4: Perf. | AO4: Pts | AP4: Perf. | AQ4: Pts | AR4: Perf. | AS4: Pts | AT4: Perf. | AU4: Pts | AV4: Perf. | AW4: Pts | AX4: Perf. | AY4: Pts | AZ4: Perf. | BA4: Pts | BB4: Perf. | BC4: Pts | BD4: Perf. | BE4: Kg | BF4: Pts | BG4: Perf. | BH4: Kg | BI4: Pts | BJ4: Perf. | BK4: Kg | BL4: Pts | BM4: Perf. | BN4: KG | BO4: Pts | BP4: Epr.
A5: ULYSSE LINDSAY | B5: JF | C5: SDUS | G5: =IF(ISBLANK(F5),"",VLOOKUP(F5,F_60_m,2)) | I5: =IF(ISBLANK(H5),"",VLOOKUP(H5,F_100_m,2)) | K5: =IF(ISBLANK(J5),"",VLOOKUP(J5,F_200_m,2)) | M5: =IF(ISBLANK(L5),"",VLOOKUP(L5,F_300_m,2)) | O5: =IF(ISBLANK(N5),"",VLOOKUP(N5,F_400_m,2)) | Q5: =IF(ISBLANK(P5),"",VLOOKUP(P5,F_50_m_H_,2)) | S5: =IF(ISBLANK(R5),"",VLOOKUP(R5,F_60_m_H_,2)) | U5: =IF(ISBLANK(T5),"",VLOOKUP(T5,F_100_m_H_,2)) | W5: =IF(ISBLANK(V5),"",VLOOKUP(V5,F_320_m_H,2)) | Y5: =IF(ISBLANK(X5),"",VLOOKUP(X5,F_400_m_H,2)) | AA5: =IF(ISBLANK(Z5),"",VLOOKUP(Z5,F_500_m,2)) | AC5: =IF(ISBLANK(AB5),"",VLOOKUP(AB5,F_800_m,2)) | AE5: =IF(ISBLANK(AD5),"",VLOOKUP(AD5,F_1000_m,2)) | AG5: =IF(ISBLANK(AF5),"",VLOOKUP(AF5,F_1500_m,2)) | AI5: =IF(ISBLANK(AH5),"",VLOOKUP(AH5,F_2000_m,2)) | AK5: =IF(ISBLANK(AJ5),"",VLOOKUP(AJ5,F_3000_m,2)) | AM5: =IF(ISBLANK(AL5),"",VLOOKUP(AL5,F_5000_m,2)) | AO5: =IF(ISBLANK(AN5),"",VLOOKUP(AN5,F_1500_steeple,2)) | AQ5: =IF(ISBLANK(AP5),"",VLOOKUP(AP5,F_3000_steeple,2)) | AS5: =IF(ISBLANK(AR5),"",VLOOKUP(AR5,F_3_km_marche,2)) | AU5: =IF(ISBLANK(AT5),"",VLOOKUP(AT5,F_5_km_marche,2)) | AW5: =IF(ISBLANK(AV5),"",VLOOKUP(AV5,F_LONGUEUR,2)) | AY5: =IF(ISBLANK(AX5),"",VLOOKUP(AX5,F_T_S_,2)) | BA5: =IF(ISBLANK(AZ5),"",VLOOKUP(AZ5,F_HAUTEUR,2)) | BC5: =IF(ISBLANK(BB5),"",VLOOKUP(BB5,F_PERCHE,2)) | BF5: =IF(ISBLANK(BD5),"",VLOOKUP(BD5,F_POIDS,2)) | BI5: =IF(ISBLANK(BG5),"",VLOOKUP(BG5,F_DISQUE,2)) | BJ5: 1278 | BL5: =IF(ISBLANK(BJ5),"",VLOOKUP(BJ5,F_JAVELOT,2)) -> 8 | BO5: =IF(ISBLANK(BM5),"",VLOOKUP(BM5,F_MARTEAU,2)) | BP5: =IF(ISBLANK(#REF!),"",COUNTA(BM5,BJ5,BG5,BD5,BB5,AZ5,AX5,AV5,AT5,AR5,AP5,AN5,AL5,AJ5,AH5,AF5,AD5,AB5,Z5,X5,V5,T5,R5,P5,N5,L5,J5,H5,F5,D5)) -> 1 | BQ5: =SUM(BO5,BL5,BI5,BF5,BC5,BA5,AY5,AW5,AU5,AS5,AQ5,AO5,AM5,AK5,AI5,AG5,AE5,AC5,AA5,Y5,W5,U5,S5,Q5,O5,M5,K5,I5,G5,E5) -> 8
A6: CANTOBION NELDY | B6: V | C6: SDUS | G6: =IF(ISBLANK(F6),"",VLOOKUP(F6,F_60_m,2)) | H6: 1502 | I6: =IF(ISBLANK(H6),"",VLOOKUP(H6,F_100_m,2)) -> 1 | K6: =IF(ISBLANK(J6),"",VLOOKUP(J6,F_200_m,2)) | M6: =IF(ISBLANK(L6),"",VLOOKUP(L6,F_300_m,2)) | O6: =IF(ISBLANK(N6),"",VLOOKUP(N6,F_400_m,2)) | Q6: =IF(ISBLANK(P6),"",VLOOKUP(P6,F_50_m_H_,2)) | S6: =IF(ISBLANK(R6),"",VLOOKUP(R6,F_60_m_H_,2)) | U6: =IF(ISBLANK(T6),"",VLOOKUP(T6,F_100_m_H_,2)) | W6: =IF(ISBLANK(V6),"",VLOOKUP(V6,F_320_m_H,2)) | Y6: =IF(ISBLANK(X6),"",VLOOKUP(X6,F_400_m_H,2)) | AA6: =IF(ISBLANK(Z6),"",VLOOKUP(Z6,F_500_m,2)) | AC6: =IF(ISBLANK(AB6),"",VLOOKUP(AB6,F_800_m,2)) | AE6: =IF(ISBLANK(AD6),"",VLOOKUP(AD6,F_1000_m,2)) | AG6: =IF(ISBLANK(AF6),"",VLOOKUP(AF6,F_1500_m,2)) | AI6: =IF(ISBLANK(AH6),"",VLOOKUP(AH6,F_2000_m,2)) | AK6: =IF(ISBLANK(AJ6),"",VLOOKUP(AJ6,F_3000_m,2)) | AM6: =IF(ISBLANK(AL6),"",VLOOKUP(AL6,F_5000_m,2)) | AO6: =IF(ISBLANK(AN6),"",VLOOKUP(AN6,F_1500_steeple,2)) | AQ6: =IF(ISBLANK(AP6),"",VLOOKUP(AP6,F_3000_steeple,2)) | AS6: =IF(ISBLANK(AR6),"",VLOOKUP(AR6,F_3_km_marche,2)) | AU6: =IF(ISBLANK(AT6),"",VLOOKUP(AT6,F_5_km_marche,2)) | AW6: =IF(ISBLANK(AV6),"",VLOOKUP(AV6,F_LONGUEUR,2)) | AY6: =IF(ISBLANK(AX6),"",VLOOKUP(AX6,F_T_S_,2)) | BA6: =IF(ISBLANK(AZ6),"",VLOOKUP(AZ6,F_HAUTEUR,2)) | BC6: =IF(ISBLANK(BB6),"",VLOOKUP(BB6,F_PERCHE,2)) | BF6: =IF(ISBLANK(BD6),"",VLOOKUP(BD6,F_POIDS,2)) | BI6: =IF(ISBLANK(BG6),"",VLOOKUP(BG6,F_DISQUE,2)) | BL6: =IF(ISBLANK(BJ6),"",VLOOKUP(BJ6,F_JAVELOT,2)) | BO6: =IF(ISBLANK(BM6),"",VLOOKUP(BM6,F_MARTEAU,2)) | BP6: =IF(ISBLANK(#REF!),"",COUNTA(BM6,BJ6,BG6,BD6,BB6,AZ6,AX6,AV6,AT6,AR6,AP6,AN6,AL6,AJ6,AH6,AF6,AD6,AB6,Z6,X6,V6,T6,R6,P6,N6,L6,J6,H6,F6,D6)) -> 1 | BQ6: =SUM(BO6,BL6,BI6,BF6,BC6,BA6,AY6,AW6,AU6,AS6,AQ6,AO6,AM6,AK6,AI6,AG6,AE6,AC6,AA6,Y6,W6,U6,S6,Q6,O6,M6,K6,I6,G6,E6) -> 1
A7: KINGUE FRANCINE | B7: JF | C7: ABDO | G7: =IF(ISBLANK(F7),"",VLOOKUP(F7,F_60_m,2)) | H7: Ab | I7: =IF(ISBLANK(H7),"",VLOOKUP(H7,F_100_m,2)) -> 0 | K7: =IF(ISBLANK(J7),"",VLOOKUP(J7,F_200_m,2)) | M7: =IF(ISBLANK(L7),"",VLOOKUP(L7,F_300_m,2)) | N7: 6800 | O7: =IF(ISBLANK(N7),"",VLOOKUP(N7,F_400_m,2)) -> 1 | Q7: =IF(ISBLANK(P7),"",VLOOKUP(P7,F_50_m_H_,2)) | S7: =IF(ISBLANK(R7),"",VLOOKUP(R7,F_60_m_H_,2)) | U7: =IF(ISBLANK(T7),"",VLOOKUP(T7,F_100_m_H_,2)) | W7: =IF(ISBLANK(V7),"",VLOOKUP(V7,F_320_m_H,2)) | Y7: =IF(ISBLANK(X7),"",VLOOKUP(X7,F_400_m_H,2)) | AA7: =IF(ISBLANK(Z7),"",VLOOKUP(Z7,F_500_m,2)) | AC7: =IF(ISBLANK(AB7),"",VLOOKUP(AB7,F_800_m,2)) | AE7: =IF(ISBLANK(AD7),"",VLOOKUP(AD7,F_1000_m,2)) | AG7: =IF(ISBLANK(AF7),"",VLOOKUP(AF7,F_1500_m,2)) | AI7: =IF(ISBLANK(AH7),"",VLOOKUP(AH7,F_2000_m,2)) | AK7: =IF(ISBLANK(AJ7),"",VLOOKUP(AJ7,F_3000_m,2)) | AM7: =IF(ISBLANK(AL7),"",VLOOKUP(AL7,F_5000_m,2)) | AO7: =IF(ISBLANK(AN7),"",VLOOKUP(AN7,F_1500_steeple,2)) | AQ7: =IF(ISBLANK(AP7),"",VLOOKUP(AP7,F_3000_steeple,2)) | AS7: =IF(ISBLANK(AR7),"",VLOOKUP(AR7,F_3_km_marche,2)) | AU7: =IF(ISBLANK(AT7),"",VLOOKUP(AT7,F_5_km_marche,2)) | AW7: =IF(ISBLANK(AV7),"",VLOOKUP(AV7,F_LONGUEUR,2)) | AY7: =IF(ISBLANK(AX7),"",VLOOKUP(AX7,F_T_S_,2)) | BA7: =IF(ISBLANK(AZ7),"",VLOOKUP(AZ7,F_HAUTEUR,2)) | BC7: =IF(ISBLANK(BB7),"",VLOOKUP(BB7,F_PERCHE,2)) | BF7: =IF(ISBLANK(BD7),"",VLOOKUP(BD7,F_POIDS,2)) | BI7: =IF(ISBLANK(BG7),"",VLOOKUP(BG7,F_DISQUE,2)) | BL7: =IF(ISBLANK(BJ7),"",VLOOKUP(BJ7,F_JAVELOT,2)) | BO7: =IF(ISBLANK(BM7),"",VLOOKUP(BM7,F_MARTEAU,2)) | BP7: =IF(ISBLANK(#REF!),"",COUNTA(BM7,BJ7,BG7,BD7,BB7,AZ7,AX7,AV7,AT7,AR7,AP7,AN7,AL7,AJ7,AH7,AF7,AD7,AB7,Z7,X7,V7,T7,R7,P7,N7,L7,J7,H7,F7,D7)) -> 2 | BQ7: =SUM(BO7,BL7,BI7,BF7,BC7,BA7,AY7,AW7,AU7,AS7,AQ7,AO7,AM7,AK7,AI7,AG7,AE7,AC7,AA7,Y7,W7,U7,S7,Q7,O7,M7,K7,I7,G7,E7) -> 1
A8: PELTAN ESTER | B8: JF | C8: CSB | G8: =IF(ISBLANK(F8),"",VLOOKUP(F8,F_60_m,2)) | I8: =IF(ISBLANK(H8),"",VLOOKUP(H8,F_100_m,2)) | K8: =IF(ISBLANK(J8),"",VLOOKUP(J8,F_200_m,2)) | M8: =IF(ISBLANK(L8),"",VLOOKUP(L8,F_300_m,2)) | O8: =IF(ISBLANK(N8),"",VLOOKUP(N8,F_400_m,2)) | Q8: =IF(ISBLANK(P8),"",VLOOKUP(P8,F_50_m_H_,2)) | S8: =IF(ISBLANK(R8),"",VLOOKUP(R8,F_60_m_H_,2)) | U8: =IF(ISBLANK(T8),"",VLOOKUP(T8,F_100_m_H_,2)) | W8: =IF(ISBLANK(V8),"",VLOOKUP(V8,F_320_m_H,2)) | Y8: =IF(ISBLANK(X8),"",VLOOKUP(X8,F_400_m_H,2)) | AA8: =IF(ISBLANK(Z8),"",VLOOKUP(Z8,F_500_m,2)) | AC8: =IF(ISBLANK(AB8),"",VLOOKUP(AB8,F_800_m,2)) | AE8: =IF(ISBLANK(AD8),"",VLOOKUP(AD8,F_1000_m,2)) | AG8: =IF(ISBLANK(AF8),"",VLOOKUP(AF8,F_1500_m,2)) | AI8: =IF(ISBLANK(AH8),"",VLOOKUP(AH8,F_2000_m,2)) | AK8: =IF(ISBLANK(AJ8),"",VLOOKUP(AJ8,F_3000_m,2)) | AM8: =IF(ISBLANK(AL8),"",VLOOKUP(AL8,F_5000_m,2)) | AO8: =IF(ISBLANK(AN8),"",VLOOKUP(AN8,F_1500_steeple,2)) | AQ8: =IF(ISBLANK(AP8),"",VLOOKUP(AP8,F_3000_steeple,2)) | AS8: =IF(ISBLANK(AR8),"",VLOOKUP(AR8,F_3_km_marche,2)) | AU8: =IF(ISBLANK(AT8),"",VLOOKUP(AT8,F_5_km_marche,2)) | AW8: =IF(ISBLANK(AV8),"",VLOOKUP(AV8,F_LONGUEUR,2)) | AY8: =IF(ISBLANK(AX8),"",VLOOKUP(AX8,F_T_S_,2)) | BA8: =IF(ISBLANK(AZ8),"",VLOOKUP(AZ8,F_HAUTEUR,2)) | BC8: =IF(ISBLANK(BB8),"",VLOOKUP(BB8,F_PERCHE,2)) | BD8: 787 | BF8: =IF(ISBLANK(BD8),"",VLOOKUP(BD8,F_POIDS,2)) -> 17 | BG8: 2241 | BI8: =IF(ISBLANK(BG8),"",VLOOKUP(BG8,F_DISQUE,2)) -> 18 | BJ8: 2253 | BL8: =IF(ISBLANK(BJ8),"",VLOOKUP(BJ8,F_JAVELOT,2)) -> 17 | BO8: =IF(ISBLANK(BM8),"",VLOOKUP(BM8,F_MARTEAU,2)) | BP8: =IF(ISBLANK(#REF!),"",COUNTA(BM8,BJ8,BG8,BD8,BB8,AZ8,AX8,AV8,AT8,AR8,AP8,AN8,AL8,AJ8,AH8,AF8,AD8,AB8,Z8,X8,V8,T8,R8,P8,N8,L8,J8,H8,F8,D8)) -> 3 | BQ8: =SUM(BO8,BL8,BI8,BF8,BC8,BA8,AY8,AW8,AU8,AS8,AQ8,AO8,AM8,AK8,AI8,AG8,AE8,AC8,AA8,Y8,W8,U8,S8,Q8,O8,M8,K8,I8,G8,E8) -> 52
A9: GARATEA SUSANA | B9: V1 | C9: ASGB | G9: =IF(ISBLANK(F9),"",VLOOKUP(F9,F_60_m,2)) | I9: =IF(ISBLANK(H9),"",VLOOKUP(H9,F_100_m,2)) | K9: =IF(ISBLANK(J9),"",VLOOKUP(J9,F_200_m,2)) | M9: =IF(ISBLANK(L9),"",VLOOKUP(L9,F_300_m,2)) | O9: =IF(ISBLANK(N9),"",VLOOKUP(N9,F_400_m,2)) | Q9: =IF(ISBLANK(P9),"",VLOOKUP(P9,F_50_m_H_,2)) | S9: =IF(ISBLANK(R9),"",VLOOKUP(R9,F_60_m_H_,2)) | U9: =IF(ISBLANK(T9),"",VLOOKUP(T9,F_100_m_H_,2)) | W9: =IF(ISBLANK(V9),"",VLOOKUP(V9,F_320_m_H,2)) | Y9: =IF(ISBLANK(X9),"",VLOOKUP(X9,F_400_m_H,2)) | AA9: =IF(ISBLANK(Z9),"",VLOOKUP(Z9,F_500_m,2)) | AC9: =IF(ISBLANK(AB9),"",VLOOKUP(AB9,F_800_m,2)) | AE9: =IF(ISBLANK(AD9),"",VLOOKUP(AD9,F_1000_m,2)) | AG9: =IF(ISBLANK(AF9),"",VLOOKUP(AF9,F_1500_m,2)) | AI9: =IF(ISBLANK(AH9),"",VLOOKUP(AH9,F_2000_m,2)) | AK9: =IF(ISBLANK(AJ9),"",VLOOKUP(AJ9,F_3000_m,2)) | AM9: =IF(ISBLANK(AL9),"",VLOOKUP(AL9,F_5000_m,2)) | AO9: =IF(ISBLANK(AN9),"",VLOOKUP(AN9,F_1500_steeple,2)) | AQ9: =IF(ISBLANK(AP9),"",VLOOKUP(AP9,F_3000_steeple,2)) | AS9: =IF(ISBLANK(AR9),"",VLOOKUP(AR9,F_3_km_marche,2)) | AU9: =IF(ISBLANK(AT9),"",VLOOKUP(AT9,F_5_km_marche,2)) | AW9: =IF(ISBLANK(AV9),"",VLOOKUP(AV9,F_LONGUEUR,2)) | AY9: =IF(ISBLANK(AX9),"",VLOOKUP(AX9,F_T_S_,2)) | BA9: =IF(ISBLANK(AZ9),"",VLOOKUP(AZ9,F_HAUTEUR,2)) | BC9: =IF(ISBLANK(BB9),"",VLOOKUP(BB9,F_PERCHE,2)) | BD9: 901 | BF9: =IF(ISBLANK(BD9),"",VLOOKUP(BD9,F_POIDS,2)) -> 19 | BG9: 2179 | BI9: =IF(ISBLANK(BG9),"",VLOOKUP(BG9,F_DISQUE,2)) -> 17 | BL9: =IF(ISBLANK(BJ9),"",VLOOKUP(BJ9,F_JAVELOT,2)) | BO9: =IF(ISBLANK(BM9),"",VLOOKUP(BM9,F_MARTEAU,2)) | BP9: =IF(ISBLANK(#REF!),"",COUNTA(BM9,BJ9,BG9,BD9,BB9,AZ9,AX9,AV9,AT9,AR9,AP9,AN9,AL9,AJ9,AH9,AF9,AD9,AB9,Z9,X9,V9,T9,R9,P9,N9,L9,J9,H9,F9,D9)) -> 2 | BQ9: =SUM(BO9,BL9,BI9,BF9,BC9,BA9,AY9,AW9,AU9,AS9,AQ9,AO9,AM9,AK9,AI9,AG9,AE9,AC9,AA9,Y9,W9,U9,S9,Q9,O9,M9,K9,I9,G9,E9) -> 36
A10: MANKENDA FLORE | B10: S | C10: ASGB | G10: =IF(ISBLANK(F10),"",VLOOKUP(F10,F_60_m,2)) | I10: =IF(ISBLANK(H10),"",VLOOKUP(H10,F_100_m,2)) | K10: =IF(ISBLANK(J10),"",VLOOKUP(J10,F_200_m,2)) | M10: =IF(ISBLANK(L10),"",VLOOKUP(L10,F_300_m,2)) | O10: =IF(ISBLANK(N10),"",VLOOKUP(N10,F_400_m,2)) | Q10: =IF(ISBLANK(P10),"",VLOOKUP(P10,F_50_m_H_,2)) | S10: =IF(ISBLANK(R10),"",VLOOKUP(R10,F_60_m_H_,2)) | U10: =IF(ISBLANK(T10),"",VLOOKUP(T10,F_100_m_H_,2)) | W10: =IF(ISBLANK(V10),"",VLOOKUP(V10,F_320_m_H,2)) | Y10: =IF(ISBLANK(X10),"",VLOOKUP(X10,F_400_m_H,2)) | AA10: =IF(ISBLANK(Z10),"",VLOOKUP(Z10,F_500_m,2)) | AC10: =IF(ISBLANK(AB10),"",VLOOKUP(AB10,F_800_m,2)) | AE10: =IF(ISBLANK(AD10),"",VLOOKUP(AD10,F_1000_m,2)) | AG10: =IF(ISBLANK(AF10),"",VLOOKUP(AF10,F_1500_m,2)) | AI10: =IF(ISBLANK(AH10),"",VLOOKUP(AH10,F_2000_m,2)) | AK10: =IF(ISBLANK(AJ10),"",VLOOKUP(AJ10,F_3000_m,2)) | AM10: =IF(ISBLANK(AL10),"",VLOOKUP(AL10,F_5000_m,2)) | AO10: =IF(ISBLANK(AN10),"",VLOOKUP(AN10,F_1500_steeple,2)) | AQ10: =IF(ISBLANK(AP10),"",VLOOKUP(AP10,F_3000_steeple,2)) | AS10: =IF(ISBLANK(AR10),"",VLOOKUP(AR10,F_3_km_marche,2)) | AU10: =IF(ISBLANK(AT10),"",VLOOKUP(AT10,F_5_km_marche,2)) | AV10: 364 | AW10: =IF(ISBLANK(AV10),"",VLOOKUP(AV10,F_LONGUEUR,2)) -> 16 | AY10: =IF(ISBLANK(AX10),"",VLOOKUP(AX10,F_T_S_,2)) | BA10: =IF(ISBLANK(AZ10),"",VLOOKUP(AZ10,F_HAUTEUR,2)) | BC10: =IF(ISBLANK(BB10),"",VLOOKUP(BB10,F_PERCHE,2)) | BD10: 634 | BF10: =IF(ISBLANK(BD10),"",VLOOKUP(BD10,F_POIDS,2)) -> 15 | BG10: 2203 | BI10: =IF(ISBLANK(BG10),"",VLOOKUP(BG10,F_DISQUE,2)) -> 18 | BL10: =IF(ISBLANK(BJ10),"",VLOOKUP(BJ10,F_JAVELOT,2)) | BO10: =IF(ISBLANK(BM10),"",VLOOKUP(BM10,F_MARTEAU,2)) | BP10: =IF(ISBLANK(#REF!),"",COUNTA(BM10,BJ10,BG10,BD10,BB10,AZ10,AX10,AV10,AT10,AR10,AP10,AN10,AL10,AJ10,AH10,AF10,AD10,AB10,Z10,X10,V10,T10,R10,P10,N10,L10,J10,H10,F10,D10)) -> 3 | BQ10: =SUM(BO10,BL10,BI10,BF10,BC10,BA10,AY10,AW10,AU10,AS10,AQ10,AO10,AM10,AK10,AI10,AG10,AE10,AC10,AA10,Y10,W10,U10,S10,Q10,O10,M10,K10,I10,G10,E10) -> 49
A11: MACE MELANIE | B11: JF | C11: CSB | G11: =IF(ISBLANK(F11),"",VLOOKUP(F11,F_60_m,2)) | I11: =IF(ISBLANK(H11),"",VLOOKUP(H11,F_100_m,2)) | K11: =IF(ISBLANK(J11),"",VLOOKUP(J11,F_200_m,2)) | M11: =IF(ISBLANK(L11),"",VLOOKUP(L11,F_300_m,2)) | N11: 7294 | O11: =IF(ISBLANK(N11),"",VLOOKUP(N11,F_400_m,2)) -> 1 | Q11: =IF(ISBLANK(P11),"",VLOOKUP(P11,F_50_m_H_,2)) | S11: =IF(ISBLANK(R11),"",VLOOKUP(R11,F_60_m_H_,2)) | U11: =IF(ISBLANK(T11),"",VLOOKUP(T11,F_100_m_H_,2)) | W11: =IF(ISBLANK(V11),"",VLOOKUP(V11,F_320_m_H,2)) | Y11: =IF(ISBLANK(X11),"",VLOOKUP(X11,F_400_m_H,2)) | AA11: =IF(ISBLANK(Z11),"",VLOOKUP(Z11,F_500_m,2)) | AC11: =IF(ISBLANK(AB11),"",VLOOKUP(AB11,F_800_m,2)) | AE11: =IF(ISBLANK(AD11),"",VLOOKUP(AD11,F_1000_m,2)) | AG11: =IF(ISBLANK(AF11),"",VLOOKUP(AF11,F_1500_m,2)) | AI11: =IF(ISBLANK(AH11),"",VLOOKUP(AH11,F_2000_m,2)) | AK11: =IF(ISBLANK(AJ11),"",VLOOKUP(AJ11,F_3000_m,2)) | AM11: =IF(ISBLANK(AL11),"",VLOOKUP(AL11,F_5000_m,2)) | AO11: =IF(ISBLANK(AN11),"",VLOOKUP(AN11,F_1500_steeple,2)) | AQ11: =IF(ISBLANK(AP11),"",VLOOKUP(AP11,F_3000_steeple,2)) | AS11: =IF(ISBLANK(AR11),"",VLOOKUP(AR11,F_3_km_marche,2)) | AU11: =IF(ISBLANK(AT11),"",VLOOKUP(AT11,F_5_km_marche,2)) | AW11: =IF(ISBLANK(AV11),"",VLOOKUP(AV11,F_LONGUEUR,2)) | AY11: =IF(ISBLANK(AX11),"",VLOOKUP(AX11,F_T_S_,2)) | BA11: =IF(ISBLANK(AZ11),"",VLOOKUP(AZ11,F_HAUTEUR,2)) | BC11: =IF(ISBLANK(BB11),"",VLOOKUP(BB11,F_PERCHE,2)) | BF11: =IF(ISBLANK(BD11),"",VLOOKUP(BD11,F_POIDS,2)) | BI11: =IF(ISBLANK(BG11),"",VLOOKUP(BG11,F_DISQUE,2)) | BL11: =IF(ISBLANK(BJ11),"",VLOOKUP(BJ11,F_JAVELOT,2)) | BO11: =IF(ISBLANK(BM11),"",VLOOKUP(BM11,F_MARTEAU,2)) | BP11: =IF(ISBLANK(#REF!),"",COUNTA(BM11,BJ11,BG11,BD11,BB11,AZ11,AX11,AV11,AT11,AR11,AP11,AN11,AL11,AJ11,AH11,AF11,AD11,AB11,Z11,X11,V11,T11,R11,P11,N11,L11,J11,H11,F11,D11)) -> 1 | BQ11: =SUM(BO11,BL11,BI11,BF11,BC11,BA11,AY11,AW11,AU11,AS11,AQ11,AO11,AM11,AK11,AI11,AG11,AE11,AC11,AA11,Y11,W11,U11,S11,Q11,O11,M11,K11,I11,G11,E11) -> 1
A12: SENECHAL ADELE | B12: JF | C12: SDUS | H12: 13"49
A13: EL-HABASSI DANYA | C13: ACB | G13: =IF(ISBLANK(F13),"",VLOOKUP(F13,F_60_m,2)) | I13: =IF(ISBLANK(H13),"",VLOOKUP(H13,F_100_m,2)) | K13: =IF(ISBLANK(J13),"",VLOOKUP(J13,F_200_m,2)) | M13: =IF(ISBLANK(L13),"",VLOOKUP(L13,F_300_m,2)) | O13: =IF(ISBLANK(N13),"",VLOOKUP(N13,F_400_m,2)) | Q13: =IF(ISBLANK(P13),"",VLOOKUP(P13,F_50_m_H_,2)) | S13: =IF(ISBLANK(R13),"",VLOOKUP(R13,F_60_m_H_,2)) | U13: =IF(ISBLANK(T13),"",VLOOKUP(T13,F_100_m_H_,2)) | W13: =IF(ISBLANK(V13),"",VLOOKUP(V13,F_320_m_H,2)) | Y13: =IF(ISBLANK(X13),"",VLOOKUP(X13,F_400_m_H,2)) | AA13: =IF(ISBLANK(Z13),"",VLOOKUP(Z13,F_500_m,2)) | AC13: =IF(ISBLANK(AB13),"",VLOOKUP(AB13,F_800_m,2)) | AE13: =IF(ISBLANK(AD13),"",VLOOKUP(AD13,F_1000_m,2)) | AG13: =IF(ISBLANK(AF13),"",VLOOKUP(AF13,F_1500_m,2)) | AI13: =IF(ISBLANK(AH13),"",VLOOKUP(AH13,F_2000_m,2)) | AK13: =IF(ISBLANK(AJ13),"",VLOOKUP(AJ13,F_3000_m,2)) | AM13: =IF(ISBLANK(AL13),"",VLOOKUP(AL13,F_5000_m,2)) | AO13: =IF(ISBLANK(AN13),"",VLOOKUP(AN13,F_1500_steeple,2)) | AQ13: =IF(ISBLANK(AP13),"",VLOOKUP(AP13,F_3000_steeple,2)) | AS13: =IF(ISBLANK(AR13),"",VLOOKUP(AR13,F_3_km_marche,2)) | AU13: =IF(ISBLANK(AT13),"",VLOOKUP(AT13,F_5_km_marche,2)) | AW13: =IF(ISBLANK(AV13),"",VLOOKUP(AV13,F_LONGUEUR,2)) | AY13: =IF(ISBLANK(AX13),"",VLOOKUP(AX13,F_T_S_,2)) | BA13: =IF(ISBLANK(AZ13),"",VLOOKUP(AZ13,F_HAUTEUR,2)) | BC13: =IF(ISBLANK(BB13),"",VLOOKUP(BB13,F_PERCHE,2)) | BF13: =IF(ISBLANK(BD13),"",VLOOKUP(BD13,F_POIDS,2)) | BI13: =IF(ISBLANK(BG13),"",VLOOKUP(BG13,F_DISQUE,2)) | BL13: =IF(ISBLANK(BJ13),"",VLOOKUP(BJ13,F_JAVELOT,2)) | BO13: =IF(ISBLANK(BM13),"",VLOOKUP(BM13,F_MARTEAU,2)) | BP13: =IF(ISBLANK(#REF!),"",COUNTA(BM13,BJ13,BG13,BD13,BB13,AZ13,AX13,AV13,AT13,AR13,AP13,AN13,AL13,AJ13,AH13,AF13,AD13,AB13,Z13,X13,V13,T13,R13,P13,N13,L13,J13,H13,F13,D13)) -> 0 | BQ13: =SUM(BO13,BL13,BI13,BF13,BC13,BA13,AY13,AW13,AU13,AS13,AQ13,AO13,AM13,AK13,AI13,AG13,AE13,AC13,AA13,Y13,W13,U13,S13,Q13,O13,M13,K13,I13,G13,E13) -> 0

Sheet Hommes
A1: MASCULINS
A3: NOM | B3: CAT | C3: CLUB | D3: 50 m | F3: 60 m | H3: 100 m | J3: 200 m | L3: 300 m | N3: 400 m | P3: 50 haies | R3: 60 haies | T3: 110 haies | V3: 320 haies | X3: 400 m haies | Z3: 500 m | AB3: 800 m | AD3: 1000 m | AF3: 1500 m | AH3: 2000 m | AJ3: 3000 m | AL3: 5000 m | AN3: 1500 steeple | AP3: 3000 steeple | AR3: 3 km marche | AT3: 5 km marche | AV3: Longueur | AX3: Triple saut | AZ3: Hauteur | BB3: Perche | BD3: Poids | BG3: Disque | BJ3: Javelot | BM3: Marteau | BP3: Nombre | BQ3: POINTS | BR3: PLACE | BT3: =POINTS!B3 -> ABDO | BU3: =POINTS!C3 -> MASC | BV3: =POINTS!D3 -> ASGB | BW3: =POINTS!E3 -> BMSA | BX3: MS | BY3: =POINTS!G3 -> CMA | BZ3: =POINTS!H3 -> ACMA | CA3: =POINTS!I3 -> COMA | CB3: =POINTS!J3 -> CSB | CC3: =POINTS!K3 -> ESV | CD3: =POINTS!L3 -> ESCXV | CE3: =POINTS!M3 -> ESS | CF3: =POINTS!N3 -> NLSA | ... CK3: =POINTS!S3 -> USMA | CL3: USOB
D4: Perf. | E4: Pts | F4: Perf. | G4: Pts | H4: Perf. | I4: Pts | J4: Perf. | K4: Pts | L4: Perf. | M4: Pts | N4: Perf. | O4: Pts | P4: Perf. | Q4: Pts | R4: Perf. | S4: Pts | T4: Perf. | U4: Pts | V4: Perf. | W4: Pts | X4: Perf. | Y4: Pts | Z4: Perf. | AA4: Pts | AB4: Perf. | AC4: Pts | AD4: Perf. | AE4: Pts | AF4: Perf. | AG4: Pts | AH4: Perf. | AI4: Pts | AJ4: Perf. | AK4: Pts | AL4: Perf. | AM4: Pts | AN4: Perf. | AO4: Pts | AP4: Perf. | AQ4: Pts | AR4: Perf. | AS4: Pts | AT4: Perf. | AU4: Pts | AV4: Perf. | AW4: Pts | AX4: Perf. | AY4: Pts | AZ4: Perf. | BA4: Pts | BB4: Perf. | BC4: Pts | BD4: Perf. | BE4: Kg | BF4: Pts | BG4: Perf. | BH4: Kg | BI4: Pts | BJ4: Perf. | BK4: Kg | BL4: Pts | BM4: Perf. | BN4: KG | BO4: Pts | BP4: =IF(ISBLANK(C4),"",COUNTA(BM4,BJ4,BG4,BD4,BB4,AZ4,AX4,AV4,AT4,AR4,AP4,AN4,AL4,AJ4,AH4,AF4,AD4,AB4,Z4,X4,V4,T4,R4,P4,N4,L4,J4,H4,F4,D4))
A5: HADJI YACINE | B5: JM | C5: SDUS | G5: =IF(ISBLANK(F5),"",VLOOKUP(F5,H_60_m,2)) | I5: =IF(ISBLANK(H5),"",VLOOKUP(H5,H_100_m,2)) | K5: =IF(ISBLANK(J5),"",VLOOKUP(J5,H_200_m,2)) | M5: =IF(ISBLANK(L5),"",VLOOKUP(L5,H_300_m,2)) | O5: =IF(ISBLANK(N5),"",VLOOKUP(N5,H_400_m,2)) | Q5: =IF(ISBLANK(P5),"",VLOOKUP(P5,H_50_m_H_,2)) | S5: =IF(ISBLANK(R5),"",VLOOKUP(R5,H_60_m_H_,2)) | U5: =IF(ISBLANK(T5),"",VLOOKUP(T5,H_110_m_H_,2)) | W5: =IF(ISBLANK(V5),"",VLOOKUP(V5,H_320_m_H,2)) | Y5: =IF(ISBLANK(X5),"",VLOOKUP(X5,H_400_m_H,2)) | AA5: =IF(ISBLANK(Z5),"",VLOOKUP(Z5,H_500_m,2)) | AC5: =IF(ISBLANK(AB5),"",VLOOKUP(AB5,H_800_m,2)) | AE5: =IF(ISBLANK(AD5),"",VLOOKUP(AD5,H_1000_m,2)) | AF5: 44320 | AG5: =IF(ISBLANK(AF5),"",VLOOKUP(AF5,H_1500_m,2)) -> 1 | AI5: =IF(ISBLANK(AH5),"",VLOOKUP(AH5,H_2000_m,2)) | AK5: =IF(ISBLANK(AJ5),"",VLOOKUP(AJ5,H_3000_m,2)) | AM5: =IF(ISBLANK(AL5),"",VLOOKUP(AL5,H_5000_m,2)) | AO5: =IF(ISBLANK(AN5),"",VLOOKUP(AN5,H_1500_steeple,2)) | AQ5: =IF(ISBLANK(AP5),"",VLOOKUP(AP5,H_3000_steeple,2)) | AS5: =IF(ISBLANK(AR5),"",VLOOKUP(AR5,H_3_km_marche,2)) | AU5: =IF(ISBLANK(AT5),"",VLOOKUP(AT5,H_5_km_marche,2)) | AW5: =IF(ISBLANK(AV5),"",VLOOKUP(AV5,H_LONGUEUR,2)) | AY5: =IF(ISBLANK(AX5),"",VLOOKUP(AX5,H_T_S_,2)) | BA5: =IF(ISBLANK(AZ5),"",VLOOKUP(AZ5,H_HAUTEUR,2)) | BC5: =IF(ISBLANK(BB5),"",VLOOKUP(BB5,H_PERCHE,2)) | BF5: =IF(ISBLANK(BD5),"",VLOOKUP(BD5,H_POIDS,2)) | BI5: =IF(ISBLANK(BG5),"",VLOOKUP(BG5,H_DISQUE,2)) | BJ5: 1975 | BL5: =IF(ISBLANK(BJ5),"",VLOOKUP(BJ5,H_JAVELOT,2)) -> 8 | BO5: =IF(ISBLANK(BM5),"",VLOOKUP(BM5,H_MARTEAU,2)) | BP5: =IF(ISBLANK(C5),"",COUNTA(BM5,BJ5,BG5,BD5,BB5,AZ5,AX5,AV5,AT5,AR5,AP5,AN5,AL5,AJ5,AH5,AF5,AD5,AB5,Z5,X5,V5,T5,R5,P5,N5,L5,J5,H5,F5,D5)) -> 2 | BQ5: =SUM(BF5,BC5,BA5,AY5,AW5,AU5,AS5,AQ5,AO5,AM5,AK5,AI5,AG5,AE5,AC5,AA5,Y5,W5,U5,S5,Q5,O5,M5,K5,I5,G5,E5) -> 1 | BT5: =IF(C5<>($BT$3),"",BQ5) | BU5: =IF(C5<>($BU$3),"",BQ5) | BV5: =IF(C5<>($BV$3),"",BQ5) | BW5: =IF(C5<>($BW$3),"",BQ5) | BX5: =IF(C5<>($BX$3),"",BQ5) | BY5: =IF(C5<>($BY$3),"",BQ5) | BZ5: =IF(C5<>($BZ$3),"",BQ5) | CA5: =IF(C5<>($CA$3),"",BQ5) | CB5: =IF(C5<>($CB$3),"",BQ5) | CC5: =IF(C5<>($CC$3),"",BQ5) | CD5: =IF(C5<>($CD$3),"",BQ5) | CE5: =IF(C5<>($CE$3),"",BQ5) | CF5: =IF(C5<>($CF$3),"",BQ5) | CG5: =IF(C5<>($CG$3),"",BQ5) -> 1 | CH5: =IF(C5<>($CH$3),"",BQ5) | CI5: =IF(C5<>($CI$3),"",BQ5) | CJ5: =IF(C5<>($CJ$3),"",BQ5) | CK5: =IF(C5<>($CK$3),"",BQ5) | CL5: =IF(C5<>($CL$3),"",BQ5)
A6: DAVILLE DYLAN | B6: S1 | C6: SDUS | G6: =IF(ISBLANK(F6),"",VLOOKUP(F6,H_60_m,2)) | H6: 1235 | I6: =IF(ISBLANK(H6),"",VLOOKUP(H6,H_100_m,2)) -> 1 | K6: =IF(ISBLANK(J6),"",VLOOKUP(J6,H_200_m,2)) | M6: =IF(ISBLANK(L6),"",VLOOKUP(L6,H_300_m,2)) | O6: =IF(ISBLANK(N6),"",VLOOKUP(N6,H_400_m,2)) | Q6: =IF(ISBLANK(P6),"",VLOOKUP(P6,H_50_m_H_,2)) | S6: =IF(ISBLANK(R6),"",VLOOKUP(R6,H_60_m_H_,2)) | U6: =IF(ISBLANK(T6),"",VLOOKUP(T6,H_110_m_H_,2)) | W6: =IF(ISBLANK(V6),"",VLOOKUP(V6,H_320_m_H,2)) | Y6: =IF(ISBLANK(X6),"",VLOOKUP(X6,H_400_m_H,2)) | AA6: =IF(ISBLANK(Z6),"",VLOOKUP(Z6,H_500_m,2)) | AC6: =IF(ISBLANK(AB6),"",VLOOKUP(AB6,H_800_m,2)) | AE6: =IF(ISBLANK(AD6),"",VLOOKUP(AD6,H_1000_m,2)) | AG6: =IF(ISBLANK(AF6),"",VLOOKUP(AF6,H_1500_m,2)) | AI6: =IF(ISBLANK(AH6),"",VLOOKUP(AH6,H_2000_m,2)) | AK6: =IF(ISBLANK(AJ6),"",VLOOKUP(AJ6,H_3000_m,2)) | AM6: =IF(ISBLANK(AL6),"",VLOOKUP(AL6,H_5000_m,2)) | AO6: =IF(ISBLANK(AN6),"",VLOOKUP(AN6,H_1500_steeple,2)) | AQ6: =IF(ISBLANK(AP6),"",VLOOKUP(AP6,H_3000_steeple,2)) | AS6: =IF(ISBLANK(AR6),"",VLOOKUP(AR6,H_3_km_marche,2)) | AU6: =IF(ISBLANK(AT6),"",VLOOKUP(AT6,H_5_km_marche,2)) | AW6: =IF(ISBLANK(AV6),"",VLOOKUP(AV6,H_LONGUEUR,2)) | AY6: =IF(ISBLANK(AX6),"",VLOOKUP(AX6,H_T_S_,2)) | BA6: =IF(ISBLANK(AZ6),"",VLOOKUP(AZ6,H_HAUTEUR,2)) | BC6: =IF(ISBLANK(BB6),"",VLOOKUP(BB6,H_PERCHE,2)) | BF6: =IF(ISBLANK(BD6),"",VLOOKUP(BD6,H_POIDS,2)) | BI6: =IF(ISBLANK(BG6),"",VLOOKUP(BG6,H_DISQUE,2)) | BL6: =IF(ISBLANK(BJ6),"",VLOOKUP(BJ6,H_JAVELOT,2)) | BO6: =IF(ISBLANK(BM6),"",VLOOKUP(BM6,H_MARTEAU,2)) | BP6: =IF(ISBLANK(C6),"",COUNTA(BM6,BJ6,BG6,BD6,BB6,AZ6,AX6,AV6,AT6,AR6,AP6,AN6,AL6,AJ6,AH6,AF6,AD6,AB6,Z6,X6,V6,T6,R6,P6,N6,L6,J6,H6,F6,D6)) -> 1 | BQ6: =SUM(BF6,BC6,BA6,AY6,AW6,AU6,AS6,AQ6,AO6,AM6,AK6,AI6,AG6,AE6,AC6,AA6,Y6,W6,U6,S6,Q6,O6,M6,K6,I6,G6,E6) -> 1 | BT6: =IF(C6<>($BT$3),"",BQ6) | BU6: =IF(C6<>($BU$3),"",BQ6) | BV6: =IF(C6<>($BV$3),"",BQ6) | BW6: =IF(C6<>($BW$3),"",BQ6) | BX6: =IF(C6<>($BX$3),"",BQ6) | BY6: =IF(C6<>($BY$3),"",BQ6) | BZ6: =IF(C6<>($BZ$3),"",BQ6) | CA6: =IF(C6<>($CA$3),"",BQ6) | CB6: =IF(C6<>($CB$3),"",BQ6) | CC6: =IF(C6<>($CC$3),"",BQ6) | CD6: =IF(C6<>($CD$3),"",BQ6) | CE6: =IF(C6<>($CE$3),"",BQ6) | CF6: =IF(C6<>($CF$3),"",BQ6) | CG6: =IF(C6<>($CG$3),"",BQ6) -> 1 | CH6: =IF(C6<>($CH$3),"",BQ6) | CI6: =IF(C6<>($CI$3),"",BQ6) | CJ6: =IF(C6<>($CJ$3),"",BQ6) | CK6: =IF(C6<>($CK$3),"",BQ6) | CL6: =IF(C6<>($CL$3),"",BQ6)
A7: LENDO PIERRE | B7: S | C7: SDUS | G7: =IF(ISBLANK(F7),"",VLOOKUP(F7,H_60_m,2)) | H7: 1162 | I7: =IF(ISBLANK(H7),"",VLOOKUP(H7,H_100_m,2)) -> 1 | K7: =IF(ISBLANK(J7),"",VLOOKUP(J7,H_200_m,2)) | M7: =IF(ISBLANK(L7),"",VLOOKUP(L7,H_300_m,2)) | O7: =IF(ISBLANK(N7),"",VLOOKUP(N7,H_400_m,2)) | Q7: =IF(ISBLANK(P7),"",VLOOKUP(P7,H_50_m_H_,2)) | S7: =IF(ISBLANK(R7),"",VLOOKUP(R7,H_60_m_H_,2)) | U7: =IF(ISBLANK(T7),"",VLOOKUP(T7,H_110_m_H_,2)) | W7: =IF(ISBLANK(V7),"",VLOOKUP(V7,H_320_m_H,2)) | Y7: =IF(ISBLANK(X7),"",VLOOKUP(X7,H_400_m_H,2)) | AA7: =IF(ISBLANK(Z7),"",VLOOKUP(Z7,H_500_m,2)) | AC7: =IF(ISBLANK(AB7),"",VLOOKUP(AB7,H_800_m,2)) | AE7: =IF(ISBLANK(AD7),"",VLOOKUP(AD7,H_1000_m,2)) | AG7: =IF(ISBLANK(AF7),"",VLOOKUP(AF7,H_1500_m,2)) | AI7: =IF(ISBLANK(AH7),"",VLOOKUP(AH7,H_2000_m,2)) | AK7: =IF(ISBLANK(AJ7),"",VLOOKUP(AJ7,H_3000_m,2)) | AM7: =IF(ISBLANK(AL7),"",VLOOKUP(AL7,H_5000_m,2)) | AO7: =IF(ISBLANK(AN7),"",VLOOKUP(AN7,H_1500_steeple,2)) | AQ7: =IF(ISBLANK(AP7),"",VLOOKUP(AP7,H_3000_steeple,2)) | AS7: =IF(ISBLANK(AR7),"",VLOOKUP(AR7,H_3_km_marche,2)) | AU7: =IF(ISBLANK(AT7),"",VLOOKUP(AT7,H_5_km_marche,2)) | AW7: =IF(ISBLANK(AV7),"",VLOOKUP(AV7,H_LONGUEUR,2)) | AY7: =IF(ISBLANK(AX7),"",VLOOKUP(AX7,H_T_S_,2)) | BA7: =IF(ISBLANK(AZ7),"",VLOOKUP(AZ7,H_HAUTEUR,2)) | BC7: =IF(ISBLANK(BB7),"",VLOOKUP(BB7,H_PERCHE,2)) | BF7: =IF(ISBLANK(BD7),"",VLOOKUP(BD7,H_POIDS,2)) | BI7: =IF(ISBLANK(BG7),"",VLOOKUP(BG7,H_DISQUE,2)) | BL7: =IF(ISBLANK(BJ7),"",VLOOKUP(BJ7,H_JAVELOT,2)) | BO7: =IF(ISBLANK(BM7),"",VLOOKUP(BM7,H_MARTEAU,2)) | BP7: =IF(ISBLANK(C7),"",COUNTA(BM7,BJ7,BG7,BD7,BB7,AZ7,AX7,AV7,AT7,AR7,AP7,AN7,AL7,AJ7,AH7,AF7,AD7,AB7,Z7,X7,V7,T7,R7,P7,N7,L7,J7,H7,F7,D7)) -> 1 | BQ7: =SUM(BF7,BC7,BA7,AY7,AW7,AU7,AS7,AQ7,AO7,AM7,AK7,AI7,AG7,AE7,AC7,AA7,Y7,W7,U7,S7,Q7,O7,M7,K7,I7,G7,E7) -> 1 | BT7: =IF(C7<>($BT$3),"",BQ7) | BU7: =IF(C7<>($BU$3),"",BQ7) | BV7: =IF(C7<>($BV$3),"",BQ7) | BW7: =IF(C7<>($BW$3),"",BQ7) | BX7: =IF(C7<>($BX$3),"",BQ7) | BY7: =IF(C7<>($BY$3),"",BQ7) | BZ7: =IF(C7<>($BZ$3),"",BQ7) | CA7: =IF(C7<>($CA$3),"",BQ7) | CB7: =IF(C7<>($CB$3),"",BQ7) | CC7: =IF(C7<>($CC$3),"",BQ7) | CD7: =IF(C7<>($CD$3),"",BQ7) | CE7: =IF(C7<>($CE$3),"",BQ7) | CF7: =IF(C7<>($CF$3),"",BQ7) | CG7: =IF(C7<>($CG$3),"",BQ7) -> 1 | CH7: =IF(C7<>($CH$3),"",BQ7) | CI7: =IF(C7<>($CI$3),"",BQ7) | CJ7: =IF(C7<>($CJ$3),"",BQ7) | CK7: =IF(C7<>($CK$3),"",BQ7) | CL7: =IF(C7<>($CL$3),"",BQ7)
A8: LOUIS CALIXTE ARTHUR | B8: S | C8: SDUS | G8: =IF(ISBLANK(F8),"",VLOOKUP(F8,H_60_m,2)) | H8: 1192 | I8: =IF(ISBLANK(H8),"",VLOOKUP(H8,H_100_m,2)) -> 1 | K8: =IF(ISBLANK(J8),"",VLOOKUP(J8,H_200_m,2)) | M8: =IF(ISBLANK(L8),"",VLOOKUP(L8,H_300_m,2)) | O8: =IF(ISBLANK(N8),"",VLOOKUP(N8,H_400_m,2)) | Q8: =IF(ISBLANK(P8),"",VLOOKUP(P8,H_50_m_H_,2)) | S8: =IF(ISBLANK(R8),"",VLOOKUP(R8,H_60_m_H_,2)) | U8: =IF(ISBLANK(T8),"",VLOOKUP(T8,H_110_m_H_,2)) | W8: =IF(ISBLANK(V8),"",VLOOKUP(V8,H_320_m_H,2)) | Y8: =IF(ISBLANK(X8),"",VLOOKUP(X8,H_400_m_H,2)) | AA8: =IF(ISBLANK(Z8),"",VLOOKUP(Z8,H_500_m,2)) | AC8: =IF(ISBLANK(AB8),"",VLOOKUP(AB8,H_800_m,2)) | AE8: =IF(ISBLANK(AD8),"",VLOOKUP(AD8,H_1000_m,2)) | AG8: =IF(ISBLANK(AF8),"",VLOOKUP(AF8,H_1500_m,2)) | AI8: =IF(ISBLANK(AH8),"",VLOOKUP(AH8,H_2000_m,2)) | AK8: =IF(ISBLANK(AJ8),"",VLOOKUP(AJ8,H_3000_m,2)) | AM8: =IF(ISBLANK(AL8),"",VLOOKUP(AL8,H_5000_m,2)) | AO8: =IF(ISBLANK(AN8),"",VLOOKUP(AN8,H_1500_steeple,2)) | AQ8: =IF(ISBLANK(AP8),"",VLOOKUP(AP8,H_3000_steeple,2)) | AS8: =IF(ISBLANK(AR8),"",VLOOKUP(AR8,H_3_km_marche,2)) | AU8: =IF(ISBLANK(AT8),"",VLOOKUP(AT8,H_5_km_marche,2)) | AW8: =IF(ISBLANK(AV8),"",VLOOKUP(AV8,H_LONGUEUR,2)) | AY8: =IF(ISBLANK(AX8),"",VLOOKUP(AX8,H_T_S_,2)) | BA8: =IF(ISBLANK(AZ8),"",VLOOKUP(AZ8,H_HAUTEUR,2)) | BC8: =IF(ISBLANK(BB8),"",VLOOKUP(BB8,H_PERCHE,2)) | BF8: =IF(ISBLANK(BD8),"",VLOOKUP(BD8,H_POIDS,2)) | BI8: =IF(ISBLANK(BG8),"",VLOOKUP(BG8,H_DISQUE,2)) | BL8: =IF(ISBLANK(BJ8),"",VLOOKUP(BJ8,H_JAVELOT,2)) | BO8: =IF(ISBLANK(BM8),"",VLOOKUP(BM8,H_MARTEAU,2)) | BP8: =IF(ISBLANK(C8),"",COUNTA(BM8,BJ8,BG8,BD8,BB8,AZ8,AX8,AV8,AT8,AR8,AP8,AN8,AL8,AJ8,AH8,AF8,AD8,AB8,Z8,X8,V8,T8,R8,P8,N8,L8,J8,H8,F8,D8)) -> 1 | BQ8: =SUM(BF8,BC8,BA8,AY8,AW8,AU8,AS8,AQ8,AO8,AM8,AK8,AI8,AG8,AE8,AC8,AA8,Y8,W8,U8,S8,Q8,O8,M8,K8,I8,G8,E8) -> 1 | BT8: =IF(C8<>($BT$3),"",BQ8) | BU8: =IF(C8<>($BU$3),"",BQ8) | BV8: =IF(C8<>($BV$3),"",BQ8) | BW8: =IF(C8<>($BW$3),"",BQ8) | BX8: =IF(C8<>($BX$3),"",BQ8) | BY8: =IF(C8<>($BY$3),"",BQ8) | BZ8: =IF(C8<>($BZ$3),"",BQ8) | CA8: =IF(C8<>($CA$3),"",BQ8) | CB8: =IF(C8<>($CB$3),"",BQ8) | CC8: =IF(C8<>($CC$3),"",BQ8) | CD8: =IF(C8<>($CD$3),"",BQ8) | CE8: =IF(C8<>($CE$3),"",BQ8) | CF8: =IF(C8<>($CF$3),"",BQ8) | CG8: =IF(C8<>($CG$3),"",BQ8) -> 1 | CH8: =IF(C8<>($CH$3),"",BQ8) | CI8: =IF(C8<>($CI$3),"",BQ8) | CJ8: =IF(C8<>($CJ$3),"",BQ8) | CK8: =IF(C8<>($CK$3),"",BQ8) | CL8: =IF(C8<>($CL$3),"",BQ8)
A9: CANCAN STEVE | B9: S | C9: SDUS | G9: =IF(ISBLANK(F9),"",VLOOKUP(F9,H_60_m,2)) | H9: 1376 | K9: =IF(ISBLANK(J9),"",VLOOKUP(J9,H_200_m,2)) | S9: =IF(ISBLANK(R9),"",VLOOKUP(R9,H_60_m_H_,2)) | AC9: =IF(ISBLANK(AB9),"",VLOOKUP(AB9,H_800_m,2)) | AW9: =IF(ISBLANK(AV9),"",VLOOKUP(AV9,H_LONGUEUR,2)) | BC9: =IF(ISBLANK(BB9),"",VLOOKUP(BB9,H_PERCHE,2)) | BF9: =IF(ISBLANK(BD9),"",VLOOKUP(BD9,H_POIDS,2)) | BI9: =IF(ISBLANK(BG9),"",VLOOKUP(BG9,H_DISQUE,2)) | BL9: =IF(ISBLANK(BJ9),"",VLOOKUP(BJ9,H_JAVELOT,2)) | BO9: =IF(ISBLANK(BM9),"",VLOOKUP(BM9,H_MARTEAU,2)) | BP9: =IF(ISBLANK(C9),"",COUNTA(BM9,BJ9,BG9,BD9,BB9,AZ9,AX9,AV9,AT9,AR9,AP9,AN9,AL9,AJ9,AH9,AF9,AD9,AB9,Z9,X9,V9,T9,R9,P9,N9,L9,J9,H9,F9,D9)) -> 1 | BQ9: =SUM(BF9,BC9,BA9,AY9,AW9,AU9,AS9,AQ9,AO9,AM9,AK9,AI9,AG9,AE9,AC9,AA9,Y9,W9,U9,S9,Q9,O9,M9,K9,I9,G9,E9) -> 0 | BT9: =IF(C9<>($BT$3),"",BQ9) | BU9: =IF(C9<>($BU$3),"",BQ9) | BV9: =IF(C9<>($BV$3),"",BQ9) | BW9: =IF(C9<>($BW$3),"",BQ9) | BX9: =IF(C9<>($BX$3),"",BQ9) | BY9: =IF(C9<>($BY$3),"",BQ9) | BZ9: =IF(C9<>($BZ$3),"",BQ9) | CA9: =IF(C9<>($CA$3),"",BQ9) | CB9: =IF(C9<>($CB$3),"",BQ9) | CC9: =IF(C9<>($CC$3),"",BQ9) | CD9: =IF(C9<>($CD$3),"",BQ9) | CE9: =IF(C9<>($CE$3),"",BQ9) | CF9: =IF(C9<>($CF$3),"",BQ9) | CG9: =IF(C9<>($CG$3),"",BQ9) -> 0 | CH9: =IF(C9<>($CH$3),"",BQ9) | CI9: =IF(C9<>($CI$3),"",BQ9) | CJ9: =IF(C9<>($CJ$3),"",BQ9) | CK9: =IF(C9<>($CK$3),"",BQ9) | CL9: =IF(C9<>($CL$3),"",BQ9)
A10: MVUELA CHRISTIAN | B10: S | C10: CMAA | G10: =IF(ISBLANK(F10),"",VLOOKUP(F10,H_60_m,2)) | H10: 1135 | I10: =IF(ISBLANK(H10),"",VLOOKUP(H10,H_100_m,2)) -> 1 | M10: =IF(ISBLANK(L10),"",VLOOKUP(L10,H_300_m,2)) | O10: =IF(ISBLANK(N10),"",VLOOKUP(N10,H_400_m,2)) | Q10: =IF(ISBLANK(P10),"",VLOOKUP(P10,H_50_m_H_,2)) | S10: =IF(ISBLANK(R10),"",VLOOKUP(R10,H_60_m_H_,2)) | U10: =IF(ISBLANK(T10),"",VLOOKUP(T10,H_110_m_H_,2)) | W10: =IF(ISBLANK(V10),"",VLOOKUP(V10,H_320_m_H,2)) | Y10: =IF(ISBLANK(X10),"",VLOOKUP(X10,H_400_m_H,2)) | AA10: =IF(ISBLANK(Z10),"",VLOOKUP(Z10,H_500_m,2)) | AC10: =IF(ISBLANK(AB10),"",VLOOKUP(AB10,H_800_m,2)) | AE10: =IF(ISBLANK(AD10),"",VLOOKUP(AD10,H_1000_m,2)) | AG10: =IF(ISBLANK(AF10),"",VLOOKUP(AF10,H_1500_m,2)) | AI10: =IF(ISBLANK(AH10),"",VLOOKUP(AH10,H_2000_m,2)) | AK10: =IF(ISBLANK(AJ10),"",VLOOKUP(AJ10,H_3000_m,2)) | AM10: =IF(ISBLANK(AL10),"",VLOOKUP(AL10,H_5000_m,2)) | AO10: =IF(ISBLANK(AN10),"",VLOOKUP(AN10,H_1500_steeple,2)) | AQ10: =IF(ISBLANK(AP10),"",VLOOKUP(AP10,H_3000_steeple,2)) | AS10: =IF(ISBLANK(AR10),"",VLOOKUP(AR10,H_3_km_marche,2)) | AU10: =IF(ISBLANK(AT10),"",VLOOKUP(AT10,H_5_km_marche,2)) | AW10: =IF(ISBLANK(AV10),"",VLOOKUP(AV10,H_LONGUEUR,2)) | AY10: =IF(ISBLANK(AX10),"",VLOOKUP(AX10,H_T_S_,2)) | BA10: =IF(ISBLANK(AZ10),"",VLOOKUP(AZ10,H_HAUTEUR,2)) | BC10: =IF(ISBLANK(BB10),"",VLOOKUP(BB10,H_PERCHE,2)) | BF10: =IF(ISBLANK(BD10),"",VLOOKUP(BD10,H_POIDS,2)) | BI10: =IF(ISBLANK(BG10),"",VLOOKUP(BG10,H_DISQUE,2)) | BL10: =IF(ISBLANK(BJ10),"",VLOOKUP(BJ10,H_JAVELOT,2)) | BO10: =IF(ISBLANK(BM10),"",VLOOKUP(BM10,H_MARTEAU,2)) | BP10: =IF(ISBLANK(C10),"",COUNTA(BM10,BJ10,BG10,BD10,BB10,AZ10,AX10,AV10,AT10,AR10,AP10,AN10,AL10,AJ10,AH10,AF10,AD10,AB10,Z10,X10,V10,T10,R10,P10,N10,L10,J10,H10,F10,D10)) -> 1 | BQ10: =SUM(BF10,BC10,BA10,AY10,AW10,AU10,AS10,AQ10,AO10,AM10,AK10,AI10,AG10,AE10,AC10,AA10,Y10,W10,U10,S10,Q10,O10,M10,K10,I10,G10,E10) -> 1 | BT10: =IF(C10<>($BT$3),"",BQ10) | BU10: =IF(C10<>($BU$3),"",BQ10) | BV10: =IF(C10<>($BV$3),"",BQ10) | BW10: =IF(C10<>($BW$3),"",BQ10) | BX10: =IF(C10<>($BX$3),"",BQ10) | BY10: =IF(C10<>($BY$3),"",BQ10) | BZ10: =IF(C10<>($BZ$3),"",BQ10) | CA10: =IF(C10<>($CA$3),"",BQ10) | CB10: =IF(C10<>($CB$3),"",BQ10) | CC10: =IF(C10<>($CC$3),"",BQ10) | CD10: =IF(C10<>($CD$3),"",BQ10) | CE10: =IF(C10<>($CE$3),"",BQ10) | CF10: =IF(C10<>($CF$3),"",BQ10) | CG10: =IF(C10<>($CG$3),"",BQ10) | CH10: =IF(C10<>($CH$3),"",BQ10) | CI10: =IF(C10<>($CI$3),"",BQ10) | CJ10: =IF(C10<>($CJ$3),"",BQ10) | CK10: =IF(C10<>($CK$3),"",BQ10) | CL10: =IF(C10<>($CL$3),"",BQ10)
A11: BARADJI BAMAN | B11: JM | C11: SDUS | G11: =IF(ISBLANK(F11),"",VLOOKUP(F11,H_60_m,2)) | H11: 1293 | I11: =IF(ISBLANK(H11),"",VLOOKUP(H11,H_100_m,2)) -> 1 | K11: =IF(ISBLANK(J11),"",VLOOKUP(J11,H_200_m,2)) | M11: =IF(ISBLANK(L11),"",VLOOKUP(L11,H_300_m,2)) | O11: =IF(ISBLANK(N11),"",VLOOKUP(N11,H_400_m,2)) | Q11: =IF(ISBLANK(P11),"",VLOOKUP(P11,H_50_m_H_,2)) | S11: =IF(ISBLANK(R11),"",VLOOKUP(R11,H_60_m_H_,2)) | U11: =IF(ISBLANK(T11),"",VLOOKUP(T11,H_110_m_H_,2)) | W11: =IF(ISBLANK(V11),"",VLOOKUP(V11,H_320_m_H,2)) | Y11: =IF(ISBLANK(X11),"",VLOOKUP(X11,H_400_m_H,2)) | AA11: =IF(ISBLANK(Z11),"",VLOOKUP(Z11,H_500_m,2)) | AC11: =IF(ISBLANK(AB11),"",VLOOKUP(AB11,H_800_m,2)) | AE11: =IF(ISBLANK(AD11),"",VLOOKUP(AD11,H_1000_m,2)) | AG11: =IF(ISBLANK(AF11),"",VLOOKUP(AF11,H_1500_m,2)) | AI11: =IF(ISBLANK(AH11),"",VLOOKUP(AH11,H_2000_m,2)) | AK11: =IF(ISBLANK(AJ11),"",VLOOKUP(AJ11,H_3000_m,2)) | AM11: =IF(ISBLANK(AL11),"",VLOOKUP(AL11,H_5000_m,2)) | AO11: =IF(ISBLANK(AN11),"",VLOOKUP(AN11,H_1500_steeple,2)) | AQ11: =IF(ISBLANK(AP11),"",VLOOKUP(AP11,H_3000_steeple,2)) | AS11: =IF(ISBLANK(AR11),"",VLOOKUP(AR11,H_3_km_marche,2)) | AU11: =IF(ISBLANK(AT11),"",VLOOKUP(AT11,H_5_km_marche,2)) | AW11: =IF(ISBLANK(AV11),"",VLOOKUP(AV11,H_LONGUEUR,2)) | AY11: =IF(ISBLANK(AX11),"",VLOOKUP(AX11,H_T_S_,2)) | BA11: =IF(ISBLANK(AZ11),"",VLOOKUP(AZ11,H_HAUTEUR,2)) | BC11: =IF(ISBLANK(BB11),"",VLOOKUP(BB11,H_PERCHE,2)) | BF11: =IF(ISBLANK(BD11),"",VLOOKUP(BD11,H_POIDS,2)) | BI11: =IF(ISBLANK(BG11),"",VLOOKUP(BG11,H_DISQUE,2)) | BJ11: 1710 | BL11: =IF(ISBLANK(BJ11),"",VLOOKUP(BJ11,H_JAVELOT,2)) -> 6 | BO11: =IF(ISBLANK(BM11),"",VLOOKUP(BM11,H_MARTEAU,2)) | BP11: =IF(ISBLANK(C11),"",COUNTA(BM11,BJ11,BG11,BD11,BB11,AZ11,AX11,AV11,AT11,AR11,AP11,AN11,AL11,AJ11,AH11,AF11,AD11,AB11,Z11,X11,V11,T11,R11,P11,N11,L11,J11,H11,F11,D11)) -> 2 | BQ11: =SUM(BF11,BC11,BA11,AY11,AW11,AU11,AS11,AQ11,AO11,AM11,AK11,AI11,AG11,AE11,AC11,AA11,Y11,W11,U11,S11,Q11,O11,M11,K11,I11,G11,E11) -> 1 | BT11: =IF(C11<>($BT$3),"",BQ11) | BU11: =IF(C11<>($BU$3),"",BQ11) | BV11: =IF(C11<>($BV$3),"",BQ11) | BW11: =IF(C11<>($BW$3),"",BQ11) | BX11: =IF(C11<>($BX$3),"",BQ11) | BY11: =IF(C11<>($BY$3),"",BQ11) | BZ11: =IF(C11<>($BZ$3),"",BQ11) | CA11: =IF(C11<>($CA$3),"",BQ11) | CB11: =IF(C11<>($CB$3),"",BQ11) | CC11: =IF(C11<>($CC$3),"",BQ11) | CD11: =IF(C11<>($CD$3),"",BQ11) | CE11: =IF(C11<>($CE$3),"",BQ11) | CF11: =IF(C11<>($CF$3),"",BQ11) | CG11: =IF(C11<>($CG$3),"",BQ11) -> 1 | CH11: =IF(C11<>($CH$3),"",BQ11) | CI11: =IF(C11<>($CI$3),"",BQ11) | CJ11: =IF(C11<>($CJ$3),"",BQ11) | CK11: =IF(C11<>($CK$3),"",BQ11) | CL11: =IF(C11<>($CL$3),"",BQ11)
A12: HERNANDEZ ROBERTO | B12: S | C12: SDUS | G12: =IF(ISBLANK(F12),"",VLOOKUP(F12,H_60_m,2)) | I12: =IF(ISBLANK(H12),"",VLOOKUP(H12,H_100_m,2)) | K12: =IF(ISBLANK(J12),"",VLOOKUP(J12,H_200_m,2)) | M12: =IF(ISBLANK(L12),"",VLOOKUP(L12,H_300_m,2)) | O12: =IF(ISBLANK(N12),"",VLOOKUP(N12,H_400_m,2)) | Q12: =IF(ISBLANK(P12),"",VLOOKUP(P12,H_50_m_H_,2)) | S12: =IF(ISBLANK(R12),"",VLOOKUP(R12,H_60_m_H_,2)) | U12: =IF(ISBLANK(T12),"",VLOOKUP(T12,H_110_m_H_,2)) | W12: =IF(ISBLANK(V12),"",VLOOKUP(V12,H_320_m_H,2)) | Y12: =IF(ISBLANK(X12),"",VLOOKUP(X12,H_400_m_H,2)) | AA12: =IF(ISBLANK(Z12),"",VLOOKUP(Z12,H_500_m,2)) | AC12: =IF(ISBLANK(AB12),"",VLOOKUP(AB12,H_800_m,2)) | AE12: =IF(ISBLANK(AD12),"",VLOOKUP(AD12,H_1000_m,2)) | AG12: =IF(ISBLANK(AF12),"",VLOOKUP(AF12,H_1500_m,2)) | AI12: =IF(ISBLANK(AH12),"",VLOOKUP(AH12,H_2000_m,2)) | AK12: =IF(ISBLANK(AJ12),"",VLOOKUP(AJ12,H_3000_m,2)) | AM12: =IF(ISBLANK(AL12),"",VLOOKUP(AL12,H_5000_m,2)) | AO12: =IF(ISBLANK(AN12),"",VLOOKUP(AN12,H_1500_steeple,2)) | AQ12: =IF(ISBLANK(AP12),"",VLOOKUP(AP12,H_3000_steeple,2)) | AS12: =IF(ISBLANK(AR12),"",VLOOKUP(AR12,H_3_km_marche,2)) | AU12: =IF(ISBLANK(AT12),"",VLOOKUP(AT12,H_5_km_marche,2)) | AW12: =IF(ISBLANK(AV12),"",VLOOKUP(AV12,H_LONGUEUR,2)) | AY12: =IF(ISBLANK(AX12),"",VLOOKUP(AX12,H_T_S_,2)) | BA12: =IF(ISBLANK(AZ12),"",VLOOKUP(AZ12,H_HAUTEUR,2)) | BC12: =IF(ISBLANK(BB12),"",VLOOKUP(BB12,H_PERCHE,2)) | BD12: 1125 | BF12: =IF(ISBLANK(BD12),"",VLOOKUP(BD12,H_POIDS,2)) -> 20 | BG12: 3791 | BI12: =IF(ISBLANK(BG12),"",VLOOKUP(BG12,H_DISQUE,2)) -> 21 | BL12: =IF(ISBLANK(BJ12),"",VLOOKUP(BJ12,H_JAVELOT,2)) | BO12: =IF(ISBLANK(BM12),"",VLOOKUP(BM12,H_MARTEAU,2)) | BP12: =IF(ISBLANK(C12),"",COUNTA(BM12,BJ12,BG12,BD12,BB12,AZ12,AX12,AV12,AT12,AR12,AP12,AN12,AL12,AJ12,AH12,AF12,AD12,AB12,Z12,X12,V12,T12,R12,P12,N12,L12,J12,H12,F12,D12)) -> 2 | BQ12: =SUM(BF12,BC12,BA12,AY12,AW12,AU12,AS12,AQ12,AO12,AM12,AK12,AI12,AG12,AE12,AC12,AA12,Y12,W12,U12,S12,Q12,O12,M12,K12,I12,G12,E12) -> 20 | BT12: =IF(C12<>($BT$3),"",BQ12) | BU12: =IF(C12<>($BU$3),"",BQ12) | BV12: =IF(C12<>($BV$3),"",BQ12) | BW12: =IF(C12<>($BW$3),"",BQ12) | BX12: =IF(C12<>($BX$3),"",BQ12) | BY12: =IF(C12<>($BY$3),"",BQ12) | BZ12: =IF(C12<>($BZ$3),"",BQ12) | CA12: =IF(C12<>($CA$3),"",BQ12) | CB12: =IF(C12<>($CB$3),"",BQ12) | CC12: =IF(C12<>($CC$3),"",BQ12) | CD12: =IF(C12<>($CD$3),"",BQ12) | CE12: =IF(C12<>($CE$3),"",BQ12) | CF12: =IF(C12<>($CF$3),"",BQ12) | CG12: =IF(C12<>($CG$3),"",BQ12) -> 20 | CH12: =IF(C12<>($CH$3),"",BQ12) | CI12: =IF(C12<>($CI$3),"",BQ12) | CJ12: =IF(C12<>($CJ$3),"",BQ12) | CK12: =IF(C12<>($CK$3),"",BQ12) | CL12: =IF(C12<>($CL$3),"",BQ12)
A13: KISUNGO CEDRIC | B13: S | C13: SDUS | G13: =IF(ISBLANK(F13),"",VLOOKUP(F13,H_60_m,2)) | I13: =IF(ISBLANK(H13),"",VLOOKUP(H13,H_100_m,2)) | K13: =IF(ISBLANK(J13),"",VLOOKUP(J13,H_200_m,2)) | M13: =IF(ISBLANK(L13),"",VLOOKUP(L13,H_300_m,2)) | O13: =IF(ISBLANK(N13),"",VLOOKUP(N13,H_400_m,2)) | Q13: =IF(ISBLANK(P13),"",VLOOKUP(P13,H_50_m_H_,2)) | S13: =IF(ISBLANK(R13),"",VLOOKUP(R13,H_60_m_H_,2)) | U13: =IF(ISBLANK(T13),"",VLOOKUP(T13,H_110_m_H_,2)) | W13: =IF(ISBLANK(V13),"",VLOOKUP(V13,H_320_m_H,2)) | Y13: =IF(ISBLANK(X13),"",VLOOKUP(X13,H_400_m_H,2)) | AA13: =IF(ISBLANK(Z13),"",VLOOKUP(Z13,H_500_m,2)) | AC13: =IF(ISBLANK(AB13),"",VLOOKUP(AB13,H_800_m,2)) | AE13: =IF(ISBLANK(AD13),"",VLOOKUP(AD13,H_1000_m,2)) | AG13: =IF(ISBLANK(AF13),"",VLOOKUP(AF13,H_1500_m,2)) | AI13: =IF(ISBLANK(AH13),"",VLOOKUP(AH13,H_2000_m,2)) | AK13: =IF(ISBLANK(AJ13),"",VLOOKUP(AJ13,H_3000_m,2)) | AM13: =IF(ISBLANK(AL13),"",VLOOKUP(AL13,H_5000_m,2)) | AO13: =IF(ISBLANK(AN13),"",VLOOKUP(AN13,H_1500_steeple,2)) | AQ13: =IF(ISBLANK(AP13),"",VLOOKUP(AP13,H_3000_steeple,2)) | AS13: =IF(ISBLANK(AR13),"",VLOOKUP(AR13,H_3_km_marche,2)) | AU13: =IF(ISBLANK(AT13),"",VLOOKUP(AT13,H_5_km_marche,2)) | AW13: =IF(ISBLANK(AV13),"",VLOOKUP(AV13,H_LONGUEUR,2)) | AY13: =IF(ISBLANK(AX13),"",VLOOKUP(AX13,H_T_S_,2)) | BA13: =IF(ISBLANK(AZ13),"",VLOOKUP(AZ13,H_HAUTEUR,2)) | BC13: =IF(ISBLANK(BB13),"",VLOOKUP(BB13,H_PERCHE,2)) | BF13: =IF(ISBLANK(BD13),"",VLOOKUP(BD13,H_POIDS,2)) | BG13: 2552 | BI13: =IF(ISBLANK(BG13),"",VLOOKUP(BG13,H_DISQUE,2)) -> 17 | BL13: =IF(ISBLANK(BJ13),"",VLOOKUP(BJ13,H_JAVELOT,2)) | BO13: =IF(ISBLANK(BM13),"",VLOOKUP(BM13,H_MARTEAU,2)) | BP13: =IF(ISBLANK(C13),"",COUNTA(BM13,BJ13,BG13,BD13,BB13,AZ13,AX13,AV13,AT13,AR13,AP13,AN13,AL13,AJ13,AH13,AF13,AD13,AB13,Z13,X13,V13,T13,R13,P13,N13,L13,J13,H13,F13,D13)) -> 1 | BQ13: =SUM(BF13,BC13,BA13,AY13,AW13,AU13,AS13,AQ13,AO13,AM13,AK13,AI13,AG13,AE13,AC13,AA13,Y13,W13,U13,S13,Q13,O13,M13,K13,I13,G13,E13) -> 0 | BT13: =IF(C13<>($BT$3),"",BQ13) | BU13: =IF(C13<>($BU$3),"",BQ13) | BV13: =IF(C13<>($BV$3),"",BQ13) | BW13: =IF(C13<>($BW$3),"",BQ13) | BX13: =IF(C13<>($BX$3),"",BQ13) | BY13: =IF(C13<>($BY$3),"",BQ13) | BZ13: =IF(C13<>($BZ$3),"",BQ13) | CA13: =IF(C13<>($CA$3),"",BQ13) | CB13: =IF(C13<>($CB$3),"",BQ13) | CC13: =IF(C13<>($CC$3),"",BQ13) | CD13: =IF(C13<>($CD$3),"",BQ13) | CE13: =IF(C13<>($CE$3),"",BQ13) | CF13: =IF(C13<>($CF$3),"",BQ13) | CG13: =IF(C13<>($CG$3),"",BQ13) -> 0 | CH13: =IF(C13<>($CH$3),"",BQ13) | CI13: =IF(C13<>($CI$3),"",BQ13) | CJ13: =IF(C13<>($CJ$3),"",BQ13) | CK13: =IF(C13<>($CK$3),"",BQ13) | CL13: =IF(C13<>($CL$3),"",BQ13)
A14: BARADJI MACIRE | B14: S1 | C14: SDUS | G14: =IF(ISBLANK(F14),"",VLOOKUP(F14,H_60_m,2)) | H14: 1177 | I14: =IF(ISBLANK(H14),"",VLOOKUP(H14,H_100_m,2)) -> 1 | K14: =IF(ISBLANK(J14),"",VLOOKUP(J14,H_200_m,2)) | M14: =IF(ISBLANK(L14),"",VLOOKUP(L14,H_300_m,2)) | O14: =IF(ISBLANK(N14),"",VLOOKUP(N14,H_400_m,2)) | Q14: =IF(ISBLANK(P14),"",VLOOKUP(P14,H_50_m_H_,2)) | S14: =IF(ISBLANK(R14),"",VLOOKUP(R14,H_60_m_H_,2)) | U14: =IF(ISBLANK(T14),"",VLOOKUP(T14,H_110_m_H_,2)) | W14: =IF(ISBLANK(V14),"",VLOOKUP(V14,H_320_m_H,2)) | Y14: =IF(ISBLANK(X14),"",VLOOKUP(X14,H_400_m_H,2)) | AA14: =IF(ISBLANK(Z14),"",VLOOKUP(Z14,H_500_m,2)) | AC14: =IF(ISBLANK(AB14),"",VLOOKUP(AB14,H_800_m,2)) | AE14: =IF(ISBLANK(AD14),"",VLOOKUP(AD14,H_1000_m,2)) | AG14: =IF(ISBLANK(AF14),"",VLOOKUP(AF14,H_1500_m,2)) | AI14: =IF(ISBLANK(AH14),"",VLOOKUP(AH14,H_2000_m,2)) | AK14: =IF(ISBLANK(AJ14),"",VLOOKUP(AJ14,H_3000_m,2)) | AM14: =IF(ISBLANK(AL14),"",VLOOKUP(AL14,H_5000_m,2)) | AO14: =IF(ISBLANK(AN14),"",VLOOKUP(AN14,H_1500_steeple,2)) | AQ14: =IF(ISBLANK(AP14),"",VLOOKUP(AP14,H_3000_steeple,2)) | AS14: =IF(ISBLANK(AR14),"",VLOOKUP(AR14,H_3_km_marche,2)) | AU14: =IF(ISBLANK(AT14),"",VLOOKUP(AT14,H_5_km_marche,2)) | AW14: =IF(ISBLANK(AV14),"",VLOOKUP(AV14,H_LONGUEUR,2)) | AY14: =IF(ISBLANK(AX14),"",VLOOKUP(AX14,H_T_S_,2)) | BA14: =IF(ISBLANK(AZ14),"",VLOOKUP(AZ14,H_HAUTEUR,2)) | BC14: =IF(ISBLANK(BB14),"",VLOOKUP(BB14,H_PERCHE,2)) | BF14: =IF(ISBLANK(BD14),"",VLOOKUP(BD14,H_POIDS,2)) | BI14: =IF(ISBLANK(BG14),"",VLOOKUP(BG14,H_DISQUE,2)) | BJ14: 3038 | BL14: =IF(ISBLANK(BJ14),"",VLOOKUP(BJ14,H_JAVELOT,2)) -> 16 | BO14: =IF(ISBLANK(BM14),"",VLOOKUP(BM14,H_MARTEAU,2)) | BP14: =IF(ISBLANK(C14),"",COUNTA(BM14,BJ14,BG14,BD14,BB14,AZ14,AX14,AV14,AT14,AR14,AP14,AN14,AL14,AJ14,AH14,AF14,AD14,AB14,Z14,X14,V14,T14,R14,P14,N14,L14,J14,H14,F14,D14)) -> 2 | BQ14: =SUM(BF14,BC14,BA14,AY14,AW14,AU14,AS14,AQ14,AO14,AM14,AK14,AI14,AG14,AE14,AC14,AA14,Y14,W14,U14,S14,Q14,O14,M14,K14,I14,G14,E14) -> 1 | BT14: =IF(C14<>($BT$3),"",BQ14) | BU14: =IF(C14<>($BU$3),"",BQ14) | BV14: =IF(C14<>($BV$3),"",BQ14) | BW14: =IF(C14<>($BW$3),"",BQ14) | BX14: =IF(C14<>($BX$3),"",BQ14) | BY14: =IF(C14<>($BY$3),"",BQ14) | BZ14: =IF(C14<>($BZ$3),"",BQ14) | CA14: =IF(C14<>($CA$3),"",BQ14) | CB14: =IF(C14<>($CB$3),"",BQ14) | CC14: =IF(C14<>($CC$3),"",BQ14) | CD14: =IF(C14<>($CD$3),"",BQ14) | CE14: =IF(C14<>($CE$3),"",BQ14) | CF14: =IF(C14<>($CF$3),"",BQ14) | CG14: =IF(C14<>($CG$3),"",BQ14) -> 1 | CH14: =IF(C14<>($CH$3),"",BQ14) | CI14: =IF(C14<>($CI$3),"",BQ14) | CJ14: =IF(C14<>($CJ$3),"",BQ14) | CK14: =IF(C14<>($CK$3),"",BQ14) | CL14: =IF(C14<>($CL$3),"",BQ14)
A15: SISSOKO BOUBACAR | B15: S | C15: SDUS | G15: =IF(ISBLANK(F15),"",VLOOKUP(F15,H_60_m,2)) | I15: =IF(ISBLANK(H15),"",VLOOKUP(H15,H_100_m,2)) | K15: =IF(ISBLANK(J15),"",VLOOKUP(J15,H_200_m,2)) | M15: =IF(ISBLANK(L15),"",VLOOKUP(L15,H_300_m,2)) | O15: =IF(ISBLANK(N15),"",VLOOKUP(N15,H_400_m,2)) | Q15: =IF(ISBLANK(P15),"",VLOOKUP(P15,H_50_m_H_,2)) | S15: =IF(ISBLANK(R15),"",VLOOKUP(R15,H_60_m_H_,2)) | U15: =IF(ISBLANK(T15),"",VLOOKUP(T15,H_110_m_H_,2)) | W15: =IF(ISBLANK(V15),"",VLOOKUP(V15,H_320_m_H,2)) | Y15: =IF(ISBLANK(X15),"",VLOOKUP(X15,H_400_m_H,2)) | AA15: =IF(ISBLANK(Z15),"",VLOOKUP(Z15,H_500_m,2)) | AC15: =IF(ISBLANK(AB15),"",VLOOKUP(AB15,H_800_m,2)) | AE15: =IF(ISBLANK(AD15),"",VLOOKUP(AD15,H_1000_m,2)) | AG15: =IF(ISBLANK(AF15),"",VLOOKUP(AF15,H_1500_m,2)) | AI15: =IF(ISBLANK(AH15),"",VLOOKUP(AH15,H_2000_m,2)) | AK15: =IF(ISBLANK(AJ15),"",VLOOKUP(AJ15,H_3000_m,2)) | AM15: =IF(ISBLANK(AL15),"",VLOOKUP(AL15,H_5000_m,2)) | AO15: =IF(ISBLANK(AN15),"",VLOOKUP(AN15,H_1500_steeple,2)) | AQ15: =IF(ISBLANK(AP15),"",VLOOKUP(AP15,H_3000_steeple,2)) | AS15: =IF(ISBLANK(AR15),"",VLOOKUP(AR15,H_3_km_marche,2)) | AU15: =IF(ISBLANK(AT15),"",VLOOKUP(AT15,H_5_km_marche,2)) | AW15: =IF(ISBLANK(AV15),"",VLOOKUP(AV15,H_LONGUEUR,2)) | AY15: =IF(ISBLANK(AX15),"",VLOOKUP(AX15,H_T_S_,2)) | AZ15: 185 | BA15: =IF(ISBLANK(AZ15),"",VLOOKUP(AZ15,H_HAUTEUR,2)) -> 20 | BC15: =IF(ISBLANK(BB15),"",VLOOKUP(BB15,H_PERCHE,2)) | BF15: =IF(ISBLANK(BD15),"",VLOOKUP(BD15,H_POIDS,2)) | BI15: =IF(ISBLANK(BG15),"",VLOOKUP(BG15,H_DISQUE,2)) | BL15: =IF(ISBLANK(BJ15),"",VLOOKUP(BJ15,H_JAVELOT,2)) | BO15: =IF(ISBLANK(BM15),"",VLOOKUP(BM15,H_MARTEAU,2)) | BP15: =IF(ISBLANK(C15),"",COUNTA(BM15,BJ15,BG15,BD15,BB15,AZ15,AX15,AV15,AT15,AR15,AP15,AN15,AL15,AJ15,AH15,AF15,AD15,AB15,Z15,X15,V15,T15,R15,P15,N15,L15,J15,H15,F15,D15)) -> 1 | BQ15: =SUM(BF15,BC15,BA15,AY15,AW15,AU15,AS15,AQ15,AO15,AM15,AK15,AI15,AG15,AE15,AC15,AA15,Y15,W15,U15,S15,Q15,O15,M15,K15,I15,G15,E15) -> 20 | BT15: =IF(C15<>($BT$3),"",BQ15) | BU15: =IF(C15<>($BU$3),"",BQ15) | BV15: =IF(C15<>($BV$3),"",BQ15) | BW15: =IF(C15<>($BW$3),"",BQ15) | BX15: =IF(C15<>($BX$3),"",BQ15) | BY15: =IF(C15<>($BY$3),"",BQ15) | BZ15: =IF(C15<>($BZ$3),"",BQ15) | CA15: =IF(C15<>($CA$3),"",BQ15) | CB15: =IF(C15<>($CB$3),"",BQ15) | CC15: =IF(C15<>($CC$3),"",BQ15) | CD15: =IF(C15<>($CD$3),"",BQ15) | CE15: =IF(C15<>($CE$3),"",BQ15) | CF15: =IF(C15<>($CF$3),"",BQ15) | CG15: =IF(C15<>($CG$3),"",BQ15) -> 20 | CH15: =IF(C15<>($CH$3),"",BQ15) | CI15: =IF(C15<>($CI$3),"",BQ15) | CJ15: =IF(C15<>($CJ$3),"",BQ15) | CK15: =IF(C15<>($CK$3),"",BQ15) | CL15: =IF(C15<>($CL$3),"",BQ15)
A16: FELIP CEDRIC | B16: V1 | C16: SDUS | G16: =IF(ISBLANK(F16),"",VLOOKUP(F16,H_60_m,2)) | I16: =IF(ISBLANK(H16),"",VLOOKUP(H16,H_100_m,2)) | K16: =IF(ISBLANK(J16),"",VLOOKUP(J16,H_200_m,2)) | M16: =IF(ISBLANK(L16),"",VLOOKUP(L16,H_300_m,2)) | N16: 6832 | O16: =IF(ISBLANK(N16),"",VLOOKUP(N16,H_400_m,2)) -> 1 | Q16: =IF(ISBLANK(P16),"",VLOOKUP(P16,H_50_m_H_,2)) | S16: =IF(ISBLANK(R16),"",VLOOKUP(R16,H_60_m_H_,2)) | U16: =IF(ISBLANK(T16),"",VLOOKUP(T16,H_110_m_H_,2)) | W16: =IF(ISBLANK(V16),"",VLOOKUP(V16,H_320_m_H,2)) | Y16: =IF(ISBLANK(X16),"",VLOOKUP(X16,H_400_m_H,2)) | AA16: =IF(ISBLANK(Z16),"",VLOOKUP(Z16,H_500_m,2)) | AC16: =IF(ISBLANK(AB16),"",VLOOKUP(AB16,H_800_m,2)) | AE16: =IF(ISBLANK(AD16),"",VLOOKUP(AD16,H_1000_m,2)) | AG16: =IF(ISBLANK(AF16),"",VLOOKUP(AF16,H_1500_m,2)) | AI16: =IF(ISBLANK(AH16),"",VLOOKUP(AH16,H_2000_m,2)) | AK16: =IF(ISBLANK(AJ16),"",VLOOKUP(AJ16,H_3000_m,2)) | AM16: =IF(ISBLANK(AL16),"",VLOOKUP(AL16,H_5000_m,2)) | AO16: =IF(ISBLANK(AN16),"",VLOOKUP(AN16,H_1500_steeple,2)) | AQ16: =IF(ISBLANK(AP16),"",VLOOKUP(AP16,H_3000_steeple,2)) | AS16: =IF(ISBLANK(AR16),"",VLOOKUP(AR16,H_3_km_marche,2)) | AU16: =IF(ISBLANK(AT16),"",VLOOKUP(AT16,H_5_km_marche,2)) | AV16: 428 | AW16: =IF(ISBLANK(AV16),"",VLOOKUP(AV16,H_LONGUEUR,2)) -> 13 | AY16: =IF(ISBLANK(AX16),"",VLOOKUP(AX16,H_T_S_,2)) | BA16: =IF(ISBLANK(AZ16),"",VLOOKUP(AZ16,H_HAUTEUR,2)) | BC16: =IF(ISBLANK(BB16),"",VLOOKUP(BB16,H_PERCHE,2)) | BD16: 895 | BF16: =IF(ISBLANK(BD16),"",VLOOKUP(BD16,H_POIDS,2)) -> 17 | BI16: =IF(ISBLANK(BG16),"",VLOOKUP(BG16,H_DISQUE,2)) | BL16: =IF(ISBLANK(BJ16),"",VLOOKUP(BJ16,H_JAVELOT,2)) | BO16: =IF(ISBLANK(BM16),"",VLOOKUP(BM16,H_MARTEAU,2)) | BP16: =IF(ISBLANK(C16),"",COUNTA(BM16,BJ16,BG16,BD16,BB16,AZ16,AX16,AV16,AT16,AR16,AP16,AN16,AL16,AJ16,AH16,AF16,AD16,AB16,Z16,X16,V16,T16,R16,P16,N16,L16,J16,H16,F16,D16)) -> 3 | BQ16: =SUM(BF16,BC16,BA16,AY16,AW16,AU16,AS16,AQ16,AO16,AM16,AK16,AI16,AG16,AE16,AC16,AA16,Y16,W16,U16,S16,Q16,O16,M16,K16,I16,G16,E16) -> 31 | BT16: =IF(C16<>($BT$3),"",BQ16) | BU16: =IF(C16<>($BU$3),"",BQ16) | BV16: =IF(C16<>($BV$3),"",BQ16) | BW16: =IF(C16<>($BW$3),"",BQ16) | BX16: =IF(C16<>($BX$3),"",BQ16) | BY16: =IF(C16<>($BY$3),"",BQ16) | BZ16: =IF(C16<>($BZ$3),"",BQ16) | CA16: =IF(C16<>($CA$3),"",BQ16) | CB16: =IF(C16<>($CB$3),"",BQ16) | CC16: =IF(C16<>($CC$3),"",BQ16) | CD16: =IF(C16<>($CD$3),"",BQ16) | CE16: =IF(C16<>($CE$3),"",BQ16) | CF16: =IF(C16<>($CF$3),"",BQ16) | CG16: =IF(C16<>($CG$3),"",BQ16) -> 31 | CH16: =IF(C16<>($CH$3),"",BQ16) | CI16: =IF(C16<>($CI$3),"",BQ16) | CJ16: =IF(C16<>($CJ$3),"",BQ16) | CK16: =IF(C16<>($CK$3),"",BQ16) | CL16: =IF(C16<>($CL$3),"",BQ16)
A17: CANTOBION PATRICK | B17: V2 | C17: SDUS | G17: =IF(ISBLANK(F17),"",VLOOKUP(F17,H_60_m,2)) | I17: =IF(ISBLANK(H17),"",VLOOKUP(H17,H_100_m,2)) | K17: =IF(ISBLANK(J17),"",VLOOKUP(J17,H_200_m,2)) | M17: =IF(ISBLANK(L17),"",VLOOKUP(L17,H_300_m,2)) | O17: =IF(ISBLANK(N17),"",VLOOKUP(N17,H_400_m,2)) | Q17: =IF(ISBLANK(P17),"",VLOOKUP(P17,H_50_m_H_,2)) | S17: =IF(ISBLANK(R17),"",VLOOKUP(R17,H_60_m_H_,2)) | U17: =IF(ISBLANK(T17),"",VLOOKUP(T17,H_110_m_H_,2)) | W17: =IF(ISBLANK(V17),"",VLOOKUP(V17,H_320_m_H,2)) | Y17: =IF(ISBLANK(X17),"",VLOOKUP(X17,H_400_m_H,2)) | AA17: =IF(ISBLANK(Z17),"",VLOOKUP(Z17,H_500_m,2)) | AC17: =IF(ISBLANK(AB17),"",VLOOKUP(AB17,H_800_m,2)) | AE17: =IF(ISBLANK(AD17),"",VLOOKUP(AD17,H_1000_m,2)) | AG17: =IF(ISBLANK(AF17),"",VLOOKUP(AF17,H_1500_m,2)) | AI17: =IF(ISBLANK(AH17),"",VLOOKUP(AH17,H_2000_m,2)) | AK17: =IF(ISBLANK(AJ17),"",VLOOKUP(AJ17,H_3000_m,2)) | AM17: =IF(ISBLANK(AL17),"",VLOOKUP(AL17,H_5000_m,2)) | AO17: =IF(ISBLANK(AN17),"",VLOOKUP(AN17,H_1500_steeple,2)) | AQ17: =IF(ISBLANK(AP17),"",VLOOKUP(AP17,H_3000_steeple,2)) | AS17: =IF(ISBLANK(AR17),"",VLOOKUP(AR17,H_3_km_marche,2)) | AU17: =IF(ISBLANK(AT17),"",VLOOKUP(AT17,H_5_km_marche,2)) | AW17: =IF(ISBLANK(AV17),"",VLOOKUP(AV17,H_LONGUEUR,2)) | AY17: =IF(ISBLANK(AX17),"",VLOOKUP(AX17,H_T_S_,2)) | BA17: =IF(ISBLANK(AZ17),"",VLOOKUP(AZ17,H_HAUTEUR,2)) | BC17: =IF(ISBLANK(BB17),"",VLOOKUP(BB17,H_PERCHE,2)) | BD17: 956 | BF17: =IF(ISBLANK(BD17),"",VLOOKUP(BD17,H_POIDS,2)) -> 18 | BI17: =IF(ISBLANK(BG17),"",VLOOKUP(BG17,H_DISQUE,2)) | BL17: =IF(ISBLANK(BJ17),"",VLOOKUP(BJ17,H_JAVELOT,2)) | BO17: =IF(ISBLANK(BM17),"",VLOOKUP(BM17,H_MARTEAU,2)) | BP17: =IF(ISBLANK(C17),"",COUNTA(BM17,BJ17,BG17,BD17,BB17,AZ17,AX17,AV17,AT17,AR17,AP17,AN17,AL17,AJ17,AH17,AF17,AD17,AB17,Z17,X17,V17,T17,R17,P17,N17,L17,J17,H17,F17,D17)) -> 1 | BQ17: =SUM(BF17,BC17,BA17,AY17,AW17,AU17,AS17,AQ17,AO17,AM17,AK17,AI17,AG17,AE17,AC17,AA17,Y17,W17,U17,S17,Q17,O17,M17,K17,I17,G17,E17) -> 18 | BT17: =IF(C17<>($BT$3),"",BQ17) | BU17: =IF(C17<>($BU$3),"",BQ17) | BV17: =IF(C17<>($BV$3),"",BQ17) | BW17: =IF(C17<>($BW$3),"",BQ17) | BX17: =IF(C17<>($BX$3),"",BQ17) | BY17: =IF(C17<>($BY$3),"",BQ17) | BZ17: =IF(C17<>($BZ$3),"",BQ17) | CA17: =IF(C17<>($CA$3),"",BQ17) | CB17: =IF(C17<>($CB$3),"",BQ17) | CC17: =IF(C17<>($CC$3),"",BQ17) | CD17: =IF(C17<>($CD$3),"",BQ17) | CE17: =IF(C17<>($CE$3),"",BQ17) | CF17: =IF(C17<>($CF$3),"",BQ17) | CG17: =IF(C17<>($CG$3),"",BQ17) -> 18 | CH17: =IF(C17<>($CH$3),"",BQ17) | CI17: =IF(C17<>($CI$3),"",BQ17) | CJ17: =IF(C17<>($CJ$3),"",BQ17) | CK17: =IF(C17<>($CK$3),"",BQ17) | CL17: =IF(C17<>($CL$3),"",BQ17)
A18: DA SILVA PHILIPPE | B18: V1 | C18: ABDO | G18: =IF(ISBLANK(F18),"",VLOOKUP(F18,H_60_m,2)) | H18: 1404 | K18: =IF(ISBLANK(J18),"",VLOOKUP(J18,H_200_m,2)) | S18: =IF(ISBLANK(R18),"",VLOOKUP(R18,H_60_m_H_,2)) | AC18: =IF(ISBLANK(AB18),"",VLOOKUP(AB18,H_800_m,2)) | AF18: 53148 | AV18: 446 | AW18: =IF(ISBLANK(AV18),"",VLOOKUP(AV18,H_LONGUEUR,2)) -> 14 | BC18: =IF(ISBLANK(BB18),"",VLOOKUP(BB18,H_PERCHE,2)) | BF18: =IF(ISBLANK(BD18),"",VLOOKUP(BD18,H_POIDS,2)) | BI18: =IF(ISBLANK(BG18),"",VLOOKUP(BG18,H_DISQUE,2)) | BL18: =IF(ISBLANK(BJ18),"",VLOOKUP(BJ18,H_JAVELOT,2)) | BO18: =IF(ISBLANK(BM18),"",VLOOKUP(BM18,H_MARTEAU,2)) | BP18: =IF(ISBLANK(C18),"",COUNTA(BM18,BJ18,BG18,BD18,BB18,AZ18,AX18,AV18,AT18,AR18,AP18,AN18,AL18,AJ18,AH18,AF18,AD18,AB18,Z18,X18,V18,T18,R18,P18,N18,L18,J18,H18,F18,D18)) -> 3 | BQ18: =SUM(BF18,BC18,BA18,AY18,AW18,AU18,AS18,AQ18,AO18,AM18,AK18,AI18,AG18,AE18,AC18,AA18,Y18,W18,U18,S18,Q18,O18,M18,K18,I18,G18,E18) -> 14 | BT18: =IF(C18<>($BT$3),"",BQ18) -> 14 | BU18: =IF(C18<>($BU$3),"",BQ18) | BV18: =IF(C18<>($BV$3),"",BQ18) | BW18: =IF(C18<>($BW$3),"",BQ18) | BX18: =IF(C18<>($BX$3),"",BQ18) | BY18: =IF(C18<>($BY$3),"",BQ18) | BZ18: =IF(C18<>($BZ$3),"",BQ18) | CA18: =IF(C18<>($CA$3),"",BQ18) | CB18: =IF(C18<>($CB$3),"",BQ18) | CC18: =IF(C18<>($CC$3),"",BQ18) | CD18: =IF(C18<>($CD$3),"",BQ18) | CE18: =IF(C18<>($CE$3),"",BQ18) | CF18: =IF(C18<>($CF$3),"",BQ18) | CG18: =IF(C18<>($CG$3),"",BQ18) | CH18: =IF(C18<>($CH$3),"",BQ18) | CI18: =IF(C18<>($CI$3),"",BQ18) | CJ18: =IF(C18<>($CJ$3),"",BQ18) | CK18: =IF(C18<>($CK$3),"",BQ18) | CL18: =IF(C18<>($CL$3),"",BQ18)
A19: LOUSTAU JEAN MICHEL | B19: V2 | C19: ABDO | G19: =IF(ISBLANK(F19),"",VLOOKUP(F19,H_60_m,2)) | H19: 1454 | I19: =IF(ISBLANK(H19),"",VLOOKUP(H19,H_100_m,2)) -> 1 | K19: =IF(ISBLANK(J19),"",VLOOKUP(J19,H_200_m,2)) | M19: =IF(ISBLANK(L19),"",VLOOKUP(L19,H_300_m,2)) | O19: =IF(ISBLANK(N19),"",VLOOKUP(N19,H_400_m,2)) | Q19: =IF(ISBLANK(P19),"",VLOOKUP(P19,H_50_m_H_,2)) | S19: =IF(ISBLANK(R19),"",VLOOKUP(R19,H_60_m_H_,2)) | U19: =IF(ISBLANK(T19),"",VLOOKUP(T19,H_110_m_H_,2)) | W19: =IF(ISBLANK(V19),"",VLOOKUP(V19,H_320_m_H,2)) | Y19: =IF(ISBLANK(X19),"",VLOOKUP(X19,H_400_m_H,2)) | AA19: =IF(ISBLANK(Z19),"",VLOOKUP(Z19,H_500_m,2)) | AC19: =IF(ISBLANK(AB19),"",VLOOKUP(AB19,H_800_m,2)) | AE19: =IF(ISBLANK(AD19),"",VLOOKUP(AD19,H_1000_m,2)) | AF19: 55145 | AI19: =IF(ISBLANK(AH19),"",VLOOKUP(AH19,H_2000_m,2)) | AK19: =IF(ISBLANK(AJ19),"",VLOOKUP(AJ19,H_3000_m,2)) | AM19: =IF(ISBLANK(AL19),"",VLOOKUP(AL19,H_5000_m,2)) | AO19: =IF(ISBLANK(AN19),"",VLOOKUP(AN19,H_1500_steeple,2)) | AQ19: =IF(ISBLANK(AP19),"",VLOOKUP(AP19,H_3000_steeple,2)) | AS19: =IF(ISBLANK(AR19),"",VLOOKUP(AR19,H_3_km_marche,2)) | AU19: =IF(ISBLANK(AT19),"",VLOOKUP(AT19,H_5_km_marche,2)) | AW19: =IF(ISBLANK(AV19),"",VLOOKUP(AV19,H_LONGUEUR,2)) | AY19: =IF(ISBLANK(AX19),"",VLOOKUP(AX19,H_T_S_,2)) | AZ19: 140 | BA19: =IF(ISBLANK(AZ19),"",VLOOKUP(AZ19,H_HAUTEUR,2)) -> 13 | BC19: =IF(ISBLANK(BB19),"",VLOOKUP(BB19,H_PERCHE,2)) | BF19: =IF(ISBLANK(BD19),"",VLOOKUP(BD19,H_POIDS,2)) | BI19: =IF(ISBLANK(BG19),"",VLOOKUP(BG19,H_DISQUE,2)) | BL19: =IF(ISBLANK(BJ19),"",VLOOKUP(BJ19,H_JAVELOT,2)) | BO19: =IF(ISBLANK(BM19),"",VLOOKUP(BM19,H_MARTEAU,2)) | BP19: =IF(ISBLANK(C19),"",COUNTA(BM19,BJ19,BG19,BD19,BB19,AZ19,AX19,AV19,AT19,AR19,AP19,AN19,AL19,AJ19,AH19,AF19,AD19,AB19,Z19,X19,V19,T19,R19,P19,N19,L19,J19,H19,F19,D19)) -> 3 | BQ19: =SUM(BF19,BC19,BA19,AY19,AW19,AU19,AS19,AQ19,AO19,AM19,AK19,AI19,AG19,AE19,AC19,AA19,Y19,W19,U19,S19,Q19,O19,M19,K19,I19,G19,E19) -> 14 | BT19: =IF(C19<>($BT$3),"",BQ19) -> 14 | BU19: =IF(C19<>($BU$3),"",BQ19) | BV19: =IF(C19<>($BV$3),"",BQ19) | BW19: =IF(C19<>($BW$3),"",BQ19) | BX19: =IF(C19<>($BX$3),"",BQ19) | BY19: =IF(C19<>($BY$3),"",BQ19) | BZ19: =IF(C19<>($BZ$3),"",BQ19) | CA19: =IF(C19<>($CA$3),"",BQ19) | CB19: =IF(C19<>($CB$3),"",BQ19) | CC19: =IF(C19<>($CC$3),"",BQ19) | CD19: =IF(C19<>($CD$3),"",BQ19) | CE19: =IF(C19<>($CE$3),"",BQ19) | CF19: =IF(C19<>($CF$3),"",BQ19) | CG19: =IF(C19<>($CG$3),"",BQ19) | CH19: =IF(C19<>($CH$3),"",BQ19) | CI19: =IF(C19<>($CI$3),"",BQ19) | CJ19: =IF(C19<>($CJ$3),"",BQ19) | CK19: =IF(C19<>($CK$3),"",BQ19) | CL19: =IF(C19<>($CL$3),"",BQ19)
A20: FRANCOIS THOMAS | B20: S | C20: ABDO | G20: =IF(ISBLANK(F20),"",VLOOKUP(F20,H_60_m,2)) | H20: 1259 | I20: =IF(ISBLANK(H20),"",VLOOKUP(H20,H_100_m,2)) -> 1 | K20: =IF(ISBLANK(J20),"",VLOOKUP(J20,H_200_m,2)) | M20: =IF(ISBLANK(L20),"",VLOOKUP(L20,H_300_m,2)) | O20: =IF(ISBLANK(N20),"",VLOOKUP(N20,H_400_m,2)) | Q20: =IF(ISBLANK(P20),"",VLOOKUP(P20,H_50_m_H_,2)) | S20: =IF(ISBLANK(R20),"",VLOOKUP(R20,H_60_m_H_,2)) | U20: =IF(ISBLANK(T20),"",VLOOKUP(T20,H_110_m_H_,2)) | W20: =IF(ISBLANK(V20),"",VLOOKUP(V20,H_320_m_H,2)) | Y20: =IF(ISBLANK(X20),"",VLOOKUP(X20,H_400_m_H,2)) | AA20: =IF(ISBLANK(Z20),"",VLOOKUP(Z20,H_500_m,2)) | AC20: =IF(ISBLANK(AB20),"",VLOOKUP(AB20,H_800_m,2)) | AE20: =IF(ISBLANK(AD20),"",VLOOKUP(AD20,H_1000_m,2)) | AG20: =IF(ISBLANK(AF20),"",VLOOKUP(AF20,H_1500_m,2)) | AI20: =IF(ISBLANK(AH20),"",VLOOKUP(AH20,H_2000_m,2)) | AK20: =IF(ISBLANK(AJ20),"",VLOOKUP(AJ20,H_3000_m,2)) | AM20: =IF(ISBLANK(AL20),"",VLOOKUP(AL20,H_5000_m,2)) | AO20: =IF(ISBLANK(AN20),"",VLOOKUP(AN20,H_1500_steeple,2)) | AQ20: =IF(ISBLANK(AP20),"",VLOOKUP(AP20,H_3000_steeple,2)) | AU20: =IF(ISBLANK(AT20),"",VLOOKUP(AT20,H_5_km_marche,2)) | AV20: 522 | AW20: =IF(ISBLANK(AV20),"",VLOOKUP(AV20,H_LONGUEUR,2)) -> 18 | AY20: =IF(ISBLANK(AX20),"",VLOOKUP(AX20,H_T_S_,2)) | BA20: =IF(ISBLANK(AZ20),"",VLOOKUP(AZ20,H_HAUTEUR,2)) | BC20: =IF(ISBLANK(BB20),"",VLOOKUP(BB20,H_PERCHE,2)) | BF20: =IF(ISBLANK(BD20),"",VLOOKUP(BD20,H_POIDS,2)) | BI20: =IF(ISBLANK(BG20),"",VLOOKUP(BG20,H_DISQUE,2)) | BJ20: 1868 | BL20: =IF(ISBLANK(BJ20),"",VLOOKUP(BJ20,H_JAVELOT,2)) -> 7 | BO20: =IF(ISBLANK(BM20),"",VLOOKUP(BM20,H_MARTEAU,2)) | BP20: =IF(ISBLANK(C20),"",COUNTA(BM20,BJ20,BG20,BD20,BB20,AZ20,AX20,AV20,AT20,AR20,AP20,AN20,AL20,AJ20,AH20,AF20,AD20,AB20,Z20,X20,V20,T20,R20,P20,N20,L20,J20,H20,F20,D20)) -> 3 | BQ20: =SUM(BF20,BC20,BA20,AY20,AW20,AU20,AS20,AQ20,AO20,AM20,AK20,AI20,AG20,AE20,AC20,AA20,Y20,W20,U20,S20,Q20,O20,M20,K20,I20,G20,E20) -> 19 | BT20: =IF(C20<>($BT$3),"",BQ20) -> 19 | BU20: =IF(C20<>($BU$3),"",BQ20) | BV20: =IF(C20<>($BV$3),"",BQ20) | BW20: =IF(C20<>($BW$3),"",BQ20) | BX20: =IF(C20<>($BX$3),"",BQ20) | BY20: =IF(C20<>($BY$3),"",BQ20) | BZ20: =IF(C20<>($BZ$3),"",BQ20) | CA20: =IF(C20<>($CA$3),"",BQ20) | CB20: =IF(C20<>($CB$3),"",BQ20) | CC20: =IF(C20<>($CC$3),"",BQ20) | CD20: =IF(C20<>($CD$3),"",BQ20) | CE20: =IF(C20<>($CE$3),"",BQ20) | CF20: =IF(C20<>($CF$3),"",BQ20) | CG20: =IF(C20<>($CG$3),"",BQ20) | CH20: =IF(C20<>($CH$3),"",BQ20) | CI20: =IF(C20<>($CI$3),"",BQ20) | CJ20: =IF(C20<>($CJ$3),"",BQ20) | CK20: =IF(C20<>($CK$3),"",BQ20) | CL20: =IF(C20<>($CL$3),"",BQ20)
A21: BACCOUCHE BESSEM | B21: JM | C21: CSB | G21: =IF(ISBLANK(F21),"",VLOOKUP(F21,H_60_m,2)) | H21: 1223 | K21: =IF(ISBLANK(J21),"",VLOOKUP(J21,H_200_m,2)) | N21: 5256 | O21: =IF(ISBLANK(N21),"",VLOOKUP(N21,H_400_m,2)) -> 1 | S21: =IF(ISBLANK(R21),"",VLOOKUP(R21,H_60_m_H_,2)) | AC21: =IF(ISBLANK(AB21),"",VLOOKUP(AB21,H_800_m,2)) | AS21: =IF(ISBLANK(AR21),"",VLOOKUP(AR21,H_3_km_marche,2)) | AW21: =IF(ISBLANK(AV21),"",VLOOKUP(AV21,H_LONGUEUR,2)) | AY21: =IF(ISBLANK(AX21),"",VLOOKUP(AX21,H_T_S_,2)) | BA21: =IF(ISBLANK(AZ21),"",VLOOKUP(AZ21,H_HAUTEUR,2)) | BC21: =IF(ISBLANK(BB21),"",VLOOKUP(BB21,H_PERCHE,2)) | BF21: =IF(ISBLANK(BD21),"",VLOOKUP(BD21,H_POIDS,2)) | BP21: =IF(ISBLANK(C21),"",COUNTA(BM21,BJ21,BG21,BD21,BB21,AZ21,AX21,AV21,AT21,AR21,AP21,AN21,AL21,AJ21,AH21,AF21,AD21,AB21,Z21,X21,V21,T21,R21,P21,N21,L21,J21,H21,F21,D21)) -> 2 | BQ21: =SUM(BF21,BC21,BA21,AY21,AW21,AU21,AS21,AQ21,AO21,AM21,AK21,AI21,AG21,AE21,AC21,AA21,Y21,W21,U21,S21,Q21,O21,M21,K21,I21,G21,E21) -> 1 | BT21: =IF(C21<>($BT$3),"",BQ21) | BU21: =IF(C21<>($BU$3),"",BQ21) | BV21: =IF(C21<>($BV$3),"",BQ21) | BW21: =IF(C21<>($BW$3),"",BQ21) | BX21: =IF(C21<>($BX$3),"",BQ21) | BY21: =IF(C21<>($BY$3),"",BQ21) | BZ21: =IF(C21<>($BZ$3),"",BQ21) | CA21: =IF(C21<>($CA$3),"",BQ21) | CB21: =IF(C21<>($CB$3),"",BQ21) -> 1 | CC21: =IF(C21<>($CC$3),"",BQ21) | CD21: =IF(C21<>($CD$3),"",BQ21) | CE21: =IF(C21<>($CE$3),"",BQ21) | CF21: =IF(C21<>($CF$3),"",BQ21) | CG21: =IF(C21<>($CG$3),"",BQ21) | CH21: =IF(C21<>($CH$3),"",BQ21) | CI21: =IF(C21<>($CI$3),"",BQ21) | CJ21: =IF(C21<>($CJ$3),"",BQ21) | CK21: =IF(C21<>($CK$3),"",BQ21) | CL21: =IF(C21<>($CL$3),"",BQ21)
A22: CADET MATHIEU | B22: S | C22: CSB | G22: =IF(ISBLANK(F22),"",VLOOKUP(F22,H_60_m,2)) | H22: 1239 | I22: =IF(ISBLANK(H22),"",VLOOKUP(H22,H_100_m,2)) -> 1 | K22: =IF(ISBLANK(J22),"",VLOOKUP(J22,H_200_m,2)) | M22: =IF(ISBLANK(L22),"",VLOOKUP(L22,H_300_m,2)) | N22: 5360 | O22: =IF(ISBLANK(N22),"",VLOOKUP(N22,H_400_m,2)) -> 1 | Q22: =IF(ISBLANK(P22),"",VLOOKUP(P22,H_50_m_H_,2)) | S22: =IF(ISBLANK(R22),"",VLOOKUP(R22,H_60_m_H_,2)) | U22: =IF(ISBLANK(T22),"",VLOOKUP(T22,H_110_m_H_,2)) | W22: =IF(ISBLANK(V22),"",VLOOKUP(V22,H_320_m_H,2)) | Y22: =IF(ISBLANK(X22),"",VLOOKUP(X22,H_400_m_H,2)) | AA22: =IF(ISBLANK(Z22),"",VLOOKUP(Z22,H_500_m,2)) | AC22: =IF(ISBLANK(AB22),"",VLOOKUP(AB22,H_800_m,2)) | AE22: =IF(ISBLANK(AD22),"",VLOOKUP(AD22,H_1000_m,2)) | AG22: =IF(ISBLANK(AF22),"",VLOOKUP(AF22,H_1500_m,2)) | AI22: =IF(ISBLANK(AH22),"",VLOOKUP(AH22,H_2000_m,2)) | AK22: =IF(ISBLANK(AJ22),"",VLOOKUP(AJ22,H_3000_m,2)) | AM22: =IF(ISBLANK(AL22),"",VLOOKUP(AL22,H_5000_m,2)) | AO22: =IF(ISBLANK(AN22),"",VLOOKUP(AN22,H_1500_steeple,2)) | AQ22: =IF(ISBLANK(AP22),"",VLOOKUP(AP22,H_3000_steeple,2)) | AS22: =IF(ISBLANK(AR22),"",VLOOKUP(AR22,H_3_km_marche,2)) | AU22: =IF(ISBLANK(AT22),"",VLOOKUP(AT22,H_5_km_marche,2)) | AW22: =IF(ISBLANK(AV22),"",VLOOKUP(AV22,H_LONGUEUR,2)) | AY22: =IF(ISBLANK(AX22),"",VLOOKUP(AX22,H_T_S_,2)) | BA22: =IF(ISBLANK(AZ22),"",VLOOKUP(AZ22,H_HAUTEUR,2)) | BC22: =IF(ISBLANK(BB22),"",VLOOKUP(BB22,H_PERCHE,2)) | BF22: =IF(ISBLANK(BD22),"",VLOOKUP(BD22,H_POIDS,2)) | BI22: =IF(ISBLANK(BG22),"",VLOOKUP(BG22,H_DISQUE,2)) | BL22: =IF(ISBLANK(BJ22),"",VLOOKUP(BJ22,H_JAVELOT,2)) | BO22: =IF(ISBLANK(BM22),"",VLOOKUP(BM22,H_MARTEAU,2)) | BP22: =IF(ISBLANK(C22),"",COUNTA(BM22,BJ22,BG22,BD22,BB22,AZ22,AX22,AV22,AT22,AR22,AP22,AN22,AL22,AJ22,AH22,AF22,AD22,AB22,Z22,X22,V22,T22,R22,P22,N22,L22,J22,H22,F22,D22)) -> 2 | BQ22: =SUM(BF22,BC22,BA22,AY22,AW22,AU22,AS22,AQ22,AO22,AM22,AK22,AI22,AG22,AE22,AC22,AA22,Y22,W22,U22,S22,Q22,O22,M22,K22,I22,G22,E22) -> 2 | BT22: =IF(C22<>($BT$3),"",BQ22) | BU22: =IF(C22<>($BU$3),"",BQ22) | BV22: =IF(C22<>($BV$3),"",BQ22) | BW22: =IF(C22<>($BW$3),"",BQ22) | BX22: =IF(C22<>($BX$3),"",BQ22) | BY22: =IF(C22<>($BY$3),"",BQ22) | BZ22: =IF(C22<>($BZ$3),"",BQ22) | CA22: =IF(C22<>($CA$3),"",BQ22) | CB22: =IF(C22<>($CB$3),"",BQ22) -> 2 | CC22: =IF(C22<>($CC$3),"",BQ22) | CD22: =IF(C22<>($CD$3),"",BQ22) | CE22: =IF(C22<>($CE$3),"",BQ22) | CF22: =IF(C22<>($CF$3),"",BQ22) | CG22: =IF(C22<>($CG$3),"",BQ22) | CH22: =IF(C22<>($CH$3),"",BQ22) | CI22: =IF(C22<>($CI$3),"",BQ22) | CJ22: =IF(C22<>($CJ$3),"",BQ22) | CK22: =IF(C22<>($CK$3),"",BQ22) | CL22: =IF(C22<>($CL$3),"",BQ22)
A23: MLIMI HACHIM | B23: JM | C23: ESCXV | G23: =IF(ISBLANK(F23),"",VLOOKUP(F23,H_60_m,2)) | H23: 1208 | I23: =IF(ISBLANK(H23),"",VLOOKUP(H23,H_100_m,2)) -> 1 | K23: =IF(ISBLANK(J23),"",VLOOKUP(J23,H_200_m,2)) | M23: =IF(ISBLANK(L23),"",VLOOKUP(L23,H_300_m,2)) | O23: =IF(ISBLANK(N23),"",VLOOKUP(N23,H_400_m,2)) | Q23: =IF(ISBLANK(P23),"",VLOOKUP(P23,H_50_m_H_,2)) | S23: =IF(ISBLANK(R23),"",VLOOKUP(R23,H_60_m_H_,2)) | U23: =IF(ISBLANK(T23),"",VLOOKUP(T23,H_110_m_H_,2)) | W23: =IF(ISBLANK(V23),"",VLOOKUP(V23,H_320_m_H,2)) | Y23: =IF(ISBLANK(X23),"",VLOOKUP(X23,H_400_m_H,2)) | AA23: =IF(ISBLANK(Z23),"",VLOOKUP(Z23,H_500_m,2)) | AC23: =IF(ISBLANK(AB23),"",VLOOKUP(AB23,H_800_m,2)) | AE23: =IF(ISBLANK(AD23),"",VLOOKUP(AD23,H_1000_m,2)) | AG23: =IF(ISBLANK(AF23),"",VLOOKUP(AF23,H_1500_m,2)) | AI23: =IF(ISBLANK(AH23),"",VLOOKUP(AH23,H_2000_m,2)) | AK23: =IF(ISBLANK(AJ23),"",VLOOKUP(AJ23,H_3000_m,2)) | AM23: =IF(ISBLANK(AL23),"",VLOOKUP(AL23,H_5000_m,2)) | AO23: =IF(ISBLANK(AN23),"",VLOOKUP(AN23,H_1500_steeple,2)) | AQ23: =IF(ISBLANK(AP23),"",VLOOKUP(AP23,H_3000_steeple,2)) | AU23: =IF(ISBLANK(AT23),"",VLOOKUP(AT23,H_5_km_marche,2)) | AW23: =IF(ISBLANK(AV23),"",VLOOKUP(AV23,H_LONGUEUR,2)) | AY23: =IF(ISBLANK(AX23),"",VLOOKUP(AX23,H_T_S_,2)) | BA23: =IF(ISBLANK(AZ23),"",VLOOKUP(AZ23,H_HAUTEUR,2)) | BC23: =IF(ISBLANK(BB23),"",VLOOKUP(BB23,H_PERCHE,2)) | BF23: =IF(ISBLANK(BD23),"",VLOOKUP(BD23,H_POIDS,2)) | BI23: =IF(ISBLANK(BG23),"",VLOOKUP(BG23,H_DISQUE,2)) | BL23: =IF(ISBLANK(BJ23),"",VLOOKUP(BJ23,H_JAVELOT,2)) | BO23: =IF(ISBLANK(BM23),"",VLOOKUP(BM23,H_MARTEAU,2)) | BP23: =IF(ISBLANK(C23),"",COUNTA(BM23,BJ23,BG23,BD23,BB23,AZ23,AX23,AV23,AT23,AR23,AP23,AN23,AL23,AJ23,AH23,AF23,AD23,AB23,Z23,X23,V23,T23,R23,P23,N23,L23,J23,H23,F23,D23)) -> 1 | BQ23: =SUM(BF23,BC23,BA23,AY23,AW23,AU23,AS23,AQ23,AO23,AM23,AK23,AI23,AG23,AE23,AC23,AA23,Y23,W23,U23,S23,Q23,O23,M23,K23,I23,G23,E23) -> 1 | BT23: =IF(C23<>($BT$3),"",BQ23) | BU23: =IF(C23<>($BU$3),"",BQ23) | BV23: =IF(C23<>($BV$3),"",BQ23) | BW23: =IF(C23<>($BW$3),"",BQ23) | BX23: =IF(C23<>($BX$3),"",BQ23) | BY23: =IF(C23<>($BY$3),"",BQ23) | BZ23: =IF(C23<>($BZ$3),"",BQ23) | CA23: =IF(C23<>($CA$3),"",BQ23) | CB23: =IF(C23<>($CB$3),"",BQ23) | CC23: =IF(C23<>($CC$3),"",BQ23) | CD23: =IF(C23<>($CD$3),"",BQ23) -> 1 | CE23: =IF(C23<>($CE$3),"",BQ23) | CF23: =IF(C23<>($CF$3),"",BQ23) | CG23: =IF(C23<>($CG$3),"",BQ23) | CH23: =IF(C23<>($CH$3),"",BQ23) | CI23: =IF(C23<>($CI$3),"",BQ23) | CJ23: =IF(C23<>($CJ$3),"",BQ23) | CK23: =IF(C23<>($CK$3),"",BQ23) | CL23: =IF(C23<>($CL$3),"",BQ23)
A24: NGUEKA STEPHANE JOEL | B24: S | C24: ESCXV | G24: =IF(ISBLANK(F24),"",VLOOKUP(F24,H_60_m,2)) | H24: 1194 | I24: =IF(ISBLANK(H24),"",VLOOKUP(H24,H_100_m,2)) -> 1 | K24: =IF(ISBLANK(J24),"",VLOOKUP(J24,H_200_m,2)) | M24: =IF(ISBLANK(L24),"",VLOOKUP(L24,H_300_m,2)) | N24: 5242 | O24: =IF(ISBLANK(N24),"",VLOOKUP(N24,H_400_m,2)) -> 1 | Q24: =IF(ISBLANK(P24),"",VLOOKUP(P24,H_50_m_H_,2)) | S24: =IF(ISBLANK(R24),"",VLOOKUP(R24,H_60_m_H_,2)) | U24: =IF(ISBLANK(T24),"",VLOOKUP(T24,H_110_m_H_,2)) | W24: =IF(ISBLANK(V24),"",VLOOKUP(V24,H_320_m_H,2)) | Y24: =IF(ISBLANK(X24),"",VLOOKUP(X24,H_400_m_H,2)) | AA24: =IF(ISBLANK(Z24),"",VLOOKUP(Z24,H_500_m,2)) | AC24: =IF(ISBLANK(AB24),"",VLOOKUP(AB24,H_800_m,2)) | AE24: =IF(ISBLANK(AD24),"",VLOOKUP(AD24,H_1000_m,2)) | AG24: =IF(ISBLANK(AF24),"",VLOOKUP(AF24,H_1500_m,2)) | AI24: =IF(ISBLANK(AH24),"",VLOOKUP(AH24,H_2000_m,2)) | AK24: =IF(ISBLANK(AJ24),"",VLOOKUP(AJ24,H_3000_m,2)) | AM24: =IF(ISBLANK(AL24),"",VLOOKUP(AL24,H_5000_m,2)) | AO24: =IF(ISBLANK(AN24),"",VLOOKUP(AN24,H_1500_steeple,2)) | AQ24: =IF(ISBLANK(AP24),"",VLOOKUP(AP24,H_3000_steeple,2)) | AS24: =IF(ISBLANK(AR24),"",VLOOKUP(AR24,H_3_km_marche,2)) | AU24: =IF(ISBLANK(AT24),"",VLOOKUP(AT24,H_5_km_marche,2)) | AW24: =IF(ISBLANK(AV24),"",VLOOKUP(AV24,H_LONGUEUR,2)) | AY24: =IF(ISBLANK(AX24),"",VLOOKUP(AX24,H_T_S_,2)) | BA24: =IF(ISBLANK(AZ24),"",VLOOKUP(AZ24,H_HAUTEUR,2)) | BC24: =IF(ISBLANK(BB24),"",VLOOKUP(BB24,H_PERCHE,2)) | BD24: 1318 | BF24: =IF(ISBLANK(BD24),"",VLOOKUP(BD24,H_POIDS,2)) -> 22 | BI24: =IF(ISBLANK(BG24),"",VLOOKUP(BG24,H_DISQUE,2)) | BL24: =IF(ISBLANK(BJ24),"",VLOOKUP(BJ24,H_JAVELOT,2)) | BO24: =IF(ISBLANK(BM24),"",VLOOKUP(BM24,H_MARTEAU,2)) | BP24: =IF(ISBLANK(C24),"",COUNTA(BM24,BJ24,BG24,BD24,BB24,AZ24,AX24,AV24,AT24,AR24,AP24,AN24,AL24,AJ24,AH24,AF24,AD24,AB24,Z24,X24,V24,T24,R24,P24,N24,L24,J24,H24,F24,D24)) -> 3 | BQ24: =SUM(BF24,BC24,BA24,AY24,AW24,AU24,AS24,AQ24,AO24,AM24,AK24,AI24,AG24,AE24,AC24,AA24,Y24,W24,U24,S24,Q24,O24,M24,K24,I24,G24,E24) -> 24 | BT24: =IF(C24<>($BT$3),"",BQ24) | BU24: =IF(C24<>($BU$3),"",BQ24) | BV24: =IF(C24<>($BV$3),"",BQ24) | BW24: =IF(C24<>($BW$3),"",BQ24) | BX24: =IF(C24<>($BX$3),"",BQ24) | BY24: =IF(C24<>($BY$3),"",BQ24) | BZ24: =IF(C24<>($BZ$3),"",BQ24) | CA24: =IF(C24<>($CA$3),"",BQ24) | CB24: =IF(C24<>($CB$3),"",BQ24) | CC24: =IF(C24<>($CC$3),"",BQ24) | CD24: =IF(C24<>($CD$3),"",BQ24) -> 24 | CE24: =IF(C24<>($CE$3),"",BQ24) | CF24: =IF(C24<>($CF$3),"",BQ24) | CG24: =IF(C24<>($CG$3),"",BQ24) | CH24: =IF(C24<>($CH$3),"",BQ24) | CI24: =IF(C24<>($CI$3),"",BQ24) | CJ24: =IF(C24<>($CJ$3),"",BQ24) | CK24: =IF(C24<>($CK$3),"",BQ24) | CL24: =IF(C24<>($CL$3),"",BQ24)
A25: RENAUDIN PHILIPPE | B25: V1 | C25: ASGB | G25: =IF(ISBLANK(F25),"",VLOOKUP(F25,H_60_m,2)) | I25: =IF(ISBLANK(H25),"",VLOOKUP(H25,H_100_m,2)) | K25: =IF(ISBLANK(J25),"",VLOOKUP(J25,H_200_m,2)) | M25: =IF(ISBLANK(L25),"",VLOOKUP(L25,H_300_m,2)) | O25: =IF(ISBLANK(N25),"",VLOOKUP(N25,H_400_m,2)) | Q25: =IF(ISBLANK(P25),"",VLOOKUP(P25,H_50_m_H_,2)) | S25: =IF(ISBLANK(R25),"",VLOOKUP(R25,H_60_m_H_,2)) | U25: =IF(ISBLANK(T25),"",VLOOKUP(T25,H_110_m_H_,2)) | W25: =IF(ISBLANK(V25),"",VLOOKUP(V25,H_320_m_H,2)) | Y25: =IF(ISBLANK(X25),"",VLOOKUP(X25,H_400_m_H,2)) | AA25: =IF(ISBLANK(Z25),"",VLOOKUP(Z25,H_500_m,2)) | AC25: =IF(ISBLANK(AB25),"",VLOOKUP(AB25,H_800_m,2)) | AE25: =IF(ISBLANK(AD25),"",VLOOKUP(AD25,H_1000_m,2)) | AG25: =IF(ISBLANK(AF25),"",VLOOKUP(AF25,H_1500_m,2)) | AI25: =IF(ISBLANK(AH25),"",VLOOKUP(AH25,H_2000_m,2)) | AK25: =IF(ISBLANK(AJ25),"",VLOOKUP(AJ25,H_3000_m,2)) | AM25: =IF(ISBLANK(AL25),"",VLOOKUP(AL25,H_5000_m,2)) | AO25: =IF(ISBLANK(AN25),"",VLOOKUP(AN25,H_1500_steeple,2)) | AQ25: =IF(ISBLANK(AP25),"",VLOOKUP(AP25,H_3000_steeple,2)) | AS25: =IF(ISBLANK(AR25),"",VLOOKUP(AR25,H_3_km_marche,2)) | AU25: =IF(ISBLANK(AT25),"",VLOOKUP(AT25,H_5_km_marche,2)) | AW25: =IF(ISBLANK(AV25),"",VLOOKUP(AV25,H_LONGUEUR,2)) | AY25: =IF(ISBLANK(AX25),"",VLOOKUP(AX25,H_T_S_,2)) | BA25: =IF(ISBLANK(AZ25),"",VLOOKUP(AZ25,H_HAUTEUR,2)) | BC25: =IF(ISBLANK(BB25),"",VLOOKUP(BB25,H_PERCHE,2)) | BF25: =IF(ISBLANK(BD25),"",VLOOKUP(BD25,H_POIDS,2)) | BG25: 2756 | BI25: =IF(ISBLANK(BG25),"",VLOOKUP(BG25,H_DISQUE,2)) -> 18 | BJ25: 2668 | BL25: =IF(ISBLANK(BJ25),"",VLOOKUP(BJ25,H_JAVELOT,2)) -> 14 | BO25: =IF(ISBLANK(BM25),"",VLOOKUP(BM25,H_MARTEAU,2)) | BP25: =IF(ISBLANK(C25),"",COUNTA(BM25,BJ25,BG25,BD25,BB25,AZ25,AX25,AV25,AT25,AR25,AP25,AN25,AL25,AJ25,AH25,AF25,AD25,AB25,Z25,X25,V25,T25,R25,P25,N25,L25,J25,H25,F25,D25)) -> 2 | BQ25: =SUM(BF25,BC25,BA25,AY25,AW25,AU25,AS25,AQ25,AO25,AM25,AK25,AI25,AG25,AE25,AC25,AA25,Y25,W25,U25,S25,Q25,O25,M25,K25,I25,G25,E25) -> 0 | BT25: =IF(C25<>($BT$3),"",BQ25) | BU25: =IF(C25<>($BU$3),"",BQ25) | BV25: =IF(C25<>($BV$3),"",BQ25) -> 0 | BW25: =IF(C25<>($BW$3),"",BQ25) | BX25: =IF(C25<>($BX$3),"",BQ25) | BY25: =IF(C25<>($BY$3),"",BQ25) | BZ25: =IF(C25<>($BZ$3),"",BQ25) | CA25: =IF(C25<>($CA$3),"",BQ25) | CB25: =IF(C25<>($CB$3),"",BQ25) | CC25: =IF(C25<>($CC$3),"",BQ25) | CD25: =IF(C25<>($CD$3),"",BQ25) | CE25: =IF(C25<>($CE$3),"",BQ25) | CF25: =IF(C25<>($CF$3),"",BQ25) | CG25: =IF(C25<>($CG$3),"",BQ25) | CH25: =IF(C25<>($CH$3),"",BQ25) | CI25: =IF(C25<>($CI$3),"",BQ25) | CJ25: =IF(C25<>($CJ$3),"",BQ25) | CK25: =IF(C25<>($CK$3),"",BQ25) | CL25: =IF(C25<>($CL$3),"",BQ25)
A26: HOUANOU SAMUEL | B26: S1 | C26: ESV | G26: =IF(ISBLANK(F26),"",VLOOKUP(F26,H_60_m,2)) | I26: =IF(ISBLANK(H26),"",VLOOKUP(H26,H_100_m,2)) | K26: =IF(ISBLANK(J26),"",VLOOKUP(J26,H_200_m,2)) | M26: =IF(ISBLANK(L26),"",VLOOKUP(L26,H_300_m,2)) | O26: =IF(ISBLANK(N26),"",VLOOKUP(N26,H_400_m,2)) | Q26: =IF(ISBLANK(P26),"",VLOOKUP(P26,H_50_m_H_,2)) | S26: =IF(ISBLANK(R26),"",VLOOKUP(R26,H_60_m_H_,2)) | U26: =IF(ISBLANK(T26),"",VLOOKUP(T26,H_110_m_H_,2)) | W26: =IF(ISBLANK(V26),"",VLOOKUP(V26,H_320_m_H,2)) | Y26: =IF(ISBLANK(X26),"",VLOOKUP(X26,H_400_m_H,2)) | AA26: =IF(ISBLANK(Z26),"",VLOOKUP(Z26,H_500_m,2)) | AC26: =IF(ISBLANK(AB26),"",VLOOKUP(AB26,H_800_m,2)) | AE26: =IF(ISBLANK(AD26),"",VLOOKUP(AD26,H_1000_m,2)) | AF26: 42257 | AG26: =IF(ISBLANK(AF26),"",VLOOKUP(AF26,H_1500_m,2)) -> 1 | AI26: =IF(ISBLANK(AH26),"",VLOOKUP(AH26,H_2000_m,2)) | AK26: =IF(ISBLANK(AJ26),"",VLOOKUP(AJ26,H_3000_m,2)) | AM26: =IF(ISBLANK(AL26),"",VLOOKUP(AL26,H_5000_m,2)) | AO26: =IF(ISBLANK(AN26),"",VLOOKUP(AN26,H_1500_steeple,2)) | AQ26: =IF(ISBLANK(AP26),"",VLOOKUP(AP26,H_3000_steeple,2)) | AS26: =IF(ISBLANK(AR26),"",VLOOKUP(AR26,H_3_km_marche,2)) | AU26: =IF(ISBLANK(AT26),"",VLOOKUP(AT26,H_5_km_marche,2)) | AW26: =IF(ISBLANK(AV26),"",VLOOKUP(AV26,H_LONGUEUR,2)) | AY26: =IF(ISBLANK(AX26),"",VLOOKUP(AX26,H_T_S_,2)) | BA26: =IF(ISBLANK(AZ26),"",VLOOKUP(AZ26,H_HAUTEUR,2)) | BC26: =IF(ISBLANK(BB26),"",VLOOKUP(BB26,H_PERCHE,2)) | BF26: =IF(ISBLANK(BD26),"",VLOOKUP(BD26,H_POIDS,2)) | BI26: =IF(ISBLANK(BG26),"",VLOOKUP(BG26,H_DISQUE,2)) | BL26: =IF(ISBLANK(BJ26),"",VLOOKUP(BJ26,H_JAVELOT,2)) | BO26: =IF(ISBLANK(BM26),"",VLOOKUP(BM26,H_MARTEAU,2)) | BP26: =IF(ISBLANK(C26),"",COUNTA(BM26,BJ26,BG26,BD26,BB26,AZ26,AX26,AV26,AT26,AR26,AP26,AN26,AL26,AJ26,AH26,AF26,AD26,AB26,Z26,X26,V26,T26,R26,P26,N26,L26,J26,H26,F26,D26)) -> 1 | BQ26: =SUM(BF26,BC26,BA26,AY26,AW26,AU26,AS26,AQ26,AO26,AM26,AK26,AI26,AG26,AE26,AC26,AA26,Y26,W26,U26,S26,Q26,O26,M26,K26,I26,G26,E26) -> 1 | BT26: =IF(C26<>($BT$3),"",BQ26) | BU26: =IF(C26<>($BU$3),"",BQ26) | BV26: =IF(C26<>($BV$3),"",BQ26) | BW26: =IF(C26<>($BW$3),"",BQ26) | BX26: =IF(C26<>($BX$3),"",BQ26) | BY26: =IF(C26<>($BY$3),"",BQ26) | BZ26: =IF(C26<>($BZ$3),"",BQ26) | CA26: =IF(C26<>($CA$3),"",BQ26) | CB26: =IF(C26<>($CB$3),"",BQ26) | CC26: =IF(C26<>($CC$3),"",BQ26) -> 1 | CD26: =IF(C26<>($CD$3),"",BQ26) | CE26: =IF(C26<>($CE$3),"",BQ26) | CF26: =IF(C26<>($CF$3),"",BQ26) | CG26: =IF(C26<>($CG$3),"",BQ26) | CH26: =IF(C26<>($CH$3),"",BQ26) | CI26: =IF(C26<>($CI$3),"",BQ26) | CJ26: =IF(C26<>($CJ$3),"",BQ26) | CK26: =IF(C26<>($CK$3),"",BQ26) | CL26: =IF(C26<>($CL$3),"",BQ26)
A27: FINALE
A28: MLIMI HACHIM | B28: JM | C28: ESCXV | G28: =IF(ISBLANK(F28),"",VLOOKUP(F28,H_60_m,2)) | H28: 1217 | L28: =IF(ISBLANK(K28),"",VLOOKUP(K28,MF_50_m_H_,2)) | N28: =IF(ISBLANK(M28),"",VLOOKUP(M28,MF_60_m_H_,2)) | T28: =IF(ISBLANK(S28),"",VLOOKUP(S28,MF_1000_m,2)) | AF28: =IF(ISBLANK(AE28),"",VLOOKUP(AE28,MF_60_m_H_,2)) | AL28: =IF(ISBLANK(AK28),"",VLOOKUP(AK28,MF_PERCHE,2)) | AN28: =IF(ISBLANK(AM28),"",VLOOKUP(AM28,MF_POIDS,2)) | AP28: =IF(ISBLANK(AO28),"",VLOOKUP(AO28,MF_DISQUE,2)) | AR28: =IF(ISBLANK(AQ28),"",VLOOKUP(AQ28,MF_JAVELOT,2)) | AV28: =IF(ISBLANK(AU28),"",VLOOKUP(AU28,MF_60_m_H_,2)) | AY28: =IF(B28<>($AY$2),"",AV28) | AZ28: =IF(B28<>($AZ$2),"",AV28) | BA28: =IF(B28<>($BA$2),"",AV28) | BB28: =IF(B28<>($BB$2),"",AV28) | BC28: =IF(B28<>($BC$2),"",AV28) | BD28: =IF(B28<>($BD$2),"",AV28) | BE28: =IF(B28<>($BE$2),"",AV28) | BF28: =IF(B28<>($BF$2),"",AV28) | BG28: =IF(B28<>($BG$2),"",AV28) | BH28: =IF(B28<>($BH$2),"",AV28) | BI28: =IF(B28<>($BI$2),"",AV28) | BJ28: =IF(B28<>($BJ$2),"",AV28) | BK28: =IF(B28<>($BK$2),"",AV28) | BL28: =IF(B28<>($BL$2),"",AV28) | BM28: =IF(B28<>($BM$2),"",AV28) | BO28: =IF(B28<>($BO$2),"",AV28) | BP28: =IF(B28<>($BP$2),"",AV28) | BQ28: =IF(B28<>($BQ$2),"",AV28)
A29: CADET MATHIEU | B29: JM | C29: CSB | G29: =IF(ISBLANK(F29),"",VLOOKUP(F29,H_60_m,2)) | H29: 1266 | L29: =IF(ISBLANK(K29),"",VLOOKUP(K29,MF_50_m_H_,2)) | N29: =IF(ISBLANK(M29),"",VLOOKUP(M29,MF_60_m_H_,2)) | T29: =IF(ISBLANK(S29),"",VLOOKUP(S29,MF_1000_m,2)) | AF29: =IF(ISBLANK(AE29),"",VLOOKUP(AE29,MF_60_m_H_,2)) | AR29: =IF(ISBLANK(AQ29),"",VLOOKUP(AQ29,MF_JAVELOT,2)) | AV29: =IF(ISBLANK(AU29),"",VLOOKUP(AU29,MF_60_m_H_,2)) | AZ29: =IF(B29<>($AZ$2),"",AV29) | BA29: =IF(B29<>($BA$2),"",AV29) | BB29: =IF(B29<>($BB$2),"",AV29) | BD29: =IF(B29<>($BD$2),"",AV29) | BE29: =IF(B29<>($BE$2),"",AV29) | BF29: =IF(B29<>($BF$2),"",AV29) | BG29: =IF(B29<>($BG$2),"",AV29) | BH29: =IF(B29<>($BH$2),"",AV29) | BI29: =IF(B29<>($BI$2),"",AV29) | BJ29: =IF(B29<>($BJ$2),"",AV29) | BK29: =IF(B29<>($BK$2),"",AV29) | BL29: =IF(B29<>($BL$2),"",AV29) | BM29: =IF(B29<>($BM$2),"",AV29) | BP29: =IF(B29<>($BP$2),"",AV29)
A30: BARADJI MACIRE | B30: S1 | C30: SDUS | G30: =IF(ISBLANK(F30),"",VLOOKUP(F30,H_60_m,2)) | H30: 1191 | I30: =IF(ISBLANK(H30),"",VLOOKUP(H30,H_100_m,2)) -> 1 | K30: =IF(ISBLANK(J30),"",VLOOKUP(J30,H_200_m,2)) | M30: =IF(ISBLANK(L30),"",VLOOKUP(L30,H_300_m,2)) | O30: =IF(ISBLANK(N30),"",VLOOKUP(N30,H_400_m,2)) | Q30: =IF(ISBLANK(P30),"",VLOOKUP(P30,H_50_m_H_,2)) | S30: =IF(ISBLANK(R30),"",VLOOKUP(R30,H_60_m_H_,2)) | U30: =IF(ISBLANK(T30),"",VLOOKUP(T30,H_110_m_H_,2)) | W30: =IF(ISBLANK(V30),"",VLOOKUP(V30,H_320_m_H,2)) | Y30: =IF(ISBLANK(X30),"",VLOOKUP(X30,H_400_m_H,2)) | AA30: =IF(ISBLANK(Z30),"",VLOOKUP(Z30,H_500_m,2)) | AC30: =IF(ISBLANK(AB30),"",VLOOKUP(AB30,H_800_m,2)) | AE30: =IF(ISBLANK(AD30),"",VLOOKUP(AD30,H_1000_m,2)) | AG30: =IF(ISBLANK(AF30),"",VLOOKUP(AF30,H_1500_m,2)) | AI30: =IF(ISBLANK(AH30),"",VLOOKUP(AH30,H_2000_m,2)) | AK30: =IF(ISBLANK(AJ30),"",VLOOKUP(AJ30,H_3000_m,2)) | AM30: =IF(ISBLANK(AL30),"",VLOOKUP(AL30,H_5000_m,2)) | AO30: =IF(ISBLANK(AN30),"",VLOOKUP(AN30,H_1500_steeple,2)) | AQ30: =IF(ISBLANK(AP30),"",VLOOKUP(AP30,H_3000_steeple,2)) | AS30: =IF(ISBLANK(AR30),"",VLOOKUP(AR30,H_3_km_marche,2)) | AU30: =IF(ISBLANK(AT30),"",VLOOKUP(AT30,H_5_km_marche,2)) | AW30: =IF(ISBLANK(AV30),"",VLOOKUP(AV30,H_LONGUEUR,2)) | AY30: =IF(ISBLANK(AX30),"",VLOOKUP(AX30,H_T_S_,2)) | BA30: =IF(ISBLANK(AZ30),"",VLOOKUP(AZ30,H_HAUTEUR,2)) | BC30: =IF(ISBLANK(BB30),"",VLOOKUP(BB30,H_PERCHE,2)) | BF30: =IF(ISBLANK(BD30),"",VLOOKUP(BD30,H_POIDS,2)) | BI30: =IF(ISBLANK(BG30),"",VLOOKUP(BG30,H_DISQUE,2)) | BQ30: =SUM(BF30,BC30,BA30,AY30,AW30,AU30,AS30,AQ30,AO30,AM30,AK30,AI30,AG30,AE30,AC30,AA30,Y30,W30,U30,S30,Q30,O30,M30,K30,I30,G30,E30) -> 1 | BT30: =IF(C30<>($BT$3),"",BQ30) | BU30: =IF(C30<>($BU$3),"",BQ30) | BV30: =IF(C30<>($BV$3),"",BQ30) | BW30: =IF(C30<>($BW$3),"",BQ30) | BX30: =IF(C30<>($BX$3),"",BQ30) | BY30: =IF(C30<>($BY$3),"",BQ30) | BZ30: =IF(C30<>($BZ$3),"",BQ30) | CA30: =IF(C30<>($CA$3),"",BQ30) | CB30: =IF(C30<>($CB$3),"",BQ30) | CC30: =IF(C30<>($CC$3),"",BQ30) | CD30: =IF(C30<>($CD$3),"",BQ30) | CE30: =IF(C30<>($CE$3),"",BQ30) | CF30: =IF(C30<>($CF$3),"",BQ30) | CG30: =IF(C30<>($CG$3),"",BQ30) -> 1 | CH30: =IF(C30<>($CH$3),"",BQ30) | CI30: =IF(C30<>($CI$3),"",BQ30) | CJ30: =IF(C30<>($CJ$3),"",BQ30) | CK30: =IF(C30<>($CK$3),"",BQ30) | CL30: =IF(C30<>($CL$3),"",BQ30)
A31: NGUEKA STEPHANE JOEL | B31: S | C31: ESCXV | G31: =IF(ISBLANK(F31),"",VLOOKUP(F31,H_60_m,2)) | H31: 1232 | I31: =IF(ISBLANK(H31),"",VLOOKUP(H31,H_100_m,2)) -> 1 | K31: =IF(ISBLANK(J31),"",VLOOKUP(J31,H_200_m,2)) | M31: =IF(ISBLANK(L31),"",VLOOKUP(L31,H_300_m,2)) | BF31: =IF(ISBLANK(BD31),"",VLOOKUP(BD31,H_POIDS,2)) | BI31: =IF(ISBLANK(BG31),"",VLOOKUP(BG31,H_DISQUE,2)) | BL31: =IF(ISBLANK(BJ31),"",VLOOKUP(BJ31,H_JAVELOT,2)) | BO31: =IF(ISBLANK(BM31),"",VLOOKUP(BM31,H_MARTEAU,2)) | BQ31: =SUM(BF31,BC31,BA31,AY31,AW31,AU31,AS31,AQ31,AO31,AM31,AK31,AI31,AG31,AE31,AC31,AA31,Y31,W31,U31,S31,Q31,O31,M31,K31,I31,G31,E31) -> 1 | BT31: =IF(C31<>($BT$3),"",BQ31) | BU31: =IF(C31<>($BU$3),"",BQ31) | BV31: =IF(C31<>($BV$3),"",BQ31) | BW31: =IF(C31<>($BW$3),"",BQ31) | BX31: =IF(C31<>($BX$3),"",BQ31) | BY31: =IF(C31<>($BY$3),"",BQ31) | BZ31: =IF(C31<>($BZ$3),"",BQ31) | CA31: =IF(C31<>($CA$3),"",BQ31) | CB31: =IF(C31<>($CB$3),"",BQ31) | CC31: =IF(C31<>($CC$3),"",BQ31) | CD31: =IF(C31<>($CD$3),"",BQ31) -> 1 | CE31: =IF(C31<>($CE$3),"",BQ31) | CF31: =IF(C31<>($CF$3),"",BQ31) | CG31: =IF(C31<>($CG$3),"",BQ31) | CH31: =IF(C31<>($CH$3),"",BQ31) | CI31: =IF(C31<>($CI$3),"",BQ31) | CJ31: =IF(C31<>($CJ$3),"",BQ31) | CK31: =IF(C31<>($CK$3),"",BQ31) | CL31: =IF(C31<>($CL$3),"",BQ31)
A32: MVUELA CHRISTIAN | B32: S | C32: CMAA | G32: =IF(ISBLANK(F32),"",VLOOKUP(F32,H_60_m,2)) | H32: 1145 | I32: =IF(ISBLANK(H32),"",VLOOKUP(H32,H_100_m,2)) -> 1 | M32: =IF(ISBLANK(L32),"",VLOOKUP(L32,H_300_m,2)) | O32: =IF(ISBLANK(N32),"",VLOOKUP(N32,H_400_m,2)) | Q32: =IF(ISBLANK(P32),"",VLOOKUP(P32,H_50_m_H_,2)) | S32: =IF(ISBLANK(R32),"",VLOOKUP(R32,H_60_m_H_,2)) | U32: =IF(ISBLANK(T32),"",VLOOKUP(T32,H_110_m_H_,2)) | W32: =IF(ISBLANK(V32),"",VLOOKUP(V32,H_320_m_H,2)) | Y32: =IF(ISBLANK(X32),"",VLOOKUP(X32,H_400_m_H,2)) | AA32: =IF(ISBLANK(Z32),"",VLOOKUP(Z32,H_500_m,2)) | AC32: =IF(ISBLANK(AB32),"",VLOOKUP(AB32,H_800_m,2)) | AE32: =IF(ISBLANK(AD32),"",VLOOKUP(AD32,H_1000_m,2)) | AG32: =IF(ISBLANK(AF32),"",VLOOKUP(AF32,H_1500_m,2)) | AI32: =IF(ISBLANK(AH32),"",VLOOKUP(AH32,H_2000_m,2)) | AK32: =IF(ISBLANK(AJ32),"",VLOOKUP(AJ32,H_3000_m,2)) | AM32: =IF(ISBLANK(AL32),"",VLOOKUP(AL32,H_5000_m,2)) | AO32: =IF(ISBLANK(AN32),"",VLOOKUP(AN32,H_1500_steeple,2)) | AQ32: =IF(ISBLANK(AP32),"",VLOOKUP(AP32,H_3000_steeple,2)) | AS32: =IF(ISBLANK(AR32),"",VLOOKUP(AR32,H_3_km_marche,2)) | AU32: =IF(ISBLANK(AT32),"",VLOOKUP(AT32,H_5_km_marche,2)) | AW32: =IF(ISBLANK(AV32),"",VLOOKUP(AV32,H_LONGUEUR,2)) | AY32: =IF(ISBLANK(AX32),"",VLOOKUP(AX32,H_T_S_,2)) | BA32: =IF(ISBLANK(AZ32),"",VLOOKUP(AZ32,H_HAUTEUR,2)) | BC32: =IF(ISBLANK(BB32),"",VLOOKUP(BB32,H_PERCHE,2)) | BF32: =IF(ISBLANK(BD32),"",VLOOKUP(BD32,H_POIDS,2)) | BI32: =IF(ISBLANK(BG32),"",VLOOKUP(BG32,H_DISQUE,2)) | BL32: =IF(ISBLANK(BJ32),"",VLOOKUP(BJ32,H_JAVELOT,2)) | BO32: =IF(ISBLANK(BM32),"",VLOOKUP(BM32,H_MARTEAU,2)) | BQ32: =SUM(BF32,BC32,BA32,AY32,AW32,AU32,AS32,AQ32,AO32,AM32,AK32,AI32,AG32,AE32,AC32,AA32,Y32,W32,U32,S32,Q32,O32,M32,K32,I32,G32,E32) -> 1 | BT32: =IF(C32<>($BT$3),"",BQ32) | BU32: =IF(C32<>($BU$3),"",BQ32) | BV32: =IF(C32<>($BV$3),"",BQ32) | BW32: =IF(C32<>($BW$3),"",BQ32) | BX32: =IF(C32<>($BX$3),"",BQ32) | BY32: =IF(C32<>($BY$3),"",BQ32) | BZ32: =IF(C32<>($BZ$3),"",BQ32) | CA32: =IF(C32<>($CA$3),"",BQ32) | CB32: =IF(C32<>($CB$3),"",BQ32) | CC32: =IF(C32<>($CC$3),"",BQ32) | CD32: =IF(C32<>($CD$3),"",BQ32) | CE32: =IF(C32<>($CE$3),"",BQ32) | CF32: =IF(C32<>($CF$3),"",BQ32) | CG32: =IF(C32<>($CG$3),"",BQ32) | CH32: =IF(C32<>($CH$3),"",BQ32) | CI32: =IF(C32<>($CI$3),"",BQ32) | CJ32: =IF(C32<>($CJ$3),"",BQ32) | CK32: =IF(C32<>($CK$3),"",BQ32) | CL32: =IF(C32<>($CL$3),"",BQ32)
A33: FRANCOIS THOMAS | B33: S | C33: ABDO | G33: =IF(ISBLANK(F33),"",VLOOKUP(F33,H_60_m,2)) | H33: 1284 | J33: =IF(ISBLANK(I33),"",VLOOKUP(I33,H_200_m,2)) | L33: =IF(ISBLANK(K33),"",VLOOKUP(K33,H_300_m,2)) | N33: =IF(ISBLANK(M33),"",VLOOKUP(M33,H_400_m,2)) | P33: =IF(ISBLANK(O33),"",VLOOKUP(O33,H_50_m_H_,2)) | R33: =IF(ISBLANK(Q33),"",VLOOKUP(Q33,H_60_m_H_,2)) | T33: =IF(ISBLANK(S33),"",VLOOKUP(S33,H_110_m_H_,2)) | V33: =IF(ISBLANK(U33),"",VLOOKUP(U33,H_320_m_H,2)) | X33: =IF(ISBLANK(W33),"",VLOOKUP(W33,H_400_m_H,2)) | Z33: =IF(ISBLANK(Y33),"",VLOOKUP(Y33,H_500_m,2)) | AB33: =IF(ISBLANK(AA33),"",VLOOKUP(AA33,H_800_m,2)) | AD33: =IF(ISBLANK(AC33),"",VLOOKUP(AC33,H_1000_m,2)) | AF33: =IF(ISBLANK(AE33),"",VLOOKUP(AE33,H_400_m,2)) | AH33: =IF(ISBLANK(AG33),"",VLOOKUP(AG33,H_2000_m,2)) | AJ33: =IF(ISBLANK(AI33),"",VLOOKUP(AI33,H_3000_m,2)) | AL33: =IF(ISBLANK(AK33),"",VLOOKUP(AK33,H_5000_m,2)) | AN33: =IF(ISBLANK(AM33),"",VLOOKUP(AM33,H_1500_steeple,2)) | AP33: =IF(ISBLANK(AO33),"",VLOOKUP(AO33,H_3000_steeple,2)) | AR33: =IF(ISBLANK(AQ33),"",VLOOKUP(AQ33,H_3_km_marche,2)) | AT33: =IF(ISBLANK(AS33),"",VLOOKUP(AS33,H_5_km_marche,2)) | AV33: =IF(ISBLANK(AU33),"",VLOOKUP(AU33,H_400_m,2)) | AX33: =IF(ISBLANK(AW33),"",VLOOKUP(AW33,H_T_S_,2)) | AZ33: =IF(ISBLANK(AY33),"",VLOOKUP(AY33,H_HAUTEUR,2)) | BB33: =IF(ISBLANK(BA33),"",VLOOKUP(BA33,H_PERCHE,2)) | BD33: =IF(ISBLANK(BC33),"",VLOOKUP(BC33,H_POIDS,2)) | BF33: =IF(ISBLANK(BE33),"",VLOOKUP(BE33,H_DISQUE,2)) | BH33: =IF(ISBLANK(BG33),"",VLOOKUP(BG33,H_JAVELOT,2)) | BJ33: =IF(ISBLANK(BI33),"",VLOOKUP(BI33,H_MARTEAU,2)) | BK33: =IF(ISBLANK(B33),"",COUNTA(BI33,BG33,BE33,BC33,BA33,AY33,AW33,AU33,AS33,AQ33,AO33,AM33,AK33,AI33,AG33,AE33,AC33,AA33,Y33,W33,U33,S33,Q33,O33,M33,K33,I33,G33,E33)) -> 1 | BL33: =SUM(BJ33,BH33,BF33,BD33,BB33,AZ33,AX33,AV33,AT33,AR33,AP33,AF33,AD33,AB33,Z33,X33,V33,T33,R33,P33,N33,L33,J33,H33,F33,D33) -> 1284 | BO33: =IF(B33<>($BO$2),"",BL33) | BP33: =IF(B33<>($BP$2),"",BL33) | BQ33: =IF(B33<>($BQ$2),"",BL33) | BR33: =IF(B33<>($BR$2),"",BL33) | BS33: =IF(B33<>($BS$2),"",BL33) | BT33: =IF(B33<>($BT$2),"",BL33) | BU33: =IF(B33<>($BU$2),"",BL33) | BV33: =IF(B33<>($BV$2),"",BL33) | BW33: =IF(B33<>($BW$2),"",BL33) | BX33: =IF(B33<>($BX$2),"",BL33) | BY33: =IF(B33<>($BY$2),"",BL33) | BZ33: =IF(B33<>($BZ$2),"",BL33) | CA33: =IF(B33<>($CA$2),"",BL33) | CB33: =IF(B33<>($CB$2),"",BL33) | CC33: =IF(B33<>($CC$2),"",BL33) | CD33: =IF(B33<>($CD$2),"",BL33) | CE33: =IF(B33<>($CE$2),"",BL33) | CF33: =IF(B33<>($CF$2),"",BL33) | CG33: =IF(B33<>($CG$2),"",BL33)
BS35: TOTAL | BT35: =SUM(BT5:BT33) -> 47 | BU35: =SUM(BU5:BU33) -> 0 | BV35: =SUM(BV5:BV33) -> 0 | BW35: =SUM(BW5:BW33) -> 0 | BX35: =SUM(BX5:BX33) -> 0 | BY35: =SUM(BY5:BY33) -> 0 | BZ35: =SUM(BZ5:BZ33) -> 0 | CA35: =SUM(CA5:CA33) -> 0 | ... CL35: =SUM(CL5:CL33) -> 0
BS37: Nombre Athlètes | BT37: =COUNTIF($C$5:$C33,BT3) -> 4 | BU37: =COUNTIF($C$5:$C33,BU3) -> 0 | BV37: =COUNTIF($C$5:$C33,BV3) -> 1 | BW37: =COUNTIF($C$5:$C33,BW3) -> 0 | BX37: =COUNTIF($C$5:$C33,BX3) -> 0 | BY37: =COUNTIF($C$5:$C33,BY3) -> 0 | BZ37: =COUNTIF($C$5:$C33,BZ3) -> 0 | CA37: =COUNTIF($C$5:$C33,CA3) -> 0 | ... CL37: =COUNTIF($C$5:$C33,CL3) -> 0

Sheet Table Mo
A1: 50 m | B1: PTS | C1: 50 haies | D1: PTS | E1: 300 m | F1: PTS | G1: 500 m | H1: PTS | I1: 600 m | J1: PTS | K1: 500 marche | L1: PTS | M1: 600 marche | N1: PTS | O1: Longueur | P1: PTS | Q1: Triple saut | R1: PTS | S1: Hauteur | T1: PTS | U1: Perche | V1: PTS | W1: Poids | X1: PTS | Y1: Balles | Z1: PTS | AA1: Anneau | AB1: PTS | AC1: Marteau | AD1: PTS
A2: 1 | B2: 25 | C2: 0 | D2: 25 | E2: 0 | F2: 25 | G2: 0 | H2: 25 | I2: 0 | J2: 25 | K2: 0 | L2: 25 | M2: 0 | N2: 25 | O2: 0 | P2: 1 | Q2: 0 | R2: 1 | S2: 0 | T2: 1 | U2: 0 | V2: 1 | W2: 0 | X2: 1 | Y2: 0 | Z2: 1 | AA2: 0 | AB2: 1 | AC2: 0 | AD2: 1
A3: 76 | B3: 25 | C3: 81 | D3: 25 | E3: 590 | F3: 25 | G3: 1400 | H3: 25 | I3: 2000 | J3: 25 | K3: 3100 | L3: 25 | M3: 3500 | N3: 25 | O3: 100 | P3: 2 | Q3: 240 | R3: 2 | S3: 70 | T3: 2 | V3: 2 | W3: 140 | X3: 2 | Y3: 100 | Z3: 2 | AA3: 200 | AB3: 2 | AD3: 2
A4: 77 | B4: 24 | C4: 82 | D4: 24 | E4: 591 | F4: 24 | G4: 1401 | H4: 24 | I4: 2001 | J4: 24 | K4: 3101 | L4: 24 | M4: 3501 | N4: 24 | O4: 110 | P4: 3 | Q4: 250 | R4: 3 | T4: 3 | V4: 3 | W4: 170 | X4: 3 | Y4: 200 | Z4: 3 | AA4: 300 | AB4: 3 | AD4: 3
A5: 78 | B5: 23 | C5: 83 | D5: 23 | E5: 1000 | F5: 24 | G5: 1410 | H5: 24 | I5: 2010 | J5: 24 | K5: 3120 | L5: 24 | M5: 3530 | N5: 24 | O5: 120 | P5: 4 | Q5: 260 | R5: 4 | T5: 4 | V5: 4 | W5: 200 | X5: 4 | Y5: 300 | Z5: 4 | AA5: 400 | AB5: 4 | AD5: 4
A6: 79 | B6: 22 | C6: 84 | D6: 22 | E6: 1001 | F6: 23 | G6: 1411 | H6: 23 | I6: 2011 | J6: 23 | K6: 3121 | L6: 23 | M6: 3531 | N6: 23 | O6: 130 | P6: 5 | Q6: 280 | R6: 5 | S6: 75 | T6: 5 | V6: 5 | W6: 230 | X6: 5 | Y6: 400 | Z6: 5 | AA6: 500 | AB6: 5 | AD6: 5
A7: 80 | B7: 21 | C7: 85 | D7: 22 | E7: 1010 | F7: 23 | G7: 1420 | H7: 23 | I7: 2020 | J7: 23 | K7: 3160 | L7: 23 | M7: 3560 | N7: 23 | O7: 140 | P7: 6 | Q7: 300 | R7: 6 | T7: 6 | V7: 6 | W7: 260 | X7: 6 | Y7: 500 | Z7: 6 | AA7: 600 | AB7: 6 | AD7: 6
A8: 81 | B8: 20 | C8: 86 | D8: 21 | E8: 1011 | F8: 22 | G8: 1421 | H8: 22 | I8: 2021 | J8: 22 | K8: 3161 | L8: 22 | M8: 3561 | N8: 22 | O8: 150 | P8: 7 | Q8: 320 | R8: 7 | T8: 7 | V8: 7 | W8: 290 | X8: 7 | Y8: 550 | Z8: 7 | AA8: 700 | AB8: 7 | AD8: 7
A9: 82 | B9: 20 | C9: 87 | D9: 21 | E9: 1020 | F9: 22 | G9: 1440 | H9: 22 | I9: 2040 | J9: 22 | K9: 3190 | L9: 22 | M9: 3590 | N9: 22 | O9: 160 | P9: 8 | Q9: 340 | R9: 8 | S9: 80 | T9: 8 | V9: 8 | W9: 320 | X9: 8 | Y9: 600 | Z9: 8 | AA9: 800 | AB9: 8 | AD9: 8
A10: 83 | B10: 19 | C10: 88 | D10: 21 | E10: 1021 | F10: 21 | G10: 1441 | H10: 21 | I10: 2041 | J10: 21 | K10: 3191 | L10: 21 | M10: 3591 | N10: 21 | O10: 170 | P10: 9 | Q10: 360 | R10: 9 | T10: 9 | V10: 9 | W10: 350 | X10: 9 | Y10: 650 | Z10: 9 | AA10: 900 | AB10: 9 | AD10: 9
A11: 84 | B11: 19 | C11: 89 | D11: 20 | E11: 1030 | F11: 21 | G11: 1460 | H11: 21 | I11: 2060 | J11: 21 | K11: 3220 | L11: 21 | M11: 4030 | N11: 21 | O11: 180 | P11: 10 | Q11: 380 | R11: 10 | T11: 10 | V11: 10 | W11: 380 | X11: 10 | Y11: 700 | Z11: 10 | AA11: 1000 | AB11: 10 | AD11: 10
A12: 85 | B12: 18 | C12: 90 | D12: 20 | E12: 1031 | F12: 20 | G12: 1461 | H12: 20 | I12: 2061 | J12: 20 | K12: 3221 | L12: 20 | M12: 4031 | N12: 20 | O12: 190 | P12: 11 | Q12: 400 | R12: 11 | S12: 85 | T12: 11 | V12: 11 | W12: 410 | X12: 11 | Y12: 800 | Z12: 11 | AA12: 1100 | AB12: 11 | AD12: 11
A13: 86 | B13: 18 | C13: 91 | D13: 20 | E13: 1050 | F13: 20 | G13: 1490 | H13: 20 | I13: 2080 | J13: 20 | K13: 3260 | L13: 20 | M13: 4070 | N13: 20 | O13: 200 | P13: 12 | Q13: 420 | R13: 12 | T13: 12 | V13: 12 | W13: 440 | X13: 12 | Y13: 900 | Z13: 12 | AA13: 1200 | AB13: 12 | AD13: 12
A14: 87 | B14: 18 | C14: 92 | D14: 19 | E14: 1051 | F14: 19 | G14: 1491 | H14: 19 | I14: 2081 | J14: 19 | K14: 3261 | L14: 19 | M14: 4071 | N14: 19 | O14: 210 | P14: 13 | Q14: 440 | R14: 13 | T14: 13 | V14: 13 | W14: 470 | X14: 13 | Y14: 1000 | Z14: 13 | AA14: 1300 | AB14: 13 | AD14: 13
A15: 88 | B15: 17 | C15: 93 | D15: 19 | E15: 1070 | F15: 19 | G15: 1520 | H15: 19 | I15: 2110 | J15: 19 | K15: 3300 | L15: 19 | M15: 4110 | N15: 19 | O15: 220 | P15: 14 | Q15: 460 | R15: 14 | S15: 90 | T15: 14 | V15: 14 | W15: 500 | X15: 14 | Y15: 1100 | Z15: 14 | AA15: 1400 | AB15: 14 | AD15: 14
A16: 89 | B16: 17 | C16: 94 | D16: 19 | E16: 1071 | F16: 18 | G16: 1521 | H16: 18 | I16: 2111 | J16: 18 | K16: 3301 | L16: 18 | M16: 4111 | N16: 18 | O16: 230 | P16: 15 | Q16: 480 | R16: 15 | T16: 15 | V16: 15 | W16: 530 | X16: 15 | Y16: 1200 | Z16: 15 | AA16: 1500 | AB16: 15 | AD16: 15
A17: 90 | B17: 17 | C17: 95 | D17: 18 | E17: 1090 | F17: 18 | G17: 1560 | H17: 18 | I17: 2150 | J17: 18 | K17: 3340 | L17: 18 | M17: 4150 | N17: 18 | O17: 240 | P17: 16 | Q17: 500 | R17: 16 | S17: 95 | T17: 16 | V17: 16 | W17: 560 | X17: 16 | Y17: 1300 | Z17: 16 | AA17: 1600 | AB17: 16 | AD17: 16
A18: 91 | B18: 16 | C18: 96 | D18: 18 | E18: 1091 | F18: 17 | G18: 1561 | H18: 17 | I18: 2151 | J18: 17 | K18: 3341 | L18: 17 | M18: 4151 | N18: 17 | O18: 260 | P18: 17 | Q18: 520 | R18: 17 | T18: 17 | V18: 17 | W18: 580 | X18: 17 | Y18: 1400 | Z18: 17 | AA18: 1700 | AB18: 17 | AD18: 17
A19: 92 | B19: 16 | C19: 97 | D19: 18 | E19: 1110 | F19: 17 | G19: 2000 | H19: 17 | I19: 2200 | J19: 17 | K19: 3390 | L19: 17 | M19: 4190 | N19: 17 | O19: 280 | P19: 18 | Q19: 540 | R19: 18 | S19: 100 | T19: 18 | V19: 18 | W19: 620 | X19: 18 | Y19: 1600 | Z19: 18 | AA19: 1800 | AB19: 18 | AD19: 18
A20: 93 | B20: 16 | C20: 98 | D20: 17 | E20: 1111 | F20: 16 | G20: 2000 | H20: 16 | I20: 201 | J20: 16 | K20: 3391 | L20: 16 | M20: 4191 | N20: 16 | O20: 300 | P20: 19 | Q20: 560 | R20: 19 | T20: 19 | V20: 19 | W20: 660 | X20: 19 | Y20: 1800 | Z20: 19 | AA20: 1900 | AB20: 19 | AD20: 19
A21: 94 | B21: 15 | C21: 99 | D21: 17 | E21: 1130 | F21: 16 | G21: 2040 | H21: 16 | I21: 2250 | J21: 16 | K21: 3440 | L21: 16 | M21: 4240 | N21: 16 | O21: 320 | P21: 20 | Q21: 580 | R21: 20 | S21: 105 | T21: 20 | V21: 20 | W21: 700 | X21: 20 | Y21: 2000 | Z21: 20 | AA21: 2000 | AB21: 20 | AD21: 20
A22: 95 | B22: 15 | C22: 100 | D22: 17 | E22: 1131 | F22: 15 | G22: 2040 | H22: 15 | I22: 2251 | J22: 15 | K22: 3441 | L22: 15 | M22: 4241 | N22: 15 | O22: 340 | P22: 21 | Q22: 600 | R22: 21 | T22: 21 | V22: 21 | W22: 750 | X22: 21 | Y22: 2300 | Z22: 21 | AA22: 2100 | AB22: 21 | AD22: 21
A23: 96 | B23: 15 | C23: 101 | D23: 17 | E23: 1160 | F23: 15 | G23: 2080 | H23: 15 | I23: 2300 | J23: 15 | K23: 3490 | L23: 15 | M23: 4300 | N23: 15 | O23: 360 | P23: 22 | Q23: 620 | R23: 22 | S23: 110 | T23: 22 | V23: 22 | W23: 800 | X23: 22 | Y23: 2600 | Z23: 22 | AA23: 2200 | AB23: 22 | AD23: 22
A24: 97 | B24: 14 | C24: 102 | D24: 16 | E24: 1161 | F24: 14 | G24: 2080 | H24: 14 | I24: 2301 | J24: 14 | K24: 3491 | L24: 14 | M24: 4301 | N24: 14 | O24: 380 | P24: 23 | Q24: 640 | R24: 23 | S24: 115 | T24: 23 | V24: 23 | W24: 900 | X24: 23 | Y24: 2900 | Z24: 23 | AA24: 2300 | AB24: 23 | AD24: 23
A25: 98 | B25: 14 | C25: 103 | D25: 16 | E25: 1190 | F25: 14 | G25: 2120 | H25: 14 | I25: 2360 | J25: 14 | K25: 3540 | L25: 14 | M25: 4350 | N25: 14 | O25: 400 | P25: 24 | Q25: 660 | R25: 24 | S25: 120 | T25: 24 | V25: 24 | W25: 100 | X25: 24 | Y25: 3200 | Z25: 24 | AA25: 2400 | AB25: 24 | AD25: 24
A26: 99 | B26: 14 | C26: 104 | D26: 16 | E26: 1191 | F26: 13 | G26: 2120 | H26: 13 | I26: 2361 | J26: 13 | K26: 3541 | L26: 13 | M26: 4351 | N26: 13 | O26: 420 | P26: 25 | Q26: 680 | R26: 25 | S26: 125 | T26: 25 | V26: 25 | W26: 110 | X26: 25 | Y26: 3600 | Z26: 25 | AA26: 2500 | AB26: 25 | AD26: 25
A27: 100 | B27: 13 | C27: 105 | D27: 16 | E27: 1210 | F27: 13 | G27: 2180 | H27: 13 | I27: 2420 | J27: 13 | K27: 3590 | L27: 13 | M27: 4420 | N27: 13
A28: 101 | B28: 13 | C28: 106 | D28: 15 | E28: 1211 | F28: 12 | G28: 2181 | H28: 12 | I28: 2421 | J28: 12 | K28: 3591 | L28: 12 | M28: 4421 | N28: 12
A29: 102 | B29: 13 | C29: 107 | D29: 14 | E29: 1250 | F29: 12 | G29: 2240 | H29: 12 | I29: 2480 | J29: 12 | K29: 4050 | L29: 12 | M29: 4480 | N29: 12
A30: 103 | B30: 13 | C30: 108 | D30: 14 | E30: 1351 | F30: 11 | G30: 2241 | H30: 11 | I30: 2481 | J30: 11 | K30: 4051 | L30: 11 | M30: 4481 | N30: 11
A31: 104 | B31: 12 | C31: 109 | D31: 14 | E31: 1300 | F31: 11 | G31: 2300 | H31: 11 | I31: 2540 | J31: 11 | K31: 4100 | L31: 11 | M31: 4560 | N31: 11
A32: 105 | B32: 12 | C32: 110 | D32: 14 | E32: 1301 | F32: 10 | G32: 2301 | H32: 10 | I32: 2541 | J32: 10 | K32: 4101 | L32: 10 | M32: 4561 | N32: 10
A33: 106 | B33: 12 | C33: 111 | D33: 13 | E33: 1350 | F33: 10 | G33: 2360 | H33: 10 | I33: 3000 | J33: 10 | K33: 4170 | L33: 10 | M33: 5040 | N33: 10
A34: 107 | B34: 12 | C34: 112 | D34: 13 | E34: 1351 | F34: 9 | G34: 2361 | H34: 9 | I34: 3001 | J34: 9 | K34: 4171 | L34: 9 | M34: 5041 | N34: 9
A35: 108 | B35: 11 | C35: 113 | D35: 13 | E35: 1400 | F35: 9 | G35: 2420 | H35: 9 | I35: 3060 | J35: 9 | K35: 4240 | L35: 9 | M35: 5120 | N35: 9
A36: 109 | B36: 11 | C36: 114 | D36: 13 | E36: 1401 | F36: 8 | G36: 2421 | H36: 8 | I36: 3061 | J36: 8 | K36: 4241 | L36: 8 | M36: 5121 | N36: 8
A37: 110 | B37: 11 | C37: 115 | D37: 12 | E37: 1450 | F37: 8 | G37: 2480 | H37: 8 | I37: 3130 | J37: 8 | K37: 4310 | L37: 8 | M37: 5200 | N37: 8
A38: 111 | B38: 11 | C38: 116 | D38: 12 | E38: 1451 | F38: 7 | G38: 2481 | H38: 7 | I38: 3131 | J38: 7 | K38: 4311 | L38: 7 | M38: 5201 | N38: 7
... A51: 124 | B51: 8 | C51: 129 | D51: 9 | E51: 5000 | F51: 1 | G51: 7000 | H51: 1 | I51: 9000 | J51: 1 | K51: 12000 | L51: 1 | M51: 13000 | N51: 1
A52: 125 | B52: 8 | C52: 130 | D52: 9
A53: 126 | B53: 7 | C53: 131 | D53: 9
A54: 127 | B54: 7 | C54: 132 | D54: 9
A55: 128 | B55: 7 | C55: 133 | D55: 8
A56: 129 | B56: 7 | C56: 134 | D56: 8
A57: 130 | B57: 7 | C57: 135 | D57: 8
A58: 131 | B58: 6 | C58: 136 | D58: 8
A59: 132 | B59: 6 | C59: 137 | D59: 8
A60: 133 | B60: 6 | C60: 138 | D60: 7
A61: 134 | B61: 6 | C61: 139 | D61: 7
A62: 135 | B62: 6 | C62: 140 | D62: 7
A63: 136 | B63: 5 | C63: 141 | D63: 7
... A102: 174 | B102: 1 | C102: 180 | D102: 1

Sheet Table Po
A1: 50 m | B1: PTS | C1: 60 m | D1: PTS | E1: 50 m H. | F1: PTS | G1: 120 m | H1: PTS | I1: 300 m | J1: PTS | K1: 500 m | L1: PTS | M1: 1000 m | N1: PTS | O1: 1 km marche | P1: PTS | Q1: Longueur | R1: PTS | S1: Triple saut | T1: PTS | U1: Hauteur | V1: PTS | W1: Perche | X1: PTS | Y1: Poids | Z1: PTS | AA1: Javelot | AB1: PTS | AC1: Disque | AD1: PTS | AE1: Ballonde | AF1: PTS
A2: 0 | B2: 25 | C2: 0 | D2: 25 | E2: 0 | F2: 25 | G2: 0 | H2: 25 | I2: 0 | J2: 25 | K2: 0 | L2: 25 | M2: 0 | N2: 25 | O2: 0 | P2: 25 | Q2: 0 | R2: 1 | S2: 0 | T2: 1 | U2: 0 | V2: 1 | W2: 0 | X2: 1 | Y2: 0 | Z2: 1 | AA2: 0 | AB2: 1 | AC2: 0 | AD2: 1 | AE2: 0 | AF2: 1
A3: 74 | B3: 25 | C3: 84 | D3: 25 | E3: 84 | F3: 25 | G3: 160 | H3: 25 | I3: 540 | J3: 25 | K3: 1300 | L3: 25 | M3: 3150 | N3: 25 | O3: 5500 | P3: 25 | Q3: 180 | R3: 2 | S3: 360 | T3: 2 | U3: 80 | V3: 2 | W3: 80 | X3: 2 | Y3: 300 | Z3: 2 | AA3: 500 | AB3: 2 | AC3: 500 | AD3: 2 | AE3: 400 | AF3: 2
E4: 85 | F4: 24 | G4: 161 | H4: 24 | I4: 541 | J4: 24 | K4: 1301 | L4: 24 | M4: 3151 | N4: 24 | O4: 5501 | P4: 24 | Q4: 200 | R4: 3 | S4: 380 | T4: 3 | V4: 3 | W4: 100 | X4: 3 | Y4: 320 | Z4: 3 | AA4: 550 | AB4: 3 | AC4: 550 | AD4: 3 | AE4: 450 | AF4: 3
A5: 75 | B5: 24 | C5: 85 | D5: 24 | E5: 86 | F5: 24 | G5: 164 | H5: 24 | I5: 550 | J5: 24 | K5: 1320 | L5: 24 | M5: 3200 | N5: 24 | O5: 5550 | P5: 24 | Q5: 210 | R5: 4 | S5: 400 | T5: 4 | V5: 4 | W5: 105 | X5: 4 | Y5: 340 | Z5: 4 | AA5: 600 | AB5: 4 | AC5: 600 | AD5: 4 | AE5: 500 | AF5: 4
E6: 87 | F6: 23 | G6: 165 | H6: 23 | I6: 551 | J6: 23 | K6: 1321 | L6: 23 | M6: 3201 | N6: 23 | O6: 5551 | P6: 23 | Q6: 220 | R6: 5 | S6: 420 | T6: 5 | U6: 85 | V6: 5 | W6: 110 | X6: 5 | Y6: 360 | Z6: 5 | AA6: 650 | AB6: 5 | AC6: 650 | AD6: 5 | AE6: 550 | AF6: 5
A7: 76 | B7: 23 | C7: 86 | D7: 23 | E7: 89 | F7: 23 | G7: 168 | H7: 23 | I7: 560 | J7: 23 | K7: 1340 | L7: 23 | M7: 3250 | N7: 23 | O7: 6000 | P7: 23 | Q7: 230 | R7: 6 | S7: 440 | T7: 6 | V7: 6 | W7: 115 | X7: 6 | Y7: 380 | Z7: 6 | AA7: 700 | AB7: 6 | AC7: 700 | AD7: 6 | AE7: 600 | AF7: 6
