Workbook
Name _ACC93: 'RELAIS T1'!$L$3
Name AB: 'RELAIS T1'!$J$3
Name ABDO: 'RELAIS T1'!$I$3
Name ACB: 'RELAIS T1'!$K$3
Name ACB_4: POINTS!#REF!
Name ACB_4: POINTS!#REF!
Name ACB_4: POINTS!#REF!
Name ACB_4_10: POINTS!#REF!
Name ACB_4_10: POINTS!#REF!
Name ACB_4_10: POINTS!#REF!
Name ACB_4_12: POINTS!#REF!
Name ACB_4_12: POINTS!#REF!
Name ACB_4_12: POINTS!#REF!
Name ACB_4_14: POINTS!#REF!
Name ACB_4_14: POINTS!#REF!
Name ACB_4_14: POINTS!#REF!
Name ACB_4_16: POINTS!#REF!
Name ACB_4_16: POINTS!#REF!
Name ACB_4_16: POINTS!#REF!
Name ACB_4_2: POINTS!#REF!
Name ACB_4_2: POINTS!#REF!
Name ACB_4_2: POINTS!#REF!
Name ACB_4_22: POINTS!#REF!
Name ACB_4_22: POINTS!#REF!
Name ACB_4_22: POINTS!#REF!
Name ACB_4_3: 'Total Points T1 T2'!#REF!
Name ACB_4_3: 'Total Points T1 T2'!#REF!
Name ACB_4_3: 'Total Points T1 T2'!#REF!
Name ACB_4_5: 'POINTS T2'!#REF!
Name ACB_4_5: 'POINTS T2'!#REF!
Name ACB_4_5: 'POINTS T2'!#REF!
Name ACB_4_8: POINTS!#REF!
Name ACB_4_8: POINTS!#REF!
Name ACB_4_8: POINTS!#REF!
Name ACB_5: #REF!
Name ACB_5: #REF!
Name ACB_5: #REF!
Name ASGB: 'RELAIS T1'!$M$3
Name AUVERS: 'RELAIS T1'!$H$4
Name BF_1_km_marche: 'Table BeF'!$Q:$R
Name BF_1000_m: 'Table BeF'!$M:$N
Name BF_120_m: 'Table BeF'!$G:$H
Name BF_2_km_marche: 'Table BeF'!$S:$T
Name BF_2000_m: 'Table BeF'!$O:$P
Name BF_300_m: 'Table BeF'!$I:$J
Name BF_50_m: 'Table BeF'!$A:$B
Name BF_50_m_H_: 'Table BeF'!$E:$F
Name BF_500_m: 'Table BeF'!$K:$L
Name BF_60_m: 'Table BeF'!$C:$D
Name BF_DISQUE: 'Table BeF'!$AE:$AF
Name BF_HAUTEUR: 'Table BeF'!$Y:$Z
Name BF_JAVELOT: 'Table BeF'!$AG:$AH
Name BF_LONGUEUR: 'Table BeF'!$U:$V
Name BF_MARTEAU: 'Table BeF'!$AI:$AJ
Name BF_PERCHE: 'Table BeF'!$AA:$AB
Name BF_POIDS: 'Table BeF'!$AC:$AD
Name BF_T_S_: 'Table BeF'!$W:$X
Name BM_1_km_marche: 'Table BeM'!$S:$T
Name BM_1000_m: 'Table BeM'!$O:$P
Name BM_120_m: 'Table BeM'!$I:$J

Sheet Jury
A1: MEETING DE BRETIGNY ADULTES DU 01/06/19
A3: OFFICIELS
A5: DIRECTEUR DE REUNION | B5: RONCIN PASCAL - CSB
A6: JUGE ARBITRE | B6: COLOMBI BRUNO - SDUS
A8: STARTER | B8: DUVAL MARIE COLOMBE - COMA
A9: PHOTO FINISH | B9: COLOMBI BRUNO - SDUS
A10: CHRONOMETREUR | B10: GOURDON ALAIN - ESV
A11: ANEMOMETRE | B11: KISUNGO CEDRIC - SDUS
A12: JUGE D'ARRIVEE | B12: BOLLINGER VINCENT - NLSA
A13: JUGE D'ARRIVEE | B13: FERRAILLE CHRISTIAN - ESV
A14: JUGE D'ARRIVEE | B14: SENTUBERY PHILIPPE - CSB
A16: LONGUEUR | B16: PELTAN CHRISTOPHE - CSB
A17: LONGUEUR | B17: PELTAN ESTER - CSB
A18: LONGUEUR | B18: RABET FOURNIER LAETITIA - CSB
... A38: HAUTEUR | B38: DIABY CISSE - ASGB

Sheet Total Points T1 T2
A1: CLASSEMENT GENERAL
B3: ABDO | C3: ACB | D3: ASGB | E3: BMSA | F3: CAR | G3: CMA | H3: ACMA | I3: COMA | J3: CSB | K3: ESV | L3: ESCXV | M3: ESS | N3: NLSA | O3: SDUS | P3: TAC | Q3: MASC | R3: USI | S3: USMA | T3: US MERY
A4: 1er Tour | H4: =(POINTS!H16) -> #REF! | I4: =(POINTS!I16) -> #REF! | M4: =(POINTS!M16) -> #REF! | P4: =(POINTS!P16) -> #REF! | R4: =(POINTS!R16) -> #REF! | S4: =(POINTS!S16) -> #REF! | T4: =(POINTS!T16) -> #REF!
A5: 2ème Tour | C5: =('POINTS T2'!C15) -> #REF! | F5: =('POINTS T2'!F15) -> #REF! | G5: =('POINTS T2'!G15) -> #REF! | H5: =('POINTS T2'!H15) -> #REF! | I5: =('POINTS T2'!I15) -> #REF! | J5: =('POINTS T2'!J15) -> #REF! | L5: =('POINTS T2'!L15) -> #REF! | N5: =('POINTS T2'!N15) -> #REF! | Q5: =('POINTS T2'!Q15) -> #REF! | S5: =('POINTS T2'!S15) -> #REF! | T5: =('POINTS T2'!T15) -> #REF!
A6: Total | B6: =SUM(B4:B5) -> 0 | C6: =SUM(C4:C5) -> #REF! | D6: =SUM(D4:D5) -> 0 | E6: =SUM(E4:E5) -> 0 | F6: =SUM(F4:F5) -> #REF! | G6: =SUM(G4:G5) -> #REF! | H6: =SUM(H4:H5) -> #REF! | I6: =SUM(I4:I5) -> #REF! | ... T6: =SUM(T4:T5) -> #REF!
A7: Place | B7: 1 | C7: 9 | D7: 4 | E7: 2 | F7: 7 | G7: 14 | H7: 13 | I7: 16 | J7: 11 | K7: 5 | L7: 15 | M7: 12 | N7: 6 | O7: 3 | P7: 8 | Q7: 19 | R7: 10 | S7: 17 | T7: 18
A11: NOMBRE DE PARTICIPANTS SUR LES DEUX TOURS
A13: =A3 -> 0 | B13: =B3 -> ABDO | C13: =C3 -> ACB | D13: =D3 -> ASGB | E13: =E3 -> BMSA | F13: CAR | G13: CMA | H13: =H3 -> ACMA | I13: =I3 -> COMA | J13: CSB | K13: =K3 -> ESV | L13: =L3 -> ESCXV | M13: =M3 -> ESS | N13: =N3 -> NLSA | O13: =O3 -> SDUS | P13: =P3 -> TAC | Q13: =Q3 -> MASC | R13: USI | S13: =S3 -> USMA | T13: =T3 -> US MERY | U13: TOTAL
A14: Minimes F | U14: =SUM(B14:T14) -> 0
A15: Minimes M | U15: =SUM(B15:T15) -> 0
A16: Cadettes | U16: =SUM(B16:T16) -> 0
A17: Cadets | U17: =SUM(B17:T17) -> 0
A18: Femmes | U18: =SUM(B18:T18) -> 0
A19: Hommes | U19: =SUM(B19:T19) -> 0
A20: TOTAL | B20: =SUM(B14:B19) -> 0 | C20: =SUM(C14:C19) -> 0 | D20: =SUM(D14:D19) -> 0 | E20: =SUM(E14:E19) -> 0 | F20: =SUM(F14:F19) -> 0 | G20: =SUM(G14:G19) -> 0 | H20: =SUM(H14:H19) -> 0 | I20: =SUM(I14:I19) -> 0 | ... T20: =SUM(T14:T19) -> 0 | U20: =SUM(B20:T20) -> 0

Sheet POINTS
A1: CLASSEMENT 1er TOUR
B3: ABDO | C3: MASC | D3: ASGB | E3: BMSA | F3: VMA | G3: CMA | H3: ACMA | I3: COMA | J3: CSB | K3: ESV | L3: ESCXV | M3: ESS | N3: NLSA | O3: SDUS | P3: TAC | Q3: MASC | R3: USI | S3: USMA | T3: n
A4: Relais | B4: ='RELAIS T1'!I30 -> 0 | C4: ='RELAIS T1'!J30 -> 0 | D4: ='RELAIS T1'!K30 -> 0 | E4: ='RELAIS T1'!L30 -> 0 | F4: ='RELAIS T1'!M30 -> 0 | G4: ='RELAIS T1'!N30 -> 0 | H4: ='RELAIS T1'!O30 -> 0 | I4: ='RELAIS T1'!P30 -> 0 | ... T4: ='RELAIS T1'!AA30 -> 0
A6: Minimes F | B6: =MiF!AY22 -> 0 | C6: =MiF!AZ22 | D6: =MiF!BA22 | E6: =MiF!BB22 | F6: =MiF!BC22 -> 0 | G6: =MiF!BD22 | H6: =MiF!BE22 | I6: =MiF!BF22 | ... T6: =MiF!BQ22 -> 0
A7: Minimes M | B7: =#REF! -> #REF! | C7: =#REF! -> #REF! | D7: =#REF! -> #REF! | E7: =#REF! -> #REF! | F7: =#REF! -> #REF! | G7: =#REF! -> #REF! | H7: =#REF! -> #REF! | I7: =#REF! -> #REF! | ... T7: =#REF! -> #REF!
A8: Cadettes | B8: =#REF! -> #REF! | C8: =#REF! -> #REF! | D8: =#REF! -> #REF! | E8: =#REF! -> #REF! | F8: =#REF! -> #REF! | G8: =#REF! -> #REF! | H8: =#REF! -> #REF! | I8: =#REF! -> #REF! | ... T8: =#REF! -> #REF!
A9: Cadets | B9: =CAM!BO17 -> 0 | C9: =CAM!BP17 -> #REF! | D9: =CAM!BQ17 -> 1 | E9: =CAM!BR17 -> 0 | F9: =CAM!BS17 -> 0 | G9: =CAM!BT17 -> 0 | H9: =CAM!BU17 -> 0 | I9: =CAM!BV17 -> 0 | ... T9: =CAM!CG17 -> 0
A10: S/Total | B10: =SUM(B6:B9) -> #REF! | C10: =SUM(C6:C9) -> #REF! | D10: =SUM(D6:D9) -> #REF! | E10: =SUM(E6:E9) -> #REF! | F10: =SUM(F6:F9) -> #REF! | G10: =SUM(G6:G9) -> #REF! | H10: =SUM(H6:H9) -> #REF! | I10: =SUM(I6:I9) -> #REF! | ... T10: =SUM(T6:T9) -> #REF!
A12: Femmes | B12: =Femmes!#REF! -> #REF! | C12: =Femmes!#REF! -> #REF! | D12: =Femmes!#REF! -> #REF! | E12: =Femmes!#REF! -> #REF! | F12: =Femmes!#REF! -> #REF! | G12: =Femmes!#REF! -> #REF! | H12: =Femmes!#REF! -> #REF! | I12: =Femmes!#REF! -> #REF! | ... T12: =Femmes!#REF! -> #REF!
A13: Hommes | B13: =Hommes!BT35 -> 47 | C13: =Hommes!BU35 -> 0 | D13: =Hommes!BV35 -> 0 | E13: =Hommes!BW35 -> 0 | F13: =Hommes!BX35 -> 0 | G13: =Hommes!BY35 -> 0 | H13: =Hommes!BZ35 -> 0 | I13: =Hommes!CA35 -> 0 | ... T13: =Hommes!CL35 -> 0
A14: S/Total | B14: =SUM(B12:B13) -> #REF! | C14: =SUM(C12:C13) -> #REF! | D14: =SUM(D12:D13) -> #REF! | E14: =SUM(E12:E13) -> #REF! | F14: =SUM(F12:F13) -> #REF! | G14: =SUM(G12:G13) -> #REF! | H14: =SUM(H12:H13) -> #REF! | I14: =SUM(I12:I13) -> #REF! | ... T14: =SUM(T12:T13) -> #REF!
A16: total 1er tour | B16: =SUM(B10,B14,B4) -> #REF! | C16: =SUM(C10,C14,C4) -> #REF! | D16: =SUM(D10,D14,D4) -> #REF! | E16: =SUM(E10,E14,E4) -> #REF! | F16: =SUM(F10,F14,F4) -> #REF! | G16: =SUM(G10,G14,G4) -> #REF! | H16: =SUM(H10,H14,H4) -> #REF! | I16: =SUM(I10,I14,I4) -> #REF! | ... T16: =SUM(T10,T14,T4) -> #REF!
A17: PLACES | B17: 8 | D17: 5 | E17: 2 | F17: 13 | G17: 14 | H17: 9 | I17: 17 | J17: 7 | K17: 3 | L17: 4 | M17: 12 | N17: 11 | O17: 1 | P17: 6 | Q17: 16 | S17: 10 | T17: 15
A20: NOMBRE DE PARTICIPANTS
A22: =A3 -> 0 | B22: =B3 -> ABDO | C22: =C3 -> MASC | D22: =D3 -> ASGB | E22: =E3 -> BMSA | F22: CAR | G22: =G3 -> CMA | H22: ACMA | I22: =I3 -> COMA | J22: CSB | K22: =K3 -> ESV | L22: =L3 -> ESCXV | M22: =M3 -> ESS | N22: =N3 -> NLSA | O22: =O3 -> SDUS | P22: =P3 -> TAC | Q22: =Q3 -> MASC | R22: USI | S22: =S3 -> USMA | T22: =T3 -> n | U22: TOTAL
A23: Minimes F | B23: =MiF!AY24 -> 0 | C23: =MiF!AZ24 -> 0 | D23: =MiF!BA24 -> 2 | E23: =MiF!BB24 -> 0 | F23: =MiF!BC24 -> 0 | G23: =MiF!BD24 -> 0 | H23: =MiF!BE24 -> 0 | I23: =MiF!BF24 -> 2 | ... T23: =MiF!BQ24 -> 0 | U23: =SUM(B23:T23) -> 12
A24: Minimes M | B24: =#REF! -> #REF! | C24: =#REF! -> #REF! | D24: =#REF! -> #REF! | E24: =#REF! -> #REF! | F24: =#REF! -> #REF! | G24: =#REF! -> #REF! | H24: =#REF! -> #REF! | I24: =#REF! -> #REF! | ... T24: =#REF! -> #REF! | U24: =SUM(B24:T24) -> #REF!
A25: Cadettes | B25: =#REF! -> #REF! | C25: =#REF! -> #REF! | D25: =#REF! -> #REF! | E25: =#REF! -> #REF! | F25: =#REF! -> #REF! | G25: =#REF! -> #REF! | H25: =#REF! -> #REF! | I25: =#REF! -> #REF! | ... T25: =#REF! -> #REF! | U25: =SUM(B25:T25) -> #REF!
A26: Cadets | B26: =CAM!BO19 -> 0 | C26: =CAM!BP19 -> 0 | D26: =CAM!BQ19 -> 1 | E26: =CAM!BR19 -> 0 | F26: =CAM!BS19 -> 0 | G26: =CAM!BT19 -> 0 | H26: =CAM!BU19 -> 0 | I26: =CAM!BV19 -> 0 | ... T26: =CAM!CG19 -> 0 | U26: =SUM(B26:T26) -> 11
A27: Femmes | B27: =Femmes!#REF! -> #REF! | C27: =Femmes!#REF! -> #REF! | D27: =Femmes!#REF! -> #REF! | E27: =Femmes!#REF! -> #REF! | F27: =Femmes!#REF! -> #REF! | G27: =Femmes!#REF! -> #REF! | H27: =Femmes!#REF! -> #REF! | I27: =Femmes!#REF! -> #REF! | ... T27: =Femmes!#REF! -> #REF! | U27: =SUM(B27:T27) -> #REF!
A28: Hommes | B28: =Hommes!BT37 -> 4 | C28: =Hommes!BU37 -> 0 | D28: =Hommes!BV37 -> 1 | E28: =Hommes!BW37 -> 0 | F28: =Hommes!BX37 -> 0 | G28: =Hommes!BY37 -> 0 | H28: =Hommes!BZ37 -> 0 | I28: =Hommes!CA37 -> 0 | ... T28: =Hommes!CL37 -> 0 | U28: =SUM(B28:T28) -> 26
A29: TOTAL | B29: =SUM(B23:B28) -> #REF! | C29: =SUM(C23:C28) -> #REF! | D29: =SUM(D23:D28) -> #REF! | E29: =SUM(E23:E28) -> #REF! | F29: =SUM(F23:F28) -> #REF! | G29: =SUM(G23:G28) -> #REF! | H29: =SUM(H23:H28) -> #REF! | I29: =SUM(I23:I28) -> #REF! | ... T29: =SUM(T23:T28) -> #REF! | U29: =SUM(B29:T29) -> #REF!
A38: CLASSEMENT 2ème TOUR
B41: =B3 -> ABDO | C41: =C3 -> MASC | D41: =D3 -> ASGB | E41: =E3 -> BMSA | F41: =F3 -> VMA | G41: =G3 -> CMA | H41: =H3 -> ACMA | I41: =I3 -> COMA | ... T41: =T3 -> n
A42: Relais | B42: =#REF! -> #REF! | C42: =#REF! -> #REF! | D42: =#REF! -> #REF! | E42: =#REF! -> #REF! | F42: =#REF! -> #REF! | G42: =#REF! -> #REF! | H42: =#REF! -> #REF! | I42: =#REF! -> #REF! | ... T42: =#REF! -> #REF!
A44: Minimes F | B44: =#REF! -> #REF! | C44: =#REF! -> #REF! | D44: =#REF! -> #REF! | E44: =#REF! -> #REF! | F44: =#REF! -> #REF! | G44: =#REF! -> #REF! | H44: =#REF! -> #REF! | I44: =#REF! -> #REF! | ... T44: =#REF! -> #REF!
A45: Minimes M | B45: =#REF! -> #REF! | C45: =#REF! -> #REF! | D45: =#REF! -> #REF! | E45: =#REF! -> #REF! | F45: =#REF! -> #REF! | G45: =#REF! -> #REF! | H45: =#REF! -> #REF! | I45: =#REF! -> #REF! | ... T45: =#REF! -> #REF!
A46: Cadettes | B46: =#REF! -> #REF! | C46: =#REF! -> #REF! | D46: =#REF! -> #REF! | E46: =#REF! -> #REF! | F46: =#REF! -> #REF! | G46: =#REF! -> #REF! | H46: =#REF! -> #REF! | I46: =#REF! -> #REF! | ... T46: =#REF! -> #REF!
A47: Cadets | B47: =#REF! -> #REF! | C47: =#REF! -> #REF! | D47: =#REF! -> #REF! | E47: =#REF! -> #REF! | F47: =#REF! -> #REF! | G47: =#REF! -> #REF! | H47: =#REF! -> #REF! | I47: =#REF! -> #REF! | ... T47: =#REF! -> #REF!
A48: S/Total | B48: =SUM(B44:B47) -> #REF! | C48: =SUM(C44:C47) -> #REF! | D48: =SUM(D44:D47) -> #REF! | E48: =SUM(E44:E47) -> #REF! | F48: =SUM(F44:F47) -> #REF! | G48: =SUM(G44:G47) -> #REF! | H48: =SUM(H44:H47) -> #REF! | I48: =SUM(I44:I47) -> #REF! | ... T48: =SUM(T44:T47) -> #REF!
A50: Femmes | B50: =#REF! -> #REF! | C50: =#REF! -> #REF! | D50: =#REF! -> #REF! | E50: =#REF! -> #REF! | F50: =#REF! -> #REF! | G50: =#REF! -> #REF! | H50: =#REF! -> #REF! | I50: =#REF! -> #REF! | ... T50: =#REF! -> #REF!
A51: Hommes | B51: =#REF! -> #REF! | C51: =#REF! -> #REF! | D51: =#REF! -> #REF! | E51: =#REF! -> #REF! | F51: =#REF! -> #REF! | G51: =#REF! -> #REF! | H51: =#REF! -> #REF! | I51: =#REF! -> #REF! | ... T51: =#REF! -> #REF!
A52: S/Total | B52: =SUM(B50:B51) -> #REF! | C52: =SUM(C50:C51) -> #REF! | D52: =SUM(D50:D51) -> #REF! | E52: =SUM(E50:E51) -> #REF! | F52: =SUM(F50:F51) -> #REF! | G52: =SUM(G50:G51) -> #REF! | H52: =SUM(H50:H51) -> #REF! | I52: =SUM(I50:I51) -> #REF! | ... T52: =SUM(T50:T51) -> #REF!
A54: total 1er tour | B54: =SUM(B48,B52,B42) -> #REF! | C54: =SUM(C48,C52,C42) -> #REF! | D54: =SUM(D48,D52,D42) -> #REF! | E54: =SUM(E48,E52,E42) -> #REF! | F54: =SUM(F48,F52,F42) -> #REF! | G54: =SUM(G48,G52,G42) -> #REF! | H54: =SUM(H48,H52,H42) -> #REF! | I54: =SUM(I48,I52,I42) -> #REF! | ... T54: =SUM(T48,T52,T42) -> #REF!
A55: PLACES
A57: NOMBRE DE PARTICIPANTS
A58: =A41 -> 0 | B58: =B3 -> ABDO | C58: =C3 -> MASC | D58: =D3 -> ASGB | E58: =E3 -> BMSA | F58: =F3 -> VMA | G58: =G3 -> CMA | H58: =H3 -> ACMA | I58: =I3 -> COMA | ... T58: =T3 -> n | U58: TOTAL
A59: Minimes F | B59: =#REF! -> #REF! | C59: =#REF! -> #REF! | D59: =#REF! -> #REF! | E59: =#REF! -> #REF! | F59: =#REF! -> #REF! | G59: =#REF! -> #REF! | H59: =#REF! -> #REF! | I59: =#REF! -> #REF! | ... T59: =#REF! -> #REF! | U59: =SUM(B59:T59) -> #REF!
A60: Minimes M | B60: =#REF! -> #REF! | C60: =#REF! -> #REF! | D60: =#REF! -> #REF! | E60: =#REF! -> #REF! | F60: =#REF! -> #REF! | G60: =#REF! -> #REF! | H60: =#REF! -> #REF! | I60: =#REF! -> #REF! | ... T60: =#REF! -> #REF! | U60: =SUM(B60:T60) -> #REF!
A61: Cadettes | B61: =#REF! -> #REF! | C61: =#REF! -> #REF! | D61: =#REF! -> #REF! | E61: =#REF! -> #REF! | F61: =#REF! -> #REF! | G61: =#REF! -> #REF! | H61: =#REF! -> #REF! | I61: =#REF! -> #REF! | ... T61: =#REF! -> #REF! | U61: =SUM(B61:T61) -> #REF!
...

Sheet POINTS T2
A1: CLASSEMENT 2ème TOUR
B3: ABDO | C3: ACB | D3: ASGB | E3: BMSA | F3: CAR | G3: CMA | H3: ACMA | I3: COMA | J3: CSB | K3: ESV | L3: ESCXV | M3: ESS | N3: NLSA | O3: SDUS | P3: TAC | Q3: MASC | R3: USI | S3: USMA | T3: US MERY
A4: Relais
A5: Minimes F | B5: =#REF! -> #REF! | C5: =#REF! -> #REF! | D5: =#REF! -> #REF! | E5: =#REF! -> #REF! | F5: =#REF! -> #REF! | G5: =#REF! -> #REF! | H5: =#REF! -> #REF! | I5: =#REF! -> #REF! | ... T5: =#REF! -> #REF!
A6: Minimes M | B6: =#REF! -> #REF! | C6: =#REF! -> #REF! | D6: =#REF! -> #REF! | E6: =#REF! -> #REF! | F6: =#REF! -> #REF! | G6: =#REF! -> #REF! | H6: =#REF! -> #REF! | I6: =#REF! -> #REF! | ... T6: =#REF! -> #REF!
A7: Cadettes | B7: =#REF! -> #REF! | C7: =#REF! -> #REF! | D7: =#REF! -> #REF! | E7: =#REF! -> #REF! | F7: =#REF! -> #REF! | G7: =#REF! -> #REF! | H7: =#REF! -> #REF! | I7: =#REF! -> #REF! | ... T7: =#REF! -> #REF!
A8: Cadets | B8: =#REF! -> #REF! | C8: =#REF! -> #REF! | D8: =#REF! -> #REF! | E8: =#REF! -> #REF! | F8: =#REF! -> #REF! | G8: =#REF! -> #REF! | H8: =#REF! -> #REF! | I8: =#REF! -> #REF! | ... T8: =#REF! -> #REF!
A9: S/Total | B9: =SUM(B4:B8) -> #REF! | C9: =SUM(C4:C8) -> #REF! | D9: =SUM(D4:D8) -> #REF! | E9: =SUM(E4:E8) -> #REF! | F9: =SUM(F4:F8) -> #REF! | G9: =SUM(G4:G8) -> #REF! | H9: =SUM(H4:H8) -> #REF! | I9: =SUM(I4:I8) -> #REF! | ... T9: =SUM(T4:T8) -> #REF!
A11: Femmes | B11: =#REF! -> #REF! | C11: =#REF! -> #REF! | D11: =#REF! -> #REF! | E11: =#REF! -> #REF! | F11: =#REF! -> #REF! | G11: =#REF! -> #REF! | H11: =#REF! -> #REF! | I11: =#REF! -> #REF! | ... T11: =#REF! -> #REF!
A12: Hommes
A13: S/Total | B13: =SUM(B11:B12) -> #REF! | C13: =SUM(C11:C12) -> #REF! | D13: =SUM(D11:D12) -> #REF! | E13: =SUM(E11:E12) -> #REF! | F13: =SUM(F11:F12) -> #REF! | G13: =SUM(G11:G12) -> #REF! | H13: =SUM(H11:H12) -> #REF! | I13: =SUM(I11:I12) -> #REF! | ... T13: =SUM(T11:T12) -> #REF!
A15: total 2ème tour | B15: =SUM(B13,B9) -> #REF! | C15: =SUM(C13,C9) -> #REF! | D15: =SUM(D13,D9) -> #REF! | E15: =SUM(E13,E9) -> #REF! | F15: =SUM(F13,F9) -> #REF! | G15: =SUM(G13,G9) -> #REF! | H15: =SUM(H13,H9) -> #REF! | I15: =SUM(I13,I9) -> #REF! | ... T15: =SUM(T13,T9) -> #REF!
A16: PLACES
A20: NOMBRE DE PARTICIPANTS
A22: =A3 -> 0 | B22: =B3 -> ABDO | C22: =C3 -> ACB | D22: =D3 -> ASGB | E22: =E3 -> BMSA | F22: CAR | G22: =G3 -> CMA | H22: ACMA | I22: =I3 -> COMA | J22: CSB | K22: =K3 -> ESV | L22: =L3 -> ESCXV | M22: =M3 -> ESS | N22: =N3 -> NLSA | O22: =O3 -> SDUS | P22: =P3 -> TAC | Q22: =Q3 -> MASC | R22: USI | S22: =S3 -> USMA | T22: =T3 -> US MERY | U22: TOTAL
A23: Minimes F | U23: =SUM(B23:T23) -> 0
A24: Minimes M | U24: =SUM(B24:T24) -> 0
A25: Cadettes | U25: =SUM(B25:T25) -> 0
A26: Cadets | U26: =SUM(B26:T26) -> 0
A27: Femmes | U27: =SUM(B27:T27) -> 0
A28: Hommes | U28: =SUM(B28:T28) -> 0
A29: TOTAL | B29: =SUM(B23:B28) -> 0 | C29: =SUM(C23:C28) -> 0 | D29: =SUM(D23:D28) -> 0 | E29: =SUM(E23:E28) -> 0 | F29: =SUM(F23:F28) -> 0 | G29: =SUM(G23:G28) -> 0 | H29: =SUM(H23:H28) -> 0 | I29: =SUM(I23:I28) -> 0 | ... T29: =SUM(T23:T28) -> 0 | U29: =SUM(B29:T29) -> 0

Sheet RELAIS T1
A1: RELAIS
A2: 43428
A3: CAT | B3: RELAIS | C3: VILLE | D3: CLUB | E3: PERF | F3: PLACE | G3: PTS | I3: =POINTS!B3 -> ABDO | J3: =POINTS!C3 -> MASC | K3: =POINTS!D3 -> ASGB | L3: =POINTS!E3 -> BMSA | M3: MS | N3: =POINTS!G3 -> CMA | O3: =POINTS!H3 -> ACMA | P3: =POINTS!I3 -> COMA | Q3: =POINTS!J3 -> CSB | R3: =POINTS!K3 -> ESV | S3: =POINTS!L3 -> ESCXV | T3: =POINTS!M3 -> ESS | U3: =POINTS!N3 -> NLSA | ... Z3: =POINTS!S3 -> USMA | AA3: MS
A4: MINIME | B4: 4X1 TOUR | C4: TREMBLAY | D4: TAC | E4: 1334 | F4: 1 | I4: =IF($D4<>($I$3),"",$G4) | J4: =IF($D4<>($J$3),"",$G4) | K4: =IF($D4<>($K$3),"",$G4) | L4: =IF($D4<>($L$3),"",$G4) | M4: =IF($D4<>($M$3),"",$G4) | N4: =IF($D4<>($N$3),"",$G4) | O4: =IF($D4<>($O$3),"",$G4) | P4: =IF($D4<>($P$3),"",$G4) | Q4: =IF($D4<>($Q$3),"",$G4) | R4: =IF($D4<>($R$3),"",$G4) | S4: =IF($D4<>($S$3),"",$G4) | T4: =IF($D4<>($T$3),"",$G4) | U4: =IF($D4<>($U$3),"",$G4) | V4: =IF($D4<>($V$3),"",$G4) | W4: =IF($D4<>($W$3),"",$G4) -> 0 | X4: =IF($D4<>($X$3),"",$G4) | Y4: =IF($D4<>($Y$3),"",$G4) | Z4: =IF($D4<>($Z$3),"",$G4) | AA4: =IF($D4<>($AA$3),"",$G4) | AB4: =IF($C4<>($AA$4),"",$F4)
A5: MINIME | B5: 4X1 TOUR | C5: BAGNOLET | D5: ACB | E5: 1343 | F5: 2 | I5: =IF($D5<>($I$3),"",$G5) | J5: =IF($D5<>($J$3),"",$G5) | K5: =IF($D5<>($K$3),"",$G5) | L5: =IF($D5<>($L$3),"",$G5) | M5: =IF($D5<>($M$3),"",$G5) | N5: =IF($D5<>($N$3),"",$G5) | O5: =IF($D5<>($O$3),"",$G5) | P5: =IF($D5<>($P$3),"",$G5) | Q5: =IF($D5<>($Q$3),"",$G5) | R5: =IF($D5<>($R$3),"",$G5) | S5: =IF($D5<>($S$3),"",$G5) | T5: =IF($D5<>($T$3),"",$G5) | U5: =IF($D5<>($U$3),"",$G5) | V5: =IF($D5<>($V$3),"",$G5) | W5: =IF($D5<>($W$3),"",$G5) | X5: =IF($D5<>($X$3),"",$G5) | Y5: =IF($D5<>($Y$3),"",$G5) | Z5: =IF($D5<>($Z$3),"",$G5) | AA5: =IF($D5<>($AA$3),"",$G5)
A6: MINIME | B6: 4X1 TOUR | C6: ST DENIS | D6: SDUS | E6: 1382 | F6: 3 | I6: =IF($D6<>($I$3),"",$G6) | J6: =IF($D6<>($J$3),"",$G6) | K6: =IF($D6<>($K$3),"",$G6) | L6: =IF($D6<>($L$3),"",$G6) | M6: =IF($D6<>($M$3),"",$G6) | N6: =IF($D6<>($N$3),"",$G6) | O6: =IF($D6<>($O$3),"",$G6) | P6: =IF($D6<>($P$3),"",$G6) | Q6: =IF($D6<>($Q$3),"",$G6) | R6: =IF($D6<>($R$3),"",$G6) | S6: =IF($D6<>($S$3),"",$G6) | T6: =IF($D6<>($T$3),"",$G6) | U6: =IF($D6<>($U$3),"",$G6) | V6: =IF($D6<>($V$3),"",$G6) -> 0 | W6: =IF($D6<>($W$3),"",$G6) | X6: =IF($D6<>($X$3),"",$G6) | Y6: =IF($D6<>($Y$3),"",$G6) | Z6: =IF($D6<>($Z$3),"",$G6) | AA6: =IF($D6<>($AA$3),"",$G6)
A7: MINIME | B7: 4X1 TOUR | C7: BLANC MESNIL | D7: BMSA | E7: 1424 | F7: 4 | I7: =IF($D7<>($I$3),"",$G7) | J7: =IF($D7<>($J$3),"",$G7) | K7: =IF($D7<>($K$3),"",$G7) | L7: =IF($D7<>($L$3),"",$G7) -> 0 | M7: =IF($D7<>($M$3),"",$G7) | N7: =IF($D7<>($N$3),"",$G7) | O7: =IF($D7<>($O$3),"",$G7) | P7: =IF($D7<>($P$3),"",$G7) | Q7: =IF($D7<>($Q$3),"",$G7) | R7: =IF($D7<>($R$3),"",$G7) | S7: =IF($D7<>($S$3),"",$G7) | T7: =IF($D7<>($T$3),"",$G7) | U7: =IF($D7<>($U$3),"",$G7) | V7: =IF($D7<>($V$3),"",$G7) | W7: =IF($D7<>($W$3),"",$G7) | X7: =IF($D7<>($X$3),"",$G7) | Y7: =IF($D7<>($Y$3),"",$G7) | Z7: =IF($D7<>($Z$3),"",$G7) | AA7: =IF($D7<>($AA$3),"",$G7)
A8: MINIME | B8: 4X1 TOUR | C8: NOISY LE SEC | D8: NLSA | E8: 1369 | F8: 1 | I8: =IF($D8<>($I$3),"",$G8) | J8: =IF($D8<>($J$3),"",$G8) | K8: =IF($D8<>($K$3),"",$G8) | L8: =IF($D8<>($L$3),"",$G8) | M8: =IF($D8<>($M$3),"",$G8) | N8: =IF($D8<>($N$3),"",$G8) | O8: =IF($D8<>($O$3),"",$G8) | P8: =IF($D8<>($P$3),"",$G8) | Q8: =IF($D8<>($Q$3),"",$G8) | R8: =IF($D8<>($R$3),"",$G8) | S8: =IF($D8<>($S$3),"",$G8) | T8: =IF($D8<>($T$3),"",$G8) | U8: =IF($D8<>($U$3),"",$G8) -> 0 | V8: =IF($D8<>($V$3),"",$G8) | W8: =IF($D8<>($W$3),"",$G8) | X8: =IF($D8<>($X$3),"",$G8) | Y8: =IF($D8<>($Y$3),"",$G8) | Z8: =IF($D8<>($Z$3),"",$G8) | AA8: =IF($D8<>($AA$3),"",$G8)
A9: MINIME | B9: 4X1 TOUR | C9: BLANC MESNIL | D9: BMSA | E9: 1392 | F9: 2 | I9: =IF($D9<>($I$3),"",$G9) | J9: =IF($D9<>($J$3),"",$G9) | K9: =IF($D9<>($K$3),"",$G9) | L9: =IF($D9<>($L$3),"",$G9) -> 0 | M9: =IF($D9<>($M$3),"",$G9) | N9: =IF($D9<>($N$3),"",$G9) | O9: =IF($D9<>($O$3),"",$G9) | P9: =IF($D9<>($P$3),"",$G9) | Q9: =IF($D9<>($Q$3),"",$G9) | R9: =IF($D9<>($R$3),"",$G9) | S9: =IF($D9<>($S$3),"",$G9) | T9: =IF($D9<>($T$3),"",$G9) | U9: =IF($D9<>($U$3),"",$G9) | V9: =IF($D9<>($V$3),"",$G9) | W9: =IF($D9<>($W$3),"",$G9) | X9: =IF($D9<>($X$3),"",$G9) | Y9: =IF($D9<>($Y$3),"",$G9) | Z9: =IF($D9<>($Z$3),"",$G9) | AA9: =IF($D9<>($AA$3),"",$G9)
A10: MINIME | B10: 4X1 TOUR | C10: BAGNOLET | D10: ASGB | E10: 1432 | F10: 3 | I10: =IF($D10<>($I$3),"",$G10) | J10: =IF($D10<>($J$3),"",$G10) | K10: =IF($D10<>($K$3),"",$G10) -> 0 | L10: =IF($D10<>($L$3),"",$G10) | M10: =IF($D10<>($M$3),"",$G10) | N10: =IF($D10<>($N$3),"",$G10) | O10: =IF($D10<>($O$3),"",$G10) | P10: =IF($D10<>($P$3),"",$G10) | Q10: =IF($D10<>($Q$3),"",$G10) | R10: =IF($D10<>($R$3),"",$G10) | S10: =IF($D10<>($S$3),"",$G10) | T10: =IF($D10<>($T$3),"",$G10) | U10: =IF($D10<>($U$3),"",$G10) | V10: =IF($D10<>($V$3),"",$G10) | W10: =IF($D10<>($W$3),"",$G10) | X10: =IF($D10<>($X$3),"",$G10) | Y10: =IF($D10<>($Y$3),"",$G10) | Z10: =IF($D10<>($Z$3),"",$G10) | AA10: =IF($D10<>($AA$3),"",$G10)
C11: NOISY LE SEC | D11: NLSA | E11: 1417 | F11: 1 | I11: =IF($D11<>($I$3),"",$G11) | K11: =IF($D11<>($K$3),"",$G11) | L11: =IF($D11<>($L$3),"",$G11) | N11: =IF($D11<>($N$3),"",$G11) | O11: =IF($D11<>($O$3),"",$G11) | P11: =IF($D11<>($P$3),"",$G11) | Q11: =IF($D11<>($Q$3),"",$G11) | R11: =IF($D11<>($R$3),"",$G11) | S11: =IF($D11<>($S$3),"",$G11) | U11: =IF($D11<>($U$3),"",$G11) -> 0 | V11: =IF($D11<>($V$3),"",$G11) | W11: =IF($D11<>($W$3),"",$G11) | X11: =IF($D11<>($X$3),"",$G11) | Z11: =IF($D11<>($Z$3),"",$G11) | AA11: =IF($D11<>($AA$3),"",$G11)
C12: BRETIGNY | D12: CSB | E12: 1427 | F12: 2 | I12: =IF($D12<>($I$3),"",$G12) | K12: =IF($D12<>($K$3),"",$G12) | L12: =IF($D12<>($L$3),"",$G12) | N12: =IF($D12<>($N$3),"",$G12) | O12: =IF($D12<>($O$3),"",$G12) | P12: =IF($D12<>($P$3),"",$G12) | Q12: =IF($D12<>($Q$3),"",$G12) -> 0 | R12: =IF($D12<>($R$3),"",$G12) | S12: =IF($D12<>($S$3),"",$G12) | U12: =IF($D12<>($U$3),"",$G12) | V12: =IF($D12<>($V$3),"",$G12) | W12: =IF($D12<>($W$3),"",$G12) | X12: =IF($D12<>($X$3),"",$G12) | Z12: =IF($D12<>($Z$3),"",$G12) | AA12: =IF($D12<>($AA$3),"",$G12)
C13: BOBIGNY | D13: ACB | E13: 1591 | F13: 3 | I13: =IF($D13<>($I$3),"",$G13) | K13: =IF($D13<>($K$3),"",$G13) | L13: =IF($D13<>($L$3),"",$G13) | N13: =IF($D13<>($N$3),"",$G13) | O13: =IF($D13<>($O$3),"",$G13) | P13: =IF($D13<>($P$3),"",$G13) | Q13: =IF($D13<>($Q$3),"",$G13) | R13: =IF($D13<>($R$3),"",$G13) | S13: =IF($D13<>($S$3),"",$G13) | U13: =IF($D13<>($U$3),"",$G13) | V13: =IF($D13<>($V$3),"",$G13) | W13: =IF($D13<>($W$3),"",$G13) | X13: =IF($D13<>($X$3),"",$G13) | Z13: =IF($D13<>($Z$3),"",$G13) | AA13: =IF($D13<>($AA$3),"",$G13)
A14: MINIME | B14: 4X1 TOUR | I14: =IF($D14<>($I$3),"",$G14) | J14: =IF($D14<>($J$3),"",$G14) | K14: =IF($D14<>($K$3),"",$G14) | L14: =IF($D14<>($L$3),"",$G14) | M14: =IF($D14<>($M$3),"",$G14) | N14: =IF($D14<>($N$3),"",$G14) | O14: =IF($D14<>($O$3),"",$G14) | P14: =IF($D14<>($P$3),"",$G14) | Q14: =IF($D14<>($Q$3),"",$G14) | R14: =IF($D14<>($R$3),"",$G14) | S14: =IF($D14<>($S$3),"",$G14) | T14: =IF($D14<>($T$3),"",$G14) | U14: =IF($D14<>($U$3),"",$G14) | V14: =IF($D14<>($V$3),"",$G14) | W14: =IF($D14<>($W$3),"",$G14) | X14: =IF($D14<>($X$3),"",$G14) | Y14: =IF($D14<>($Y$3),"",$G14) | Z14: =IF($D14<>($Z$3),"",$G14) | AA14: =IF($D14<>($AA$3),"",$G14)
I15: =IF($D15<>($I$3),"",$G15) | J15: =IF($D15<>($J$3),"",$G15) | K15: =IF($D15<>($K$3),"",$G15) | L15: =IF($D15<>($L$3),"",$G15) | M15: =IF($D15<>($M$3),"",$G15) | N15: =IF($D15<>($N$3),"",$G15) | O15: =IF($D15<>($O$3),"",$G15) | P15: =IF($D15<>($P$3),"",$G15) | Q15: =IF($D15<>($Q$3),"",$G15) | R15: =IF($D15<>($R$3),"",$G15) | S15: =IF($D15<>($S$3),"",$G15) | T15: =IF($D15<>($T$3),"",$G15) | U15: =IF($D15<>($U$3),"",$G15) | V15: =IF($D15<>($V$3),"",$G15) | W15: =IF($D15<>($W$3),"",$G15) | X15: =IF($D15<>($X$3),"",$G15) | Y15: =IF($D15<>($Y$3),"",$G15) | Z15: =IF($D15<>($Z$3),"",$G15) | AA15: =IF($D15<>($AA$3),"",$G15)
A16: SENIOR | B16: 6X1 TOUR | C16: SAINT OUEN | D16: USMA | E16: 2182 | F16: 1 | I16: =IF($D16<>($I$3),"",$G16) | J16: =IF($D16<>($J$3),"",$G16) | K16: =IF($D16<>($K$3),"",$G16) | L16: =IF($D16<>($L$3),"",$G16) | M16: =IF($D16<>($M$3),"",$G16) | N16: =IF($D16<>($N$3),"",$G16) | O16: =IF($D16<>($O$3),"",$G16) | P16: =IF($D16<>($P$3),"",$G16) | Q16: =IF($D16<>($Q$3),"",$G16) | R16: =IF($D16<>($R$3),"",$G16) | S16: =IF($D16<>($S$3),"",$G16) | T16: =IF($D16<>($T$3),"",$G16) | U16: =IF($D16<>($U$3),"",$G16) | V16: =IF($D16<>($V$3),"",$G16) | W16: =IF($D16<>($W$3),"",$G16) | X16: =IF($D16<>($X$3),"",$G16) | Y16: =IF($D16<>($Y$3),"",$G16) | Z16: =IF($D16<>($Z$3),"",$G16) -> 0 | AA16: =IF($D16<>($AA$3),"",$G16)
A17: SENIOR | B17: 6X1 TOUR | C17: NOISY LE SEC | D17: NLSA | E17: 2222 | F17: 2 | I17: =IF($D17<>($I$3),"",$G17) | J17: =IF($D17<>($J$3),"",$G17) | K17: =IF($D17<>($K$3),"",$G17) | L17: =IF($D17<>($L$3),"",$G17) | M17: =IF($D17<>($M$3),"",$G17) | N17: =IF($D17<>($N$3),"",$G17) | O17: =IF($D17<>($O$3),"",$G17) | P17: =IF($D17<>($P$3),"",$G17) | Q17: =IF($D17<>($Q$3),"",$G17) | R17: =IF($D17<>($R$3),"",$G17) | S17: =IF($D17<>($S$3),"",$G17) | T17: =IF($D17<>($T$3),"",$G17) | U17: =IF($D17<>($U$3),"",$G17) -> 0 | V17: =IF($D17<>($V$3),"",$G17) | W17: =IF($D17<>($W$3),"",$G17) | X17: =IF($D17<>($X$3),"",$G17) | Y17: =IF($D17<>($Y$3),"",$G17) | Z17: =IF($D17<>($Z$3),"",$G17) | AA17: =IF($D17<>($AA$3),"",$G17)
A18: SENIOR | B18: 6X1 TOUR | C18: BLANC MESNIL | D18: BMSA | E18: 2226 | F18: 3 | I18: =IF($D18<>($I$3),"",$G18) | J18: =IF($D18<>($J$3),"",$G18) | K18: =IF($D18<>($K$3),"",$G18) | L18: =IF($D18<>($L$3),"",$G18) -> 0 | M18: =IF($D18<>($M$3),"",$G18) | N18: =IF($D18<>($N$3),"",$G18) | O18: =IF($D18<>($O$3),"",$G18) | P18: =IF($D18<>($P$3),"",$G18) | Q18: =IF($D18<>($Q$3),"",$G18) | R18: =IF($D18<>($R$3),"",$G18) | S18: =IF($D18<>($S$3),"",$G18) | T18: =IF($D18<>($T$3),"",$G18) | U18: =IF($D18<>($U$3),"",$G18) | V18: =IF($D18<>($V$3),"",$G18) | W18: =IF($D18<>($W$3),"",$G18) | X18: =IF($D18<>($X$3),"",$G18) | Y18: =IF($D18<>($Y$3),"",$G18) | Z18: =IF($D18<>($Z$3),"",$G18) | AA18: =IF($D18<>($AA$3),"",$G18)
A19: SENIOR | B19: 6X1 TOUR | I19: =IF($D19<>($I$3),"",$G19) | J19: =IF($D19<>($J$3),"",$G19) | K19: =IF($D19<>($K$3),"",$G19) | L19: =IF($D19<>($L$3),"",$G19) | M19: =IF($D19<>($M$3),"",$G19) | N19: =IF($D19<>($N$3),"",$G19) | O19: =IF($D19<>($O$3),"",$G19) | P19: =IF($D19<>($P$3),"",$G19) | Q19: =IF($D19<>($Q$3),"",$G19) | R19: =IF($D19<>($R$3),"",$G19) | S19: =IF($D19<>($S$3),"",$G19) | T19: =IF($D19<>($T$3),"",$G19) | U19: =IF($D19<>($U$3),"",$G19) | V19: =IF($D19<>($V$3),"",$G19) | W19: =IF($D19<>($W$3),"",$G19) | X19: =IF($D19<>($X$3),"",$G19) | Y19: =IF($D19<>($Y$3),"",$G19) | Z19: =IF($D19<>($Z$3),"",$G19) | AA19: =IF($D19<>($AA$3),"",$G19)
A20: SENIOR | B20: 6X1 TOUR | I20: =IF($D20<>($I$3),"",$G20) | J20: =IF($D20<>($J$3),"",$G20) | K20: =IF($D20<>($K$3),"",$G20) | L20: =IF($D20<>($L$3),"",$G20) | M20: =IF($D20<>($M$3),"",$G20) | N20: =IF($D20<>($N$3),"",$G20) | O20: =IF($D20<>($O$3),"",$G20) | P20: =IF($D20<>($P$3),"",$G20) | Q20: =IF($D20<>($Q$3),"",$G20) | R20: =IF($D20<>($R$3),"",$G20) | S20: =IF($D20<>($S$3),"",$G20) | T20: =IF($D20<>($T$3),"",$G20) | U20: =IF($D20<>($U$3),"",$G20) | V20: =IF($D20<>($V$3),"",$G20) | W20: =IF($D20<>($W$3),"",$G20) | X20: =IF($D20<>($X$3),"",$G20) | Y20: =IF($D20<>($Y$3),"",$G20) | Z20: =IF($D20<>($Z$3),"",$G20) | AA20: =IF($D20<>($AA$3),"",$G20)
A21: SENIOR | B21: 6X1 TOUR | I21: =IF($D21<>($I$3),"",$G21) | J21: =IF($D21<>($J$3),"",$G21) | K21: =IF($D21<>($K$3),"",$G21) | L21: =IF($D21<>($L$3),"",$G21) | M21: =IF($D21<>($M$3),"",$G21) | N21: =IF($D21<>($N$3),"",$G21) | O21: =IF($D21<>($O$3),"",$G21) | P21: =IF($D21<>($P$3),"",$G21) | Q21: =IF($D21<>($Q$3),"",$G21) | R21: =IF($D21<>($R$3),"",$G21) | S21: =IF($D21<>($S$3),"",$G21) | T21: =IF($D21<>($T$3),"",$G21) | U21: =IF($D21<>($U$3),"",$G21) | V21: =IF($D21<>($V$3),"",$G21) | W21: =IF($D21<>($W$3),"",$G21) | X21: =IF($D21<>($X$3),"",$G21) | Y21: =IF($D21<>($Y$3),"",$G21) | Z21: =IF($D21<>($Z$3),"",$G21) | AA21: =IF($D21<>($AA$3),"",$G21)
I22: =IF($D22<>($I$3),"",$G22) | K22: =IF($D22<>($K$3),"",$G22) | L22: =IF($D22<>($L$3),"",$G22) | N22: =IF($D22<>($N$3),"",$G22) | O22: =IF($D22<>($O$3),"",$G22) | P22: =IF($D22<>($P$3),"",$G22) | Q22: =IF($D22<>($Q$3),"",$G22) | R22: =IF($D22<>($R$3),"",$G22) | S22: =IF($D22<>($S$3),"",$G22) | U22: =IF($D22<>($U$3),"",$G22) | V22: =IF($D22<>($V$3),"",$G22) | W22: =IF($D22<>($W$3),"",$G22) | X22: =IF($D22<>($X$3),"",$G22) | Z22: =IF($D22<>($Z$3),"",$G22) | AA22: =IF($D22<>($AA$3),"",$G22)
I23: =IF($D23<>($I$3),"",$G23) | K23: =IF($D23<>($K$3),"",$G23) | L23: =IF($D23<>($L$3),"",$G23) | N23: =IF($D23<>($N$3),"",$G23) | O23: =IF($D23<>($O$3),"",$G23) | P23: =IF($D23<>($P$3),"",$G23) | Q23: =IF($D23<>($Q$3),"",$G23) | R23: =IF($D23<>($R$3),"",$G23) | S23: =IF($D23<>($S$3),"",$G23) | U23: =IF($D23<>($U$3),"",$G23) | V23: =IF($D23<>($V$3),"",$G23) | W23: =IF($D23<>($W$3),"",$G23) | X23: =IF($D23<>($X$3),"",$G23) | Z23: =IF($D23<>($Z$3),"",$G23) | AA23: =IF($D23<>($AA$3),"",$G23)
I24: =IF($D24<>($I$3),"",$G24) | K24: =IF($D24<>($K$3),"",$G24) | L24: =IF($D24<>($L$3),"",$G24) | N24: =IF($D24<>($N$3),"",$G24) | O24: =IF($D24<>($O$3),"",$G24) | P24: =IF($D24<>($P$3),"",$G24) | Q24: =IF($D24<>($Q$3),"",$G24) | R24: =IF($D24<>($R$3),"",$G24) | S24: =IF($D24<>($S$3),"",$G24) | U24: =IF($D24<>($U$3),"",$G24) | V24: =IF($D24<>($V$3),"",$G24) | W24: =IF($D24<>($W$3),"",$G24) | X24: =IF($D24<>($X$3),"",$G24) | Z24: =IF($D24<>($Z$3),"",$G24) | AA24: =IF($D24<>($AA$3),"",$G24)
A25: SENIOR | B25: 6X1 TOUR | I25: =IF($D25<>($I$3),"",$G25) | J25: =IF($D25<>($J$3),"",$G25) | K25: =IF($D25<>($K$3),"",$G25) | L25: =IF($D25<>($L$3),"",$G25) | M25: =IF($D25<>($M$3),"",$G25) | N25: =IF($D25<>($N$3),"",$G25) | O25: =IF($D25<>($O$3),"",$G25) | P25: =IF($D25<>($P$3),"",$G25) | Q25: =IF($D25<>($Q$3),"",$G25) | R25: =IF($D25<>($R$3),"",$G25) | S25: =IF($D25<>($S$3),"",$G25) | T25: =IF($D25<>($T$3),"",$G25) | U25: =IF($D25<>($U$3),"",$G25) | V25: =IF($D25<>($V$3),"",$G25) | W25: =IF($D25<>($W$3),"",$G25) | X25: =IF($D25<>($X$3),"",$G25) | Y25: =IF($D25<>($Y$3),"",$G25) | Z25: =IF($D25<>($Z$3),"",$G25) | AA25: =IF($D25<>($AA$3),"",$G25)
A26: SENIOR | B26: 6X1 TOUR | I26: =IF($D26<>($I$3),"",$G26) | J26: =IF($D26<>($J$3),"",$G26) | K26: =IF($D26<>($K$3),"",$G26) | L26: =IF($D26<>($L$3),"",$G26) | M26: =IF($D26<>($M$3),"",$G26) | N26: =IF($D26<>($N$3),"",$G26) | O26: =IF($D26<>($O$3),"",$G26) | P26: =IF($D26<>($P$3),"",$G26) | Q26: =IF($D26<>($Q$3),"",$G26) | R26: =IF($D26<>($R$3),"",$G26) | S26: =IF($D26<>($S$3),"",$G26) | T26: =IF($D26<>($T$3),"",$G26) | U26: =IF($D26<>($U$3),"",$G26) | V26: =IF($D26<>($V$3),"",$G26) | W26: =IF($D26<>($W$3),"",$G26) | X26: =IF($D26<>($X$3),"",$G26) | Y26: =IF($D26<>($Y$3),"",$G26) | Z26: =IF($D26<>($Z$3),"",$G26) | AA26: =IF($D26<>($AA$3),"",$G26)
A27: SENIOR | B27: 6X1 TOUR | I27: =IF($D27<>($I$3),"",$G27) | J27: =IF($D27<>($J$3),"",$G27) | K27: =IF($D27<>($K$3),"",$G27) | L27: =IF($D27<>($L$3),"",$G27) | M27: =IF($D27<>($M$3),"",$G27) | N27: =IF($D27<>($N$3),"",$G27) | O27: =IF($D27<>($O$3),"",$G27) | P27: =IF($D27<>($P$3),"",$G27) | Q27: =IF($D27<>($Q$3),"",$G27) | R27: =IF($D27<>($R$3),"",$G27) | S27: =IF($D27<>($S$3),"",$G27) | T27: =IF($D27<>($T$3),"",$G27) | U27: =IF($D27<>($U$3),"",$G27) | V27: =IF($D27<>($V$3),"",$G27) | W27: =IF($D27<>($W$3),"",$G27) | X27: =IF($D27<>($X$3),"",$G27) | Y27: =IF($D27<>($Y$3),"",$G27) | Z27: =IF($D27<>($Z$3),"",$G27) | AA27: =IF($D27<>($AA$3),"",$G27)
A28: SENIOR | B28: 6X1 TOUR | I28: =IF($D28<>($I$3),"",$G28) | J28: =IF($D28<>($J$3),"",$G28) | K28: =IF($D28<>($K$3),"",$G28) | L28: =IF($D28<>($L$3),"",$G28) | M28: =IF($D28<>($M$3),"",$G28) | N28: =IF($D28<>($N$3),"",$G28) | O28: =IF($D28<>($O$3),"",$G28) | P28: =IF($D28<>($P$3),"",$G28) | Q28: =IF($D28<>($Q$3),"",$G28) | R28: =IF($D28<>($R$3),"",$G28) | S28: =IF($D28<>($S$3),"",$G28) | T28: =IF($D28<>($T$3),"",$G28) | U28: =IF($D28<>($U$3),"",$G28) | V28: =IF($D28<>($V$3),"",$G28) | W28: =IF($D28<>($W$3),"",$G28) | X28: =IF($D28<>($X$3),"",$G28) | Y28: =IF($D28<>($Y$3),"",$G28) | Z28: =IF($D28<>($Z$3),"",$G28) | AA28: =IF($D28<>($AA$3),"",$G28)
H30: Pts | I30: =SUM(I4:I28) -> 0 | J30: =SUM(J4:J28) -> 0 | K30: =SUM(K4:K28) -> 0 | L30: =SUM(L4:L28) -> 0 | M30: =SUM(M4:M28) -> 0 | N30: =SUM(N4:N28) -> 0 | O30: =SUM(O4:O28) -> 0 | P30: =SUM(P4:P28) -> 0 | ... AA30: =SUM(AA4:AA28) -> 0

Sheet MiF
A1: MINIMES FILLES
A2: NOM | B2: CLUB | C2: 60 m | E2: 80 m | G2: 150 m | I2: 300 m | K2: 50 haies | M2: 60 haies | O2: 80 m haies | Q2: 500 m | S2: 1000 m | U2: 2000 m | W2: 3000 m | Y2: 1 km marche | AA2: 2 km marche | AC2: 3 km marche | AE2: Longueur | AG2: Triple saut | AI2: Hauteur | AK2: Perche | AM2: Poids 3 kg | AO2: Disque | AQ2: Javelot 500 gr | AS2: Marteau 3 kg | AU2: Nombre | AV2: TOTAL | AW2: PLACE | AY2: =POINTS!B3 -> ABDO | AZ2: =POINTS!C3 -> MASC | BA2: =POINTS!D3 -> ASGB | BB2: =POINTS!E3 -> BMSA | BC2: MS | BD2: =POINTS!G3 -> CMA | BE2: =POINTS!H3 -> ACMA | BF2: =POINTS!I3 -> COMA | BG2: =POINTS!J3 -> CSB | BH2: =POINTS!K3 -> ESV | BI2: =POINTS!L3 -> ESCXV | BJ2: =POINTS!M3 -> ESS | BK2: =POINTS!N3 -> NLSA | ... BP2: =POINTS!S3 -> USMA | BQ2: USOB
C3: Perf. | D3: Pts | E3: Perf. | F3: Pts | G3: Perf. | H3: Pts | I3: Perf. | J3: Pts | K3: Perf. | L3: Pts | M3: Perf. | N3: Pts | O3: Perf. | P3: Pts | Q3: Perf. | R3: Pts | S3: Perf. | T3: Pts | U3: Perf. | V3: Pts | W3: Perf. | X3: Pts | Y3: Perf. | Z3: Pts | AA3: Perf. | AB3: Pts | AC3: Perf. | AD3: Pts | AE3: Perf. | AF3: Pts | AG3: Perf. | AH3: Pts | AI3: Perf. | AJ3: Pts | AK3: Perf. | AL3: Pts | AM3: Perf. | AN3: Pts | AO3: Perf. | AP3: Pts | AQ3: Perf. | AR3: Pts | AS3: Perf. | AT3: Pts | AU3: Epr.
A4: ULYSSE DAPHKARNY | B4: SDUS | D4: =IF(ISBLANK(C4),"",VLOOKUP(C4,MF_60_m,2)) | F4: =IF(ISBLANK(E4),"",VLOOKUP(E4,MF_80_m,2)) | H4: =IF(ISBLANK(G4),"",VLOOKUP(G4,MF_150_m,2)) | L4: =IF(ISBLANK(K4),"",VLOOKUP(K4,MF_50_m_H_,2)) | N4: =IF(ISBLANK(M4),"",VLOOKUP(M4,MF_60_m_H_,2)) | T4: =IF(ISBLANK(S4),"",VLOOKUP(S4,MF_1000_m,2)) | AE4: 499 | AF4: =IF(ISBLANK(AE4),"",VLOOKUP(AE4,MF_LONGUEUR,2)) -> 22 | AL4: =IF(ISBLANK(AK4),"",VLOOKUP(AK4,MF_PERCHE,2)) | AN4: =IF(ISBLANK(AM4),"",VLOOKUP(AM4,MF_POIDS,2)) | AO4: 1470 | AP4: =IF(ISBLANK(AO4),"",VLOOKUP(AO4,MF_DISQUE,2)) -> 9 | AR4: =IF(ISBLANK(AQ4),"",VLOOKUP(AQ4,MF_JAVELOT,2)) | AU4: =IF(ISBLANK(B4),"",COUNTA(AS4,AQ4,AO4,AM4,AK4,AI4,AG4,AE4,AC4,AA4,Y4,W4,U4,S4,Q4,O4,M4,K4,I4,G4,E4,C4)) -> 2 | AV4: =SUM(AT4,AR4,AP4,AN4,AL4,AJ4,AH4,AF4,AD4,AB4,Z4,X4,V4,T4,R4,P4,N4,L4,J4,H4,F4,D4) -> 31 | AY4: =IF(B4<>($AY$2),"",AV4) | AZ4: =IF(B4<>($AZ$2),"",AV4) | BA4: =IF(B4<>($BA$2),"",AV4) | BB4: =IF(B4<>($BB$2),"",AV4) | BC4: =IF(B4<>($BC$2),"",AV4) | BD4: =IF(B4<>($BD$2),"",AV4) | BE4: =IF(B4<>($BE$2),"",AV4) | BF4: =IF(B4<>($BF$2),"",AV4) | BG4: =IF(B4<>($BG$2),"",AV4) | BH4: =IF(B4<>($BH$2),"",AV4) | BI4: =IF(B4<>($BI$2),"",AV4) | BJ4: =IF(B4<>($BJ$2),"",AV4) | BK4: =IF(B4<>($BK$2),"",AV4) | BL4: =IF(B4<>($BL$2),"",AV4) -> 31 | BM4: =IF(B4<>($BM$2),"",AV4) | BN4: =IF(B4<>($BN$2),"",AV4) | BO4: =IF(B4<>($BO$2),"",AV4) | BP4: =IF(B4<>($BP$2),"",AV4) | BQ4: =IF(B4<>($BQ$2),"",AV4)
A5: CANCAN PRISCILLA | B5: SDUS | D5: =IF(ISBLANK(C5),"",VLOOKUP(C5,MF_60_m,2)) | E5: 1175 | F5: =IF(ISBLANK(E5),"",VLOOKUP(E5,MF_80_m,2)) -> 1 | H5: =IF(ISBLANK(G5),"",VLOOKUP(G5,MF_150_m,2)) | L5: =IF(ISBLANK(K5),"",VLOOKUP(K5,MF_50_m_H_,2)) | N5: =IF(ISBLANK(M5),"",VLOOKUP(M5,MF_60_m_H_,2)) | T5: =IF(ISBLANK(S5),"",VLOOKUP(S5,MF_1000_m,2)) | AF5: =IF(ISBLANK(AE5),"",VLOOKUP(AE5,MF_LONGUEUR,2)) | AL5: =IF(ISBLANK(AK5),"",VLOOKUP(AK5,MF_PERCHE,2)) | AN5: =IF(ISBLANK(AM5),"",VLOOKUP(AM5,MF_POIDS,2)) | AP5: =IF(ISBLANK(AO5),"",VLOOKUP(AO5,MF_DISQUE,2)) | AQ5: 1749 | AR5: =IF(ISBLANK(AQ5),"",VLOOKUP(AQ5,MF_JAVELOT,2)) -> 12 | AU5: =IF(ISBLANK(B5),"",COUNTA(AS5,AQ5,AO5,AM5,AK5,AI5,AG5,AE5,AC5,AA5,Y5,W5,U5,S5,Q5,O5,M5,K5,I5,G5,E5,C5)) -> 2 | AV5: =SUM(AT5,AR5,AP5,AN5,AL5,AJ5,AH5,AF5,AD5,AB5,Z5,X5,V5,T5,R5,P5,N5,L5,J5,H5,F5,D5) -> 13 | AY5: =IF(B5<>($AY$2),"",AV5) | AZ5: =IF(B5<>($AZ$2),"",AV5) | BA5: =IF(B5<>($BA$2),"",AV5) | BB5: =IF(B5<>($BB$2),"",AV5) | BC5: =IF(B5<>($BC$2),"",AV5) | BD5: =IF(B5<>($BD$2),"",AV5) | BE5: =IF(B5<>($BE$2),"",AV5) | BF5: =IF(B5<>($BF$2),"",AV5) | BG5: =IF(B5<>($BG$2),"",AV5) | BH5: =IF(B5<>($BH$2),"",AV5) | BI5: =IF(B5<>($BI$2),"",AV5) | BJ5: =IF(B5<>($BJ$2),"",AV5) | BK5: =IF(B5<>($BK$2),"",AV5) | BL5: =IF(B5<>($BL$2),"",AV5) -> 13 | BM5: =IF(B5<>($BM$2),"",AV5) | BN5: =IF(B5<>($BN$2),"",AV5) | BO5: =IF(B5<>($BO$2),"",AV5) | BP5: =IF(B5<>($BP$2),"",AV5) | BQ5: =IF(B5<>($BQ$2),"",AV5)
A6: HORRA SHAHRAZADE | B6: COMA | D6: =IF(ISBLANK(C6),"",VLOOKUP(C6,MF_60_m,2)) | E6: 1330 | F6: =IF(ISBLANK(E6),"",VLOOKUP(E6,MF_80_m,2)) -> 1 | H6: =IF(ISBLANK(G6),"",VLOOKUP(G6,MF_150_m,2)) | L6: =IF(ISBLANK(K6),"",VLOOKUP(K6,MF_50_m_H_,2)) | N6: =IF(ISBLANK(M6),"",VLOOKUP(M6,MF_60_m_H_,2)) | T6: =IF(ISBLANK(S6),"",VLOOKUP(S6,MF_1000_m,2)) | AF6: =IF(ISBLANK(AE6),"",VLOOKUP(AE6,MF_LONGUEUR,2)) | AL6: =IF(ISBLANK(AK6),"",VLOOKUP(AK6,MF_PERCHE,2)) | AN6: =IF(ISBLANK(AM6),"",VLOOKUP(AM6,MF_POIDS,2)) | AP6: =IF(ISBLANK(AO6),"",VLOOKUP(AO6,MF_DISQUE,2)) | AQ6: 830 | AR6: =IF(ISBLANK(AQ6),"",VLOOKUP(AQ6,MF_JAVELOT,2)) -> 3 | AU6: =IF(ISBLANK(B6),"",COUNTA(AS6,AQ6,AO6,AM6,AK6,AI6,AG6,AE6,AC6,AA6,Y6,W6,U6,S6,Q6,O6,M6,K6,I6,G6,E6,C6)) -> 2 | AV6: =SUM(AT6,AR6,AP6,AN6,AL6,AJ6,AH6,AF6,AD6,AB6,Z6,X6,V6,T6,R6,P6,N6,L6,J6,H6,F6,D6) -> 4 | AY6: =IF(B6<>($AY$2),"",AV6) | AZ6: =IF(B6<>($AZ$2),"",AV6) | BA6: =IF(B6<>($BA$2),"",AV6) | BB6: =IF(B6<>($BB$2),"",AV6) | BC6: =IF(B6<>($BC$2),"",AV6) | BD6: =IF(B6<>($BD$2),"",AV6) | BE6: =IF(B6<>($BE$2),"",AV6) | BF6: =IF(B6<>($BF$2),"",AV6) -> 4 | BG6: =IF(B6<>($BG$2),"",AV6) | BH6: =IF(B6<>($BH$2),"",AV6) | BI6: =IF(B6<>($BI$2),"",AV6) | BJ6: =IF(B6<>($BJ$2),"",AV6) | BK6: =IF(B6<>($BK$2),"",AV6) | BL6: =IF(B6<>($BL$2),"",AV6) | BM6: =IF(B6<>($BM$2),"",AV6) | BN6: =IF(B6<>($BN$2),"",AV6) | BO6: =IF(B6<>($BO$2),"",AV6) | BP6: =IF(B6<>($BP$2),"",AV6) | BQ6: =IF(B6<>($BQ$2),"",AV6)
A7: SOUGA LAZZERO ELENA | B7: COMA | D7: =IF(ISBLANK(C7),"",VLOOKUP(C7,MF_60_m,2)) | F7: =IF(ISBLANK(E7),"",VLOOKUP(E7,MF_80_m,2)) | H7: =IF(ISBLANK(G7),"",VLOOKUP(G7,MF_150_m,2)) | L7: =IF(ISBLANK(K7),"",VLOOKUP(K7,MF_50_m_H_,2)) | N7: =IF(ISBLANK(M7),"",VLOOKUP(M7,MF_60_m_H_,2)) | S7: 34777 | T7: =IF(ISBLANK(S7),"",VLOOKUP(S7,MF_1000_m,2)) -> 1 | AF7: =IF(ISBLANK(AE7),"",VLOOKUP(AE7,MF_LONGUEUR,2)) | AL7: =IF(ISBLANK(AK7),"",VLOOKUP(AK7,MF_PERCHE,2)) | AN7: =IF(ISBLANK(AM7),"",VLOOKUP(AM7,MF_POIDS,2)) | AO7: 1117 | AP7: =IF(ISBLANK(AO7),"",VLOOKUP(AO7,MF_DISQUE,2)) -> 6 | AR7: =IF(ISBLANK(AQ7),"",VLOOKUP(AQ7,MF_JAVELOT,2)) | AU7: =IF(ISBLANK(B7),"",COUNTA(AS7,AQ7,AO7,AM7,AK7,AI7,AG7,AE7,AC7,AA7,Y7,W7,U7,S7,Q7,O7,M7,K7,I7,G7,E7,C7)) -> 2 | AV7: =SUM(AT7,AR7,AP7,AN7,AL7,AJ7,AH7,AF7,AD7,AB7,Z7,X7,V7,T7,R7,P7,N7,L7,J7,H7,F7,D7) -> 7 | AY7: =IF(B7<>($AY$2),"",AV7) | AZ7: =IF(B7<>($AZ$2),"",AV7) | BA7: =IF(B7<>($BA$2),"",AV7) | BB7: =IF(B7<>($BB$2),"",AV7) | BC7: =IF(B7<>($BC$2),"",AV7) | BD7: =IF(B7<>($BD$2),"",AV7) | BE7: =IF(B7<>($BE$2),"",AV7) | BF7: =IF(B7<>($BF$2),"",AV7) -> 7 | BG7: =IF(B7<>($BG$2),"",AV7) | BH7: =IF(B7<>($BH$2),"",AV7) | BI7: =IF(B7<>($BI$2),"",AV7) | BJ7: =IF(B7<>($BJ$2),"",AV7) | BK7: =IF(B7<>($BK$2),"",AV7) | BL7: =IF(B7<>($BL$2),"",AV7) | BM7: =IF(B7<>($BM$2),"",AV7) | BN7: =IF(B7<>($BN$2),"",AV7) | BO7: =IF(B7<>($BO$2),"",AV7) | BP7: =IF(B7<>($BP$2),"",AV7) | BQ7: =IF(B7<>($BQ$2),"",AV7)
A8: LANGLOIS CLEMENCE | B8: ESS | D8: =IF(ISBLANK(C8),"",VLOOKUP(C8,MF_60_m,2)) | E8: 1173 | F8: =IF(ISBLANK(E8),"",VLOOKUP(E8,MF_80_m,2)) -> 1 | H8: =IF(ISBLANK(G8),"",VLOOKUP(G8,MF_150_m,2)) | L8: =IF(ISBLANK(K8),"",VLOOKUP(K8,MF_50_m_H_,2)) | N8: =IF(ISBLANK(M8),"",VLOOKUP(M8,MF_60_m_H_,2)) | T8: =IF(ISBLANK(S8),"",VLOOKUP(S8,MF_1000_m,2)) | AE8: 361 | AF8: =IF(ISBLANK(AE8),"",VLOOKUP(AE8,MF_LONGUEUR,2)) -> 12 | AL8: =IF(ISBLANK(AK8),"",VLOOKUP(AK8,MF_PERCHE,2)) | AN8: =IF(ISBLANK(AM8),"",VLOOKUP(AM8,MF_POIDS,2)) | AP8: =IF(ISBLANK(AO8),"",VLOOKUP(AO8,MF_DISQUE,2)) | AQ8: 1748 | AR8: =IF(ISBLANK(AQ8),"",VLOOKUP(AQ8,MF_JAVELOT,2)) -> 12 | AU8: =IF(ISBLANK(B8),"",COUNTA(AS8,AQ8,AO8,AM8,AK8,AI8,AG8,AE8,AC8,AA8,Y8,W8,U8,S8,Q8,O8,M8,K8,I8,G8,E8,C8)) -> 3 | AV8: =SUM(AT8,AR8,AP8,AN8,AL8,AJ8,AH8,AF8,AD8,AB8,Z8,X8,V8,T8,R8,P8,N8,L8,J8,H8,F8,D8) -> 25 | AZ8: =IF(B8<>($AZ$2),"",AV8) | BA8: =IF(B8<>($BA$2),"",AV8) | BB8: =IF(B8<>($BB$2),"",AV8) | BD8: =IF(B8<>($BD$2),"",AV8) | BE8: =IF(B8<>($BE$2),"",AV8) | BF8: =IF(B8<>($BF$2),"",AV8) | BG8: =IF(B8<>($BG$2),"",AV8) | BH8: =IF(B8<>($BH$2),"",AV8) | BI8: =IF(B8<>($BI$2),"",AV8) | BJ8: =IF(B8<>($BJ$2),"",AV8) -> 25 | BK8: =IF(B8<>($BK$2),"",AV8) | BL8: =IF(B8<>($BL$2),"",AV8) | BM8: =IF(B8<>($BM$2),"",AV8) | BN8: =IF(B8<>($BN$2),"",AV8) | BP8: =IF(B8<>($BP$2),"",AV8)
A9: RENAUDIN MAIA | B9: ASGB | D9: =IF(ISBLANK(C9),"",VLOOKUP(C9,MF_60_m,2)) | H9: =IF(ISBLANK(G9),"",VLOOKUP(G9,MF_150_m,2)) | L9: =IF(ISBLANK(K9),"",VLOOKUP(K9,MF_50_m_H_,2)) | N9: =IF(ISBLANK(M9),"",VLOOKUP(M9,MF_60_m_H_,2)) | T9: =IF(ISBLANK(S9),"",VLOOKUP(S9,MF_1000_m,2)) | AF9: =IF(ISBLANK(AE9),"",VLOOKUP(AE9,MF_LONGUEUR,2)) | AM9: 708 | AN9: =IF(ISBLANK(AM9),"",VLOOKUP(AM9,MF_POIDS,2)) -> 16 | AO9: 1650 | AP9: =IF(ISBLANK(AO9),"",VLOOKUP(AO9,MF_DISQUE,2)) -> 11 | AR9: =IF(ISBLANK(AQ9),"",VLOOKUP(AQ9,MF_JAVELOT,2)) | AU9: =IF(ISBLANK(B9),"",COUNTA(AS9,AQ9,AO9,AM9,AK9,AI9,AG9,AE9,AC9,AA9,Y9,W9,U9,S9,Q9,O9,M9,K9,I9,G9,E9,C9)) -> 2 | AV9: =SUM(AT9,AR9,AP9,AN9,AL9,AJ9,AH9,AF9,AD9,AB9,Z9,X9,V9,T9,R9,P9,N9,L9,J9,H9,F9,D9) -> 27 | AZ9: =IF(B9<>($AZ$2),"",AV9) | BA9: =IF(B9<>($BA$2),"",AV9) -> 27 | BB9: =IF(B9<>($BB$2),"",AV9) | BD9: =IF(B9<>($BD$2),"",AV9) | BE9: =IF(B9<>($BE$2),"",AV9) | BF9: =IF(B9<>($BF$2),"",AV9) | BG9: =IF(B9<>($BG$2),"",AV9) | BH9: =IF(B9<>($BH$2),"",AV9) | BI9: =IF(B9<>($BI$2),"",AV9) | BJ9: =IF(B9<>($BJ$2),"",AV9) | BK9: =IF(B9<>($BK$2),"",AV9) | BL9: =IF(B9<>($BL$2),"",AV9) | BM9: =IF(B9<>($BM$2),"",AV9) | BN9: =IF(B9<>($BN$2),"",AV9) | BP9: =IF(B9<>($BP$2),"",AV9)
A10: DIABY CISSE | B10: ASGB | D10: =IF(ISBLANK(C10),"",VLOOKUP(C10,MF_60_m,2)) | H10: =IF(ISBLANK(G10),"",VLOOKUP(G10,MF_150_m,2)) | T10: =IF(ISBLANK(S10),"",VLOOKUP(S10,MF_1000_m,2)) | AF10: =IF(ISBLANK(AE10),"",VLOOKUP(AE10,MF_LONGUEUR,2)) | AI10: 130 | AN10: =IF(ISBLANK(AM10),"",VLOOKUP(AM10,MF_POIDS,2)) | AO10: 1905 | AP10: =IF(ISBLANK(AO10),"",VLOOKUP(AO10,MF_DISQUE,2)) -> 14 | AR10: =IF(ISBLANK(AQ10),"",VLOOKUP(AQ10,MF_JAVELOT,2)) | AU10: =IF(ISBLANK(B10),"",COUNTA(AS10,AQ10,AO10,AM10,AK10,AI10,AG10,AE10,AC10,AA10,Y10,W10,U10,S10,Q10,O10,M10,K10,I10,G10,E10,C10)) -> 2 | AV10: =SUM(AT10,AR10,AP10,AN10,AL10,AJ10,AH10,AF10,AD10,AB10,Z10,X10,V10,T10,R10,P10,N10,L10,J10,H10,F10,D10) -> 14 | AZ10: =IF(B10<>($AZ$2),"",AV10) | BA10: =IF(B10<>($BA$2),"",AV10) -> 14 | BB10: =IF(B10<>($BB$2),"",AV10) | BD10: =IF(B10<>($BD$2),"",AV10) | BE10: =IF(B10<>($BE$2),"",AV10) | BF10: =IF(B10<>($BF$2),"",AV10) | BG10: =IF(B10<>($BG$2),"",AV10) | BH10: =IF(B10<>($BH$2),"",AV10) | BI10: =IF(B10<>($BI$2),"",AV10) | BJ10: =IF(B10<>($BJ$2),"",AV10) | BK10: =IF(B10<>($BK$2),"",AV10) | BL10: =IF(B10<>($BL$2),"",AV10) | BM10: =IF(B10<>($BM$2),"",AV10) | BN10: =IF(B10<>($BN$2),"",AV10) | BP10: =IF(B10<>($BP$2),"",AV10)
A11: PHAM NGOC ROMANE | B11: CSB | D11: =IF(ISBLANK(C11),"",VLOOKUP(C11,MF_60_m,2)) | E11: 1238 | H11: =IF(ISBLANK(G11),"",VLOOKUP(G11,MF_150_m,2)) | T11: =IF(ISBLANK(S11),"",VLOOKUP(S11,MF_1000_m,2)) | AF11: =IF(ISBLANK(AE11),"",VLOOKUP(AE11,MF_LONGUEUR,2)) | AN11: =IF(ISBLANK(AM11),"",VLOOKUP(AM11,MF_POIDS,2)) | AP11: =IF(ISBLANK(AO11),"",VLOOKUP(AO11,MF_DISQUE,2)) | AQ11: 1418 | AR11: =IF(ISBLANK(AQ11),"",VLOOKUP(AQ11,MF_JAVELOT,2)) -> 9 | AU11: =IF(ISBLANK(B11),"",COUNTA(AS11,AQ11,AO11,AM11,AK11,AI11,AG11,AE11,AC11,AA11,Y11,W11,U11,S11,Q11,O11,M11,K11,I11,G11,E11,C11)) -> 2 | AV11: =SUM(AT11,AR11,AP11,AN11,AL11,AJ11,AH11,AF11,AD11,AB11,Z11,X11,V11,T11,R11,P11,N11,L11,J11,H11,F11,D11) -> 9 | AZ11: =IF(B11<>($AZ$2),"",AV11) | BA11: =IF(B11<>($BA$2),"",AV11) | BB11: =IF(B11<>($BB$2),"",AV11) | BD11: =IF(B11<>($BD$2),"",AV11) | BE11: =IF(B11<>($BE$2),"",AV11) | BF11: =IF(B11<>($BF$2),"",AV11) | BG11: =IF(B11<>($BG$2),"",AV11) -> 9 | BH11: =IF(B11<>($BH$2),"",AV11) | BI11: =IF(B11<>($BI$2),"",AV11) | BJ11: =IF(B11<>($BJ$2),"",AV11) | BK11: =IF(B11<>($BK$2),"",AV11) | BL11: =IF(B11<>($BL$2),"",AV11) | BM11: =IF(B11<>($BM$2),"",AV11) | BN11: =IF(B11<>($BN$2),"",AV11) | BP11: =IF(B11<>($BP$2),"",AV11)
A12: ALLONCLE MATHILDE | B12: CSB | D12: =IF(ISBLANK(C12),"",VLOOKUP(C12,MF_60_m,2)) | E12: 1350 | H12: =IF(ISBLANK(G12),"",VLOOKUP(G12,MF_150_m,2)) | T12: =IF(ISBLANK(S12),"",VLOOKUP(S12,MF_1000_m,2)) | AF12: =IF(ISBLANK(AE12),"",VLOOKUP(AE12,MF_LONGUEUR,2)) | AN12: =IF(ISBLANK(AM12),"",VLOOKUP(AM12,MF_POIDS,2)) | AP12: =IF(ISBLANK(AO12),"",VLOOKUP(AO12,MF_DISQUE,2)) | AQ12: 1442 | AR12: =IF(ISBLANK(AQ12),"",VLOOKUP(AQ12,MF_JAVELOT,2)) -> 9 | AU12: =IF(ISBLANK(B12),"",COUNTA(AS12,AQ12,AO12,AM12,AK12,AI12,AG12,AE12,AC12,AA12,Y12,W12,U12,S12,Q12,O12,M12,K12,I12,G12,E12,C12)) -> 2 | AV12: =SUM(AT12,AR12,AP12,AN12,AL12,AJ12,AH12,AF12,AD12,AB12,Z12,X12,V12,T12,R12,P12,N12,L12,J12,H12,F12,D12) -> 9 | AZ12: =IF(B12<>($AZ$2),"",AV12) | BA12: =IF(B12<>($BA$2),"",AV12) | BB12: =IF(B12<>($BB$2),"",AV12) | BD12: =IF(B12<>($BD$2),"",AV12) | BE12: =IF(B12<>($BE$2),"",AV12) | BF12: =IF(B12<>($BF$2),"",AV12) | BG12: =IF(B12<>($BG$2),"",AV12) -> 9 | BH12: =IF(B12<>($BH$2),"",AV12) | BI12: =IF(B12<>($BI$2),"",AV12) | BJ12: =IF(B12<>($BJ$2),"",AV12) | BK12: =IF(B12<>($BK$2),"",AV12) | BL12: =IF(B12<>($BL$2),"",AV12) | BM12: =IF(B12<>($BM$2),"",AV12) | BN12: =IF(B12<>($BN$2),"",AV12) | BP12: =IF(B12<>($BP$2),"",AV12)
A13: KATHARSA HIMAYA | B13: CSB | D13: =IF(ISBLANK(C13),"",VLOOKUP(C13,MF_60_m,2)) | E13: 1122 | H13: =IF(ISBLANK(G13),"",VLOOKUP(G13,MF_150_m,2)) | T13: =IF(ISBLANK(S13),"",VLOOKUP(S13,MF_1000_m,2)) | AE13: 400 | AF13: =IF(ISBLANK(AE13),"",VLOOKUP(AE13,MF_LONGUEUR,2)) -> 15 | AN13: =IF(ISBLANK(AM13),"",VLOOKUP(AM13,MF_POIDS,2)) | AP13: =IF(ISBLANK(AO13),"",VLOOKUP(AO13,MF_DISQUE,2)) | AR13: =IF(ISBLANK(AQ13),"",VLOOKUP(AQ13,MF_JAVELOT,2)) | AU13: =IF(ISBLANK(B13),"",COUNTA(AS13,AQ13,AO13,AM13,AK13,AI13,AG13,AE13,AC13,AA13,Y13,W13,U13,S13,Q13,O13,M13,K13,I13,G13,E13,C13)) -> 2 | AV13: =SUM(AT13,AR13,AP13,AN13,AL13,AJ13,AH13,AF13,AD13,AB13,Z13,X13,V13,T13,R13,P13,N13,L13,J13,H13,F13,D13) -> 15 | AZ13: =IF(B13<>($AZ$2),"",AV13) | BA13: =IF(B13<>($BA$2),"",AV13) | BB13: =IF(B13<>($BB$2),"",AV13) | BD13: =IF(B13<>($BD$2),"",AV13) | BE13: =IF(B13<>($BE$2),"",AV13) | BF13: =IF(B13<>($BF$2),"",AV13) | BG13: =IF(B13<>($BG$2),"",AV13) -> 15 | BH13: =IF(B13<>($BH$2),"",AV13) | BI13: =IF(B13<>($BI$2),"",AV13) | BJ13: =IF(B13<>($BJ$2),"",AV13) | BK13: =IF(B13<>($BK$2),"",AV13) | BL13: =IF(B13<>($BL$2),"",AV13) | BM13: =IF(B13<>($BM$2),"",AV13) | BN13: =IF(B13<>($BN$2),"",AV13) | BP13: =IF(B13<>($BP$2),"",AV13)
A14: MESSIAS PACHECO FLAVIE | B14: CSB | D14: =IF(ISBLANK(C14),"",VLOOKUP(C14,MF_60_m,2)) | H14: =IF(ISBLANK(G14),"",VLOOKUP(G14,MF_150_m,2)) | S14: 35126 | T14: =IF(ISBLANK(S14),"",VLOOKUP(S14,MF_1000_m,2)) -> 1 | AF14: =IF(ISBLANK(AE14),"",VLOOKUP(AE14,MF_LONGUEUR,2)) | AN14: =IF(ISBLANK(AM14),"",VLOOKUP(AM14,MF_POIDS,2)) | AP14: =IF(ISBLANK(AO14),"",VLOOKUP(AO14,MF_DISQUE,2)) | AR14: =IF(ISBLANK(AQ14),"",VLOOKUP(AQ14,MF_JAVELOT,2)) | AU14: =IF(ISBLANK(B14),"",COUNTA(AS14,AQ14,AO14,AM14,AK14,AI14,AG14,AE14,AC14,AA14,Y14,W14,U14,S14,Q14,O14,M14,K14,I14,G14,E14,C14)) -> 1 | AV14: =SUM(AT14,AR14,AP14,AN14,AL14,AJ14,AH14,AF14,AD14,AB14,Z14,X14,V14,T14,R14,P14,N14,L14,J14,H14,F14,D14) -> 1 | AZ14: =IF(B14<>($AZ$2),"",AV14) | BA14: =IF(B14<>($BA$2),"",AV14) | BB14: =IF(B14<>($BB$2),"",AV14) | BD14: =IF(B14<>($BD$2),"",AV14) | BE14: =IF(B14<>($BE$2),"",AV14) | BF14: =IF(B14<>($BF$2),"",AV14) | BG14: =IF(B14<>($BG$2),"",AV14) -> 1 | BH14: =IF(B14<>($BH$2),"",AV14) | BI14: =IF(B14<>($BI$2),"",AV14) | BJ14: =IF(B14<>($BJ$2),"",AV14) | BK14: =IF(B14<>($BK$2),"",AV14) | BL14: =IF(B14<>($BL$2),"",AV14) | BM14: =IF(B14<>($BM$2),"",AV14) | BN14: =IF(B14<>($BN$2),"",AV14) | BP14: =IF(B14<>($BP$2),"",AV14)
A15: MOORJEE KAINA | B15: CSB | S15: 35382 | T15: =IF(ISBLANK(S15),"",VLOOKUP(S15,MF_1000_m,2)) -> 1 | AE15: 403 | AF15: =IF(ISBLANK(AE15),"",VLOOKUP(AE15,MF_LONGUEUR,2)) -> 15 | AN15: =IF(ISBLANK(AM15),"",VLOOKUP(AM15,MF_POIDS,2)) | AP15: =IF(ISBLANK(AO15),"",VLOOKUP(AO15,MF_DISQUE,2)) | AR15: =IF(ISBLANK(AQ15),"",VLOOKUP(AQ15,MF_JAVELOT,2)) | AU15: =IF(ISBLANK(B15),"",COUNTA(AS15,AQ15,AO15,AM15,AK15,AI15,AG15,AE15,AC15,AA15,Y15,W15,U15,S15,Q15,O15,M15,K15,I15,G15,E15,C15)) -> 2 | AV15: =SUM(AT15,AR15,AP15,AN15,AL15,AJ15,AH15,AF15,AD15,AB15,Z15,X15,V15,T15,R15,P15,N15,L15,J15,H15,F15,D15) -> 16 | AZ15: =IF(B15<>($AZ$2),"",AV15) | BA15: =IF(B15<>($BA$2),"",AV15) | BB15: =IF(B15<>($BB$2),"",AV15) | BD15: =IF(B15<>($BD$2),"",AV15) | BE15: =IF(B15<>($BE$2),"",AV15) | BF15: =IF(B15<>($BF$2),"",AV15) | BG15: =IF(B15<>($BG$2),"",AV15) -> 16 | BH15: =IF(B15<>($BH$2),"",AV15) | BI15: =IF(B15<>($BI$2),"",AV15) | BJ15: =IF(B15<>($BJ$2),"",AV15) | BK15: =IF(B15<>($BK$2),"",AV15) | BL15: =IF(B15<>($BL$2),"",AV15) | BM15: =IF(B15<>($BM$2),"",AV15) | BN15: =IF(B15<>($BN$2),"",AV15) | BP15: =IF(B15<>($BP$2),"",AV15)
T16: =IF(ISBLANK(S16),"",VLOOKUP(S16,MF_1000_m,2)) | AF16: =IF(ISBLANK(AE16),"",VLOOKUP(AE16,MF_LONGUEUR,2))
D17: =IF(ISBLANK(C17),"",VLOOKUP(C17,MF_60_m,2)) | H17: =IF(ISBLANK(G17),"",VLOOKUP(G17,MF_150_m,2)) | L17: =IF(ISBLANK(K17),"",VLOOKUP(K17,MF_50_m_H_,2)) | N17: =IF(ISBLANK(M17),"",VLOOKUP(M17,MF_60_m_H_,2)) | T17: =IF(ISBLANK(S17),"",VLOOKUP(S17,MF_1000_m,2)) | AF17: =IF(ISBLANK(AE17),"",VLOOKUP(AE17,MF_LONGUEUR,2)) | AN17: =IF(ISBLANK(AM17),"",VLOOKUP(AM17,MF_POIDS,2)) | AU17: =IF(ISBLANK(B17),"",COUNTA(AS17,AQ17,AO17,AM17,AK17,AI17,AG17,AE17,AC17,AA17,Y17,W17,U17,S17,Q17,O17,M17,K17,I17,G17,E17,C17,#REF!)) | AV17: =SUM(AT17,AR17,AP17,AN17,AL17,AJ17,AH17,AF17,AD17,AB17,Z17,X17,V17,T17,R17,P17,N17,L17,J17,H17,F17,D17) -> 0 | AZ17: =IF(B17<>($AZ$2),"",AV17) | BA17: =IF(B17<>($BA$2),"",AV17) | BB17: =IF(B17<>($BB$2),"",AV17) | BC17: =IF(B17<>($BC$2),"",AV17) | BD17: =IF(B17<>($BD$2),"",AV17) | BE17: =IF(B17<>($BE$2),"",AV17) | BF17: =IF(B17<>($BF$2),"",AV17) | BG17: =IF(B17<>($BG$2),"",AV17) | BH17: =IF(B17<>($BH$2),"",AV17) | BI17: =IF(B17<>($BI$2),"",AV17) | BJ17: =IF(B17<>($BJ$2),"",AV17) | BK17: =IF(B17<>($BK$2),"",AV17) | BL17: =IF(B17<>($BL$2),"",AV17) | BM17: =IF(B17<>($BM$2),"",AV17) | BN17: =IF(B17<>($BN$2),"",AV17) | BO17: =IF(B17<>($BO$2),"",AV17) | BP17: =IF(B17<>($BP$2),"",AV17)
D18: =IF(ISBLANK(C18),"",VLOOKUP(C18,MF_60_m,2)) | H18: =IF(ISBLANK(G18),"",VLOOKUP(G18,MF_150_m,2)) | L18: =IF(ISBLANK(K18),"",VLOOKUP(K18,MF_50_m_H_,2)) | N18: =IF(ISBLANK(M18),"",VLOOKUP(M18,MF_60_m_H_,2)) | T18: =IF(ISBLANK(S18),"",VLOOKUP(S18,MF_1000_m,2)) | AF18: =IF(ISBLANK(AE18),"",VLOOKUP(AE18,MF_LONGUEUR,2)) | AN18: =IF(ISBLANK(AM18),"",VLOOKUP(AM18,MF_POIDS,2)) | AU18: =IF(ISBLANK(B18),"",COUNTA(AS18,AQ18,AO18,AM18,AK18,AI18,AG18,AE18,AC18,AA18,Y18,W18,U18,S18,Q18,O18,M18,K18,I18,G18,E18,C18,#REF!)) | AV18: =SUM(AT18,AR18,AP18,AN18,AL18,AJ18,AH18,AF18,AD18,AB18,Z18,X18,V18,T18,R18,P18,N18,L18,J18,H18,F18,D18) -> 0 | AZ18: =IF(B18<>($AZ$2),"",AV18) | BA18: =IF(B18<>($BA$2),"",AV18) | BB18: =IF(B18<>($BB$2),"",AV18) | BC18: =IF(B18<>($BC$2),"",AV18) | BD18: =IF(B18<>($BD$2),"",AV18) | BE18: =IF(B18<>($BE$2),"",AV18) | BF18: =IF(B18<>($BF$2),"",AV18) | BG18: =IF(B18<>($BG$2),"",AV18) | BH18: =IF(B18<>($BH$2),"",AV18) | BI18: =IF(B18<>($BI$2),"",AV18) | BJ18: =IF(B18<>($BJ$2),"",AV18) | BK18: =IF(B18<>($BK$2),"",AV18) | BL18: =IF(B18<>($BL$2),"",AV18) | BM18: =IF(B18<>($BM$2),"",AV18) | BN18: =IF(B18<>($BN$2),"",AV18) | BO18: =IF(B18<>($BO$2),"",AV18) | BP18: =IF(B18<>($BP$2),"",AV18)
D19: =IF(ISBLANK(C19),"",VLOOKUP(C19,MF_60_m,2)) | H19: =IF(ISBLANK(G19),"",VLOOKUP(G19,MF_150_m,2)) | L19: =IF(ISBLANK(K19),"",VLOOKUP(K19,MF_50_m_H_,2)) | N19: =IF(ISBLANK(M19),"",VLOOKUP(M19,MF_60_m_H_,2)) | T19: =IF(ISBLANK(S19),"",VLOOKUP(S19,MF_1000_m,2)) | AF19: =IF(ISBLANK(AE19),"",VLOOKUP(AE19,MF_LONGUEUR,2)) | AN19: =IF(ISBLANK(AM19),"",VLOOKUP(AM19,MF_POIDS,2)) | AU19: =IF(ISBLANK(B19),"",COUNTA(AS19,AQ19,AO19,AM19,AK19,AI19,AG19,AE19,AC19,AA19,Y19,W19,U19,S19,Q19,O19,M19,K19,I19,G19,E19,C19,#REF!)) | AV19: =SUM(AT19,AR19,AP19,AN19,AL19,AJ19,AH19,AF19,AD19,AB19,Z19,X19,V19,T19,R19,P19,N19,L19,J19,H19,F19,D19) -> 0 | AZ19: =IF(B19<>($AZ$2),"",AV19) | BA19: =IF(B19<>($BA$2),"",AV19) | BB19: =IF(B19<>($BB$2),"",AV19) | BC19: =IF(B19<>($BC$2),"",AV19) | BD19: =IF(B19<>($BD$2),"",AV19) | BE19: =IF(B19<>($BE$2),"",AV19) | BF19: =IF(B19<>($BF$2),"",AV19) | BG19: =IF(B19<>($BG$2),"",AV19) | BH19: =IF(B19<>($BH$2),"",AV19) | BI19: =IF(B19<>($BI$2),"",AV19) | BJ19: =IF(B19<>($BJ$2),"",AV19) | BK19: =IF(B19<>($BK$2),"",AV19) | BL19: =IF(B19<>($BL$2),"",AV19) | BM19: =IF(B19<>($BM$2),"",AV19) | BN19: =IF(B19<>($BN$2),"",AV19) | BO19: =IF(B19<>($BO$2),"",AV19) | BP19: =IF(B19<>($BP$2),"",AV19)
A20: FINALE
A21: HORRA SHAHRAZADE | B21: COMA | D21: =IF(ISBLANK(C21),"",VLOOKUP(C21,MF_60_m,2)) | E21: 1335 | F21: =IF(ISBLANK(E21),"",VLOOKUP(E21,MF_80_m,2)) -> 1 | H21: =IF(ISBLANK(G21),"",VLOOKUP(G21,MF_150_m,2)) | L21: =IF(ISBLANK(K21),"",VLOOKUP(K21,MF_50_m_H_,2)) | N21: =IF(ISBLANK(M21),"",VLOOKUP(M21,MF_60_m_H_,2)) | T21: =IF(ISBLANK(S21),"",VLOOKUP(S21,MF_1000_m,2)) | AF21: =IF(ISBLANK(AE21),"",VLOOKUP(AE21,MF_LONGUEUR,2)) | AL21: =IF(ISBLANK(AK21),"",VLOOKUP(AK21,MF_PERCHE,2)) | AN21: =IF(ISBLANK(AM21),"",VLOOKUP(AM21,MF_POIDS,2)) | AP21: =IF(ISBLANK(AO21),"",VLOOKUP(AO21,MF_DISQUE,2)) | AR21: =IF(ISBLANK(AQ21),"",VLOOKUP(AQ21,MF_JAVELOT,2)) | AU21: =IF(ISBLANK(B21),"",COUNTA(AS21,AQ21,AO21,AM21,AK21,AI21,AG21,AE21,AC21,AA21,Y21,W21,U21,S21,Q21,O21,M21,K21,I21,G21,E21,C21)) -> 1 | AV21: =SUM(AT21,AR21,AP21,AN21,AL21,AJ21,AH21,AF21,AD21,AB21,Z21,X21,V21,T21,R21,P21,N21,L21,J21,H21,F21,D21) -> 1 | AY21: =IF(B21<>($AY$2),"",AV21) | AZ21: =IF(B21<>($AZ$2),"",AV21) | BA21: =IF(B21<>($BA$2),"",AV21) | BB21: =IF(B21<>($BB$2),"",AV21) | BC21: =IF(B21<>($BC$2),"",AV21) | BD21: =IF(B21<>($BD$2),"",AV21) | BE21: =IF(B21<>($BE$2),"",AV21) | BF21: =IF(B21<>($BF$2),"",AV21) -> 1 | BG21: =IF(B21<>($BG$2),"",AV21) | BH21: =IF(B21<>($BH$2),"",AV21) | BI21: =IF(B21<>($BI$2),"",AV21) | BJ21: =IF(B21<>($BJ$2),"",AV21) | BK21: =IF(B21<>($BK$2),"",AV21) | BL21: =IF(B21<>($BL$2),"",AV21) | BM21: =IF(B21<>($BM$2),"",AV21) | BN21: =IF(B21<>($BN$2),"",AV21) | BO21: =IF(B21<>($BO$2),"",AV21) | BP21: =IF(B21<>($BP$2),"",AV21) | BQ21: =IF(B21<>($BQ$2),"",AV21)
A22: LANGLOIS CLEMENCE | B22: ESS | D22: =IF(ISBLANK(C22),"",VLOOKUP(C22,MF_60_m,2)) | E22: 1236 | F22: =IF(ISBLANK(E22),"",VLOOKUP(E22,MF_80_m,2)) -> 1 | H22: =IF(ISBLANK(G22),"",VLOOKUP(G22,MF_150_m,2)) | L22: =IF(ISBLANK(K22),"",VLOOKUP(K22,MF_50_m_H_,2)) | N22: =IF(ISBLANK(M22),"",VLOOKUP(M22,MF_60_m_H_,2)) | T22: =IF(ISBLANK(S22),"",VLOOKUP(S22,MF_1000_m,2)) | AR22: =IF(ISBLANK(AQ22),"",VLOOKUP(AQ22,MF_JAVELOT,2)) | AU22: =IF(ISBLANK(B22),"",COUNTA(AS22,AQ22,AO22,AM22,AK22,AI22,AG22,AE22,AC22,AA22,Y22,W22,U22,S22,Q22,O22,M22,K22,I22,G22,E22,C22)) -> 1 | AV22: =SUM(AT22,AR22,AP22,AN22,AL22,AJ22,AH22,AF22,AD22,AB22,Z22,X22,V22,T22,R22,P22,N22,L22,J22,H22,F22,D22) -> 1 | AZ22: =IF(B22<>($AZ$2),"",AV22) | BA22: =IF(B22<>($BA$2),"",AV22) | BB22: =IF(B22<>($BB$2),"",AV22) | BD22: =IF(B22<>($BD$2),"",AV22) | BE22: =IF(B22<>($BE$2),"",AV22) | BF22: =IF(B22<>($BF$2),"",AV22) | BG22: =IF(B22<>($BG$2),"",AV22) | BH22: =IF(B22<>($BH$2),"",AV22) | BI22: =IF(B22<>($BI$2),"",AV22) | BJ22: =IF(B22<>($BJ$2),"",AV22) -> 1 | BK22: =IF(B22<>($BK$2),"",AV22) | BL22: =IF(B22<>($BL$2),"",AV22) | BM22: =IF(B22<>($BM$2),"",AV22) | BN22: =IF(B22<>($BN$2),"",AV22) | BP22: =IF(B22<>($BP$2),"",AV22)
AX24: Nombre Athlètes | AY24: =COUNTIF($B$4:$B19,AY2) -> 0 | AZ24: =COUNTIF($B$4:$B19,AZ2) -> 0 | BA24: =COUNTIF($B$4:$B19,BA2) -> 2 | BB24: =COUNTIF($B$4:$B19,BB2) -> 0 | BC24: =COUNTIF($B$4:$B19,BC2) -> 0 | BD24: =COUNTIF($B$4:$B19,BD2) -> 0 | BE24: =COUNTIF($B$4:$B19,BE2) -> 0 | BF24: =COUNTIF($B$4:$B19,BF2) -> 2 | ... BQ24: =COUNTIF($B$4:$B19,BQ2) -> 0

Sheet MiM
A1: MINIMES GARCONS
A2: NOM | B2: CLUB | C2: 60 m | E2: 80 m | G2: 150 m | I2: 300 m | K2: 50 haies | M2: 60 haies | O2: 80 m haies | Q2: 500 m | S2: 1000 m | U2: 2000 m | W2: 3000 m | Y2: 1 km marche | AA2: 2 km marche | AC2: 3 km marche | AE2: Longueur | AG2: Triple saut | AI2: Hauteur | AK2: Perche | AM2: Poids 3 kg | AO2: Disque | AQ2: Javelot 500 gr | AS2: Marteau 3 kg | AU2: Nombre | AV2: TOTAL | AW2: PLACE | AY2: =POINTS!B3 -> ABDO | AZ2: =POINTS!C3 -> MASC | BA2: =POINTS!D3 -> ASGB | BB2: =POINTS!E3 -> BMSA | BC2: MS | BD2: =POINTS!G3 -> CMA | BE2: =POINTS!H3 -> ACMA | BF2: =POINTS!I3 -> COMA | BG2: =POINTS!J3 -> CSB | BH2: =POINTS!K3 -> ESV | BI2: =POINTS!L3 -> ESCXV | BJ2: =POINTS!M3 -> ESS | BK2: =POINTS!N3 -> NLSA | ... BP2: =POINTS!S3 -> USMA | BQ2: USOB
C3: Perf. | D3: Pts | E3: Perf. | F3: Pts | G3: Perf. | H3: Pts | I3: Perf. | J3: Pts | K3: Perf. | L3: Pts | M3: Perf. | N3: Pts | O3: Perf. | P3: Pts | Q3: Perf. | R3: Pts | S3: Perf. | T3: Pts | U3: Perf. | V3: Pts | W3: Perf. | X3: Pts | Y3: Perf. | Z3: Pts | AA3: Perf. | AB3: Pts | AC3: Perf. | AD3: Pts | AE3: Perf. | AF3: Pts | AG3: Perf. | AH3: Pts | AI3: Perf. | AJ3: Pts | AK3: Perf. | AL3: Pts | AM3: Perf. | AN3: Pts | AO3: Perf. | AP3: Pts | AQ3: Perf. | AR3: Pts | AS3: Perf. | AT3: Pts | AU3: Epr.
A4: BARADJI MAMADY | B4: SDUS | D4: =IF(ISBLANK(C4),"",VLOOKUP(C4,MF_60_m,2)) | F4: =IF(ISBLANK(E4),"",VLOOKUP(E4,MF_80_m,2)) | H4: =IF(ISBLANK(G4),"",VLOOKUP(G4,MF_150_m,2)) | L4: =IF(ISBLANK(K4),"",VLOOKUP(K4,MF_50_m_H_,2)) | N4: =IF(ISBLANK(M4),"",VLOOKUP(M4,MF_60_m_H_,2)) | T4: =IF(ISBLANK(S4),"",VLOOKUP(S4,MF_1000_m,2)) | AE4: 401 | AF4: =IF(ISBLANK(AE4),"",VLOOKUP(AE4,MF_LONGUEUR,2)) -> 15 | AL4: =IF(ISBLANK(AK4),"",VLOOKUP(AK4,MF_PERCHE,2)) | AN4: =IF(ISBLANK(AM4),"",VLOOKUP(AM4,MF_POIDS,2)) | AP4: =IF(ISBLANK(AO4),"",VLOOKUP(AO4,MF_DISQUE,2)) | AR4: =IF(ISBLANK(AQ4),"",VLOOKUP(AQ4,MF_JAVELOT,2)) | AU4: =IF(ISBLANK(B4),"",COUNTA(AS4,AQ4,AO4,AM4,AK4,AI4,AG4,AE4,AC4,AA4,Y4,W4,U4,S4,Q4,O4,M4,K4,I4,G4,E4,C4)) -> 1 | AV4: =SUM(AT4,AR4,AP4,AN4,AL4,AJ4,AH4,AF4,AD4,AB4,Z4,X4,V4,T4,R4,P4,N4,L4,J4,H4,F4,D4) -> 15 | AY4: =IF(B4<>($AY$2),"",AV4) | AZ4: =IF(B4<>($AZ$2),"",AV4) | BA4: =IF(B4<>($BA$2),"",AV4) | BB4: =IF(B4<>($BB$2),"",AV4) | BC4: =IF(B4<>($BC$2),"",AV4) | BD4: =IF(B4<>($BD$2),"",AV4) | BE4: =IF(B4<>($BE$2),"",AV4) | BF4: =IF(B4<>($BF$2),"",AV4) | BG4: =IF(B4<>($BG$2),"",AV4) | BH4: =IF(B4<>($BH$2),"",AV4) | BI4: =IF(B4<>($BI$2),"",AV4) | BJ4: =IF(B4<>($BJ$2),"",AV4) | BK4: =IF(B4<>($BK$2),"",AV4) | BL4: =IF(B4<>($BL$2),"",AV4) -> 15 | BM4: =IF(B4<>($BM$2),"",AV4) | BN4: =IF(B4<>($BN$2),"",AV4) | BO4: =IF(B4<>($BO$2),"",AV4) | BP4: =IF(B4<>($BP$2),"",AV4) | BQ4: =IF(B4<>($BQ$2),"",AV4)
